BEGIN:VCALENDAR
PRODID:-//WikiCFP//yjunpark 1.0//EN
VERSION:2.0
CALSCALE:GREGORIAN
BEGIN:VEVENT
DTSTAMP:20260419T115841Z
DTSTART;VALUE=DATE:20110911
DTEND;VALUE=DATE:20110915
SUMMARY:ASAP 2011
DESCRIPTION:IEEE International Conference on Application-specific Systems
 \, Architectures and Processors
URL:http://www.wikicfp.com/cfp/servlet/event.showcfp?eventid=12133&copyow
 nerid=42214
UID:cfp295816-E@wikicfp.com
END:VEVENT
BEGIN:VEVENT
DTSTAMP:20260419T115841Z
DTSTART;VALUE=DATE:20110318
SUMMARY:ASAP 2011 Deadline
DESCRIPTION:IEEE International Conference on Application-specific Systems
 \, Architectures and Processors
URL:http://www.wikicfp.com/cfp/servlet/event.showcfp?eventid=12133&copyow
 nerid=42214
UID:cfp295816-D@wikicfp.com
END:VEVENT
BEGIN:VEVENT
DTSTAMP:20260419T115841Z
DTSTART;VALUE=DATE:20110523
SUMMARY:ASAP 2011 Notification Due
DESCRIPTION:IEEE International Conference on Application-specific Systems
 \, Architectures and Processors
URL:http://www.wikicfp.com/cfp/servlet/event.showcfp?eventid=12133&copyow
 nerid=42214
UID:cfp295816-N@wikicfp.com
END:VEVENT
BEGIN:VEVENT
DTSTAMP:20260419T115841Z
DTSTART;VALUE=DATE:20110613
SUMMARY:ASAP 2011 Final Version Due
DESCRIPTION:IEEE International Conference on Application-specific Systems
 \, Architectures and Processors
URL:http://www.wikicfp.com/cfp/servlet/event.showcfp?eventid=12133&copyow
 nerid=42214
UID:cfp295816-N@wikicfp.com
END:VEVENT
BEGIN:VEVENT
DTSTAMP:20260419T115841Z
DTSTART;VALUE=DATE:20121007
DTEND;VALUE=DATE:20121013
SUMMARY:CASES 2012
DESCRIPTION:International Conference on Compilers\, Architectures\, and S
 ynthesis of Embedded Systems 
URL:http://www.wikicfp.com/cfp/servlet/event.showcfp?eventid=21905&copyow
 nerid=42214
UID:cfp295810-E@wikicfp.com
END:VEVENT
BEGIN:VEVENT
DTSTAMP:20260419T115841Z
DTSTART;VALUE=DATE:20120328
SUMMARY:CASES 2012 Abstract Due
DESCRIPTION:International Conference on Compilers\, Architectures\, and S
 ynthesis of Embedded Systems 
URL:http://www.wikicfp.com/cfp/servlet/event.showcfp?eventid=21905&copyow
 nerid=42214
UID:cfp295810-A@wikicfp.com
END:VEVENT
BEGIN:VEVENT
DTSTAMP:20260419T115841Z
DTSTART;VALUE=DATE:20120404
SUMMARY:CASES 2012 Deadline
DESCRIPTION:International Conference on Compilers\, Architectures\, and S
 ynthesis of Embedded Systems 
URL:http://www.wikicfp.com/cfp/servlet/event.showcfp?eventid=21905&copyow
 nerid=42214
UID:cfp295810-D@wikicfp.com
END:VEVENT
BEGIN:VEVENT
DTSTAMP:20260419T115841Z
DTSTART;VALUE=DATE:20120701
SUMMARY:CASES 2012 Notification Due
DESCRIPTION:International Conference on Compilers\, Architectures\, and S
 ynthesis of Embedded Systems 
URL:http://www.wikicfp.com/cfp/servlet/event.showcfp?eventid=21905&copyow
 nerid=42214
UID:cfp295810-N@wikicfp.com
END:VEVENT
BEGIN:VEVENT
DTSTAMP:20260419T115841Z
DTSTART;VALUE=DATE:20120731
SUMMARY:CASES 2012 Final Version Due
DESCRIPTION:International Conference on Compilers\, Architectures\, and S
 ynthesis of Embedded Systems 
URL:http://www.wikicfp.com/cfp/servlet/event.showcfp?eventid=21905&copyow
 nerid=42214
UID:cfp295810-N@wikicfp.com
END:VEVENT
BEGIN:VEVENT
DTSTAMP:20260419T115841Z
DTSTART;VALUE=DATE:20120930
DTEND;VALUE=DATE:20121004
SUMMARY:ICCD 2012
DESCRIPTION:30th IEEE International Conference on Computer Design
URL:http://www.wikicfp.com/cfp/servlet/event.showcfp?eventid=19451&copyow
 nerid=42214
UID:cfp295809-E@wikicfp.com
END:VEVENT
BEGIN:VEVENT
DTSTAMP:20260419T115841Z
DTSTART;VALUE=DATE:20120504
SUMMARY:ICCD 2012 Abstract Due
DESCRIPTION:30th IEEE International Conference on Computer Design
URL:http://www.wikicfp.com/cfp/servlet/event.showcfp?eventid=19451&copyow
 nerid=42214
UID:cfp295809-A@wikicfp.com
END:VEVENT
BEGIN:VEVENT
DTSTAMP:20260419T115841Z
DTSTART;VALUE=DATE:20120511
SUMMARY:ICCD 2012 Deadline
DESCRIPTION:30th IEEE International Conference on Computer Design
URL:http://www.wikicfp.com/cfp/servlet/event.showcfp?eventid=19451&copyow
 nerid=42214
UID:cfp295809-D@wikicfp.com
END:VEVENT
BEGIN:VEVENT
DTSTAMP:20260419T115841Z
DTSTART;VALUE=DATE:20120723
SUMMARY:ICCD 2012 Notification Due
DESCRIPTION:30th IEEE International Conference on Computer Design
URL:http://www.wikicfp.com/cfp/servlet/event.showcfp?eventid=19451&copyow
 nerid=42214
UID:cfp295809-N@wikicfp.com
END:VEVENT
BEGIN:VEVENT
DTSTAMP:20260419T115841Z
DTSTART;VALUE=DATE:20120810
SUMMARY:ICCD 2012 Final Version Due
DESCRIPTION:30th IEEE International Conference on Computer Design
URL:http://www.wikicfp.com/cfp/servlet/event.showcfp?eventid=19451&copyow
 nerid=42214
UID:cfp295809-N@wikicfp.com
END:VEVENT
BEGIN:VEVENT
DTSTAMP:20260419T115841Z
DTSTART;VALUE=DATE:20121201
DTEND;VALUE=DATE:20121206
SUMMARY:MICRO 2012
DESCRIPTION:International Symposium on Microarchitecture
URL:http://www.wikicfp.com/cfp/servlet/event.showcfp?eventid=22694&copyow
 nerid=42214
UID:cfp295813-E@wikicfp.com
END:VEVENT
BEGIN:VEVENT
DTSTAMP:20260419T115841Z
DTSTART;VALUE=DATE:20120601
SUMMARY:MICRO 2012 Abstract Due
DESCRIPTION:International Symposium on Microarchitecture
URL:http://www.wikicfp.com/cfp/servlet/event.showcfp?eventid=22694&copyow
 nerid=42214
UID:cfp295813-A@wikicfp.com
END:VEVENT
BEGIN:VEVENT
DTSTAMP:20260419T115841Z
DTSTART;VALUE=DATE:20120608
SUMMARY:MICRO 2012 Deadline
DESCRIPTION:International Symposium on Microarchitecture
URL:http://www.wikicfp.com/cfp/servlet/event.showcfp?eventid=22694&copyow
 nerid=42214
UID:cfp295813-D@wikicfp.com
END:VEVENT
BEGIN:VEVENT
DTSTAMP:20260419T115841Z
DTSTART;VALUE=DATE:20120901
SUMMARY:MICRO 2012 Notification Due
DESCRIPTION:International Symposium on Microarchitecture
URL:http://www.wikicfp.com/cfp/servlet/event.showcfp?eventid=22694&copyow
 nerid=42214
UID:cfp295813-N@wikicfp.com
END:VEVENT
BEGIN:VEVENT
DTSTAMP:20260419T115841Z
DTSTART;VALUE=DATE:20130121
DTEND;VALUE=DATE:20130124
SUMMARY:HiPEAC 2013
DESCRIPTION:8th International Conference on High-Performance and Embedded
  Architectures and Compilers
URL:http://www.wikicfp.com/cfp/servlet/event.showcfp?eventid=22708&copyow
 nerid=42214
UID:cfp295814-E@wikicfp.com
END:VEVENT
BEGIN:VEVENT
DTSTAMP:20260419T115841Z
DTSTART;VALUE=DATE:20120618
SUMMARY:HiPEAC 2013 Deadline
DESCRIPTION:8th International Conference on High-Performance and Embedded
  Architectures and Compilers
URL:http://www.wikicfp.com/cfp/servlet/event.showcfp?eventid=22708&copyow
 nerid=42214
UID:cfp295814-D@wikicfp.com
END:VEVENT
BEGIN:VEVENT
DTSTAMP:20260419T115841Z
DTSTART;VALUE=DATE:20130316
DTEND;VALUE=DATE:20130321
SUMMARY:ASPLOS 2013
DESCRIPTION:International Conference on Architectural Support for Program
 ming Languages and Operating Systems
URL:http://www.wikicfp.com/cfp/servlet/event.showcfp?eventid=22692&copyow
 nerid=42214
UID:cfp295812-E@wikicfp.com
END:VEVENT
BEGIN:VEVENT
DTSTAMP:20260419T115841Z
DTSTART;VALUE=DATE:20120716
SUMMARY:ASPLOS 2013 Abstract Due
DESCRIPTION:International Conference on Architectural Support for Program
 ming Languages and Operating Systems
URL:http://www.wikicfp.com/cfp/servlet/event.showcfp?eventid=22692&copyow
 nerid=42214
UID:cfp295812-A@wikicfp.com
END:VEVENT
BEGIN:VEVENT
DTSTAMP:20260419T115841Z
DTSTART;VALUE=DATE:20120723
SUMMARY:ASPLOS 2013 Deadline
DESCRIPTION:International Conference on Architectural Support for Program
 ming Languages and Operating Systems
URL:http://www.wikicfp.com/cfp/servlet/event.showcfp?eventid=22692&copyow
 nerid=42214
UID:cfp295812-D@wikicfp.com
END:VEVENT
BEGIN:VEVENT
DTSTAMP:20260419T115841Z
DTSTART;VALUE=DATE:20121109
SUMMARY:ASPLOS 2013 Notification Due
DESCRIPTION:International Conference on Architectural Support for Program
 ming Languages and Operating Systems
URL:http://www.wikicfp.com/cfp/servlet/event.showcfp?eventid=22692&copyow
 nerid=42214
UID:cfp295812-N@wikicfp.com
END:VEVENT
BEGIN:VEVENT
DTSTAMP:20260419T115841Z
DTSTART;VALUE=DATE:20130223
DTEND;VALUE=DATE:20130228
SUMMARY:HPCA 2013
DESCRIPTION:IEEE 19th International Symposium on High Performance Compute
 r Architecture
URL:http://www.wikicfp.com/cfp/servlet/event.showcfp?eventid=22405&copyow
 nerid=42214
UID:cfp295811-E@wikicfp.com
END:VEVENT
BEGIN:VEVENT
DTSTAMP:20260419T115841Z
DTSTART;VALUE=DATE:20120830
SUMMARY:HPCA 2013 Abstract Due
DESCRIPTION:IEEE 19th International Symposium on High Performance Compute
 r Architecture
URL:http://www.wikicfp.com/cfp/servlet/event.showcfp?eventid=22405&copyow
 nerid=42214
UID:cfp295811-A@wikicfp.com
END:VEVENT
BEGIN:VEVENT
DTSTAMP:20260419T115841Z
DTSTART;VALUE=DATE:20120907
SUMMARY:HPCA 2013 Deadline
DESCRIPTION:IEEE 19th International Symposium on High Performance Compute
 r Architecture
URL:http://www.wikicfp.com/cfp/servlet/event.showcfp?eventid=22405&copyow
 nerid=42214
UID:cfp295811-D@wikicfp.com
END:VEVENT
BEGIN:VEVENT
DTSTAMP:20260419T115841Z
DTSTART;VALUE=DATE:20130319
DTEND;VALUE=DATE:20130323
SUMMARY:DATE 2013
DESCRIPTION:Design Automation and Test in Europe
URL:http://www.wikicfp.com/cfp/servlet/event.showcfp?eventid=24811&copyow
 nerid=42214
UID:cfp295819-E@wikicfp.com
END:VEVENT
BEGIN:VEVENT
DTSTAMP:20260419T115841Z
DTSTART;VALUE=DATE:20120909
SUMMARY:DATE 2013 Abstract Due
DESCRIPTION:Design Automation and Test in Europe
URL:http://www.wikicfp.com/cfp/servlet/event.showcfp?eventid=24811&copyow
 nerid=42214
UID:cfp295819-A@wikicfp.com
END:VEVENT
BEGIN:VEVENT
DTSTAMP:20260419T115841Z
DTSTART;VALUE=DATE:20120914
SUMMARY:DATE 2013 Deadline
DESCRIPTION:Design Automation and Test in Europe
URL:http://www.wikicfp.com/cfp/servlet/event.showcfp?eventid=24811&copyow
 nerid=42214
UID:cfp295819-D@wikicfp.com
END:VEVENT
BEGIN:VEVENT
DTSTAMP:20260419T115841Z
DTSTART;VALUE=DATE:20121116
SUMMARY:DATE 2013 Notification Due
DESCRIPTION:Design Automation and Test in Europe
URL:http://www.wikicfp.com/cfp/servlet/event.showcfp?eventid=24811&copyow
 nerid=42214
UID:cfp295819-N@wikicfp.com
END:VEVENT
BEGIN:VEVENT
DTSTAMP:20260419T115841Z
DTSTART;VALUE=DATE:20121216
SUMMARY:DATE 2013 Final Version Due
DESCRIPTION:Design Automation and Test in Europe
URL:http://www.wikicfp.com/cfp/servlet/event.showcfp?eventid=24811&copyow
 nerid=42214
UID:cfp295819-N@wikicfp.com
END:VEVENT
BEGIN:VEVENT
DTSTAMP:20260419T115841Z
DTSTART;VALUE=DATE:20130519
DTEND;VALUE=DATE:20130524
SUMMARY:ISCAS 2013
DESCRIPTION:IEEE International Symposium on Circuits and Systems
URL:http://www.wikicfp.com/cfp/servlet/event.showcfp?eventid=21542&copyow
 nerid=42214
UID:cfp295817-E@wikicfp.com
END:VEVENT
BEGIN:VEVENT
DTSTAMP:20260419T115841Z
DTSTART;VALUE=DATE:20120928
SUMMARY:ISCAS 2013 Deadline
DESCRIPTION:IEEE International Symposium on Circuits and Systems
URL:http://www.wikicfp.com/cfp/servlet/event.showcfp?eventid=21542&copyow
 nerid=42214
UID:cfp295817-D@wikicfp.com
END:VEVENT
BEGIN:VEVENT
DTSTAMP:20260419T115841Z
DTSTART;VALUE=DATE:20130623
DTEND;VALUE=DATE:20130628
SUMMARY:ISCA 2013
DESCRIPTION:The 40th Annual International Symposium on Computer Architect
 ure (ISCA-40)
URL:http://www.wikicfp.com/cfp/servlet/event.showcfp?eventid=24569&copyow
 nerid=42214
UID:cfp295815-E@wikicfp.com
END:VEVENT
BEGIN:VEVENT
DTSTAMP:20260419T115841Z
DTSTART;VALUE=DATE:20121114
SUMMARY:ISCA 2013 Abstract Due
DESCRIPTION:The 40th Annual International Symposium on Computer Architect
 ure (ISCA-40)
URL:http://www.wikicfp.com/cfp/servlet/event.showcfp?eventid=24569&copyow
 nerid=42214
UID:cfp295815-A@wikicfp.com
END:VEVENT
BEGIN:VEVENT
DTSTAMP:20260419T115841Z
DTSTART;VALUE=DATE:20121121
SUMMARY:ISCA 2013 Deadline
DESCRIPTION:The 40th Annual International Symposium on Computer Architect
 ure (ISCA-40)
URL:http://www.wikicfp.com/cfp/servlet/event.showcfp?eventid=24569&copyow
 nerid=42214
UID:cfp295815-D@wikicfp.com
END:VEVENT
BEGIN:VEVENT
DTSTAMP:20260419T115841Z
DTSTART;VALUE=DATE:20130306
SUMMARY:ISCA 2013 Notification Due
DESCRIPTION:The 40th Annual International Symposium on Computer Architect
 ure (ISCA-40)
URL:http://www.wikicfp.com/cfp/servlet/event.showcfp?eventid=24569&copyow
 nerid=42214
UID:cfp295815-N@wikicfp.com
END:VEVENT
BEGIN:VEVENT
DTSTAMP:20260419T115841Z
DTSTART;VALUE=DATE:20130602
DTEND;VALUE=DATE:20130607
SUMMARY:DAC 2013
DESCRIPTION:50th ACM/EDAC/IEEE Design Automation Conference (DAC)
URL:http://www.wikicfp.com/cfp/servlet/event.showcfp?eventid=20817&copyow
 nerid=42214
UID:cfp295818-E@wikicfp.com
END:VEVENT
BEGIN:VEVENT
DTSTAMP:20260419T115841Z
DTSTART;VALUE=DATE:20121127
SUMMARY:DAC 2013 Abstract Due
DESCRIPTION:50th ACM/EDAC/IEEE Design Automation Conference (DAC)
URL:http://www.wikicfp.com/cfp/servlet/event.showcfp?eventid=20817&copyow
 nerid=42214
UID:cfp295818-A@wikicfp.com
END:VEVENT
BEGIN:VEVENT
DTSTAMP:20260419T115841Z
DTSTART;VALUE=DATE:20121203
SUMMARY:DAC 2013 Deadline
DESCRIPTION:50th ACM/EDAC/IEEE Design Automation Conference (DAC)
URL:http://www.wikicfp.com/cfp/servlet/event.showcfp?eventid=20817&copyow
 nerid=42214
UID:cfp295818-D@wikicfp.com
END:VEVENT
BEGIN:VEVENT
DTSTAMP:20260419T115841Z
DTSTART;VALUE=DATE:20150314
DTEND;VALUE=DATE:20150319
SUMMARY:ASPLOS 2015
DESCRIPTION:Architectural Support for Programming Languages and Operating
  Systems
URL:http://www.wikicfp.com/cfp/servlet/event.showcfp?eventid=36667&copyow
 nerid=42214
UID:cfp489283-E@wikicfp.com
END:VEVENT
BEGIN:VEVENT
DTSTAMP:20260419T115841Z
DTSTART;VALUE=DATE:20140731
SUMMARY:ASPLOS 2015 Abstract Due
DESCRIPTION:Architectural Support for Programming Languages and Operating
  Systems
URL:http://www.wikicfp.com/cfp/servlet/event.showcfp?eventid=36667&copyow
 nerid=42214
UID:cfp489283-A@wikicfp.com
END:VEVENT
BEGIN:VEVENT
DTSTAMP:20260419T115841Z
DTSTART;VALUE=DATE:20140807
SUMMARY:ASPLOS 2015 Deadline
DESCRIPTION:Architectural Support for Programming Languages and Operating
  Systems
URL:http://www.wikicfp.com/cfp/servlet/event.showcfp?eventid=36667&copyow
 nerid=42214
UID:cfp489283-D@wikicfp.com
END:VEVENT
BEGIN:VEVENT
DTSTAMP:20260419T115841Z
DTSTART;VALUE=DATE:20150613
DTEND;VALUE=DATE:20150618
SUMMARY:ISCA 2015
DESCRIPTION:International Symposium on Computer Architecture
URL:http://www.wikicfp.com/cfp/servlet/event.showcfp?eventid=40481&copyow
 nerid=42214
UID:cfp489284-E@wikicfp.com
END:VEVENT
BEGIN:VEVENT
DTSTAMP:20260419T115841Z
DTSTART;VALUE=DATE:20141118
SUMMARY:ISCA 2015 Abstract Due
DESCRIPTION:International Symposium on Computer Architecture
URL:http://www.wikicfp.com/cfp/servlet/event.showcfp?eventid=40481&copyow
 nerid=42214
UID:cfp489284-A@wikicfp.com
END:VEVENT
BEGIN:VEVENT
DTSTAMP:20260419T115841Z
DTSTART;VALUE=DATE:20141125
SUMMARY:ISCA 2015 Deadline
DESCRIPTION:International Symposium on Computer Architecture
URL:http://www.wikicfp.com/cfp/servlet/event.showcfp?eventid=40481&copyow
 nerid=42214
UID:cfp489284-D@wikicfp.com
END:VEVENT
BEGIN:VEVENT
DTSTAMP:20260419T115841Z
DTSTART;VALUE=DATE:20150306
SUMMARY:ISCA 2015 Notification Due
DESCRIPTION:International Symposium on Computer Architecture
URL:http://www.wikicfp.com/cfp/servlet/event.showcfp?eventid=40481&copyow
 nerid=42214
UID:cfp489284-N@wikicfp.com
END:VEVENT
END:VCALENDAR
