BEGIN:VCALENDAR
PRODID:-//WikiCFP//katrinarning 1.0//EN
VERSION:2.0
CALSCALE:GREGORIAN
BEGIN:VEVENT
DTSTAMP:20260422T200647Z
DTSTART;VALUE=DATE:20150610
DTEND;VALUE=DATE:20150613
SUMMARY:ICOST 2015
DESCRIPTION:13th Internation Conference On Smart homes and health Telemat
 ics: Inclusive Smart Cities and e-Health
URL:http://www.wikicfp.com/cfp/servlet/event.showcfp?eventid=41348&copyow
 nerid=42033
UID:cfp490214-E@wikicfp.com
END:VEVENT
BEGIN:VEVENT
DTSTAMP:20260422T200647Z
DTSTART;VALUE=DATE:20150115
SUMMARY:ICOST 2015 Deadline
DESCRIPTION:13th Internation Conference On Smart homes and health Telemat
 ics: Inclusive Smart Cities and e-Health
URL:http://www.wikicfp.com/cfp/servlet/event.showcfp?eventid=41348&copyow
 nerid=42033
UID:cfp490214-D@wikicfp.com
END:VEVENT
BEGIN:VEVENT
DTSTAMP:20260422T200647Z
DTSTART;VALUE=DATE:20150215
SUMMARY:ICOST 2015 Notification Due
DESCRIPTION:13th Internation Conference On Smart homes and health Telemat
 ics: Inclusive Smart Cities and e-Health
URL:http://www.wikicfp.com/cfp/servlet/event.showcfp?eventid=41348&copyow
 nerid=42033
UID:cfp490214-N@wikicfp.com
END:VEVENT
BEGIN:VEVENT
DTSTAMP:20260422T200647Z
DTSTART;VALUE=DATE:20150315
SUMMARY:ICOST 2015 Final Version Due
DESCRIPTION:13th Internation Conference On Smart homes and health Telemat
 ics: Inclusive Smart Cities and e-Health
URL:http://www.wikicfp.com/cfp/servlet/event.showcfp?eventid=41348&copyow
 nerid=42033
UID:cfp490214-N@wikicfp.com
END:VEVENT
BEGIN:VEVENT
DTSTAMP:20260422T200647Z
DTSTART;VALUE=DATE:20150914
DTEND;VALUE=DATE:20150919
SUMMARY:INTERACT 2015
DESCRIPTION:International Conference on Human-Computer Interaction
URL:http://www.wikicfp.com/cfp/servlet/event.showcfp?eventid=39242&copyow
 nerid=42033
UID:cfp490212-E@wikicfp.com
END:VEVENT
BEGIN:VEVENT
DTSTAMP:20260422T200647Z
DTSTART;VALUE=DATE:20150123
SUMMARY:INTERACT 2015 Deadline
DESCRIPTION:International Conference on Human-Computer Interaction
URL:http://www.wikicfp.com/cfp/servlet/event.showcfp?eventid=39242&copyow
 nerid=42033
UID:cfp490212-D@wikicfp.com
END:VEVENT
BEGIN:VEVENT
DTSTAMP:20260422T200647Z
DTSTART;VALUE=DATE:20150313
SUMMARY:INTERACT 2015 Notification Due
DESCRIPTION:International Conference on Human-Computer Interaction
URL:http://www.wikicfp.com/cfp/servlet/event.showcfp?eventid=39242&copyow
 nerid=42033
UID:cfp490212-N@wikicfp.com
END:VEVENT
END:VCALENDAR
