BEGIN:VCALENDAR
PRODID:-//WikiCFP//Ikbale 1.0//EN
VERSION:2.0
CALSCALE:GREGORIAN
BEGIN:VEVENT
DTSTAMP:20260421T054435Z
DTSTART;VALUE=DATE:20131115
DTEND;VALUE=DATE:20131117
SUMMARY:SE2020-SEC 2013
DESCRIPTION:3-rd International Symposium on Shaping Europe 2020: socio-ec
 onomic challenges
URL:http://www.wikicfp.com/cfp/servlet/event.showcfp?eventid=24556&copyow
 nerid=41951
UID:cfp294238-E@wikicfp.com
END:VEVENT
BEGIN:VEVENT
DTSTAMP:20260421T054435Z
DTSTART;VALUE=DATE:20131015
SUMMARY:SE2020-SEC 2013 Abstract Due
DESCRIPTION:3-rd International Symposium on Shaping Europe 2020: socio-ec
 onomic challenges
URL:http://www.wikicfp.com/cfp/servlet/event.showcfp?eventid=24556&copyow
 nerid=41951
UID:cfp294238-A@wikicfp.com
END:VEVENT
BEGIN:VEVENT
DTSTAMP:20260421T054435Z
DTSTART;VALUE=DATE:20131030
SUMMARY:SE2020-SEC 2013 Deadline
DESCRIPTION:3-rd International Symposium on Shaping Europe 2020: socio-ec
 onomic challenges
URL:http://www.wikicfp.com/cfp/servlet/event.showcfp?eventid=24556&copyow
 nerid=41951
UID:cfp294238-D@wikicfp.com
END:VEVENT
BEGIN:VEVENT
DTSTAMP:20260421T054435Z
DTSTART;VALUE=DATE:20140516
DTEND;VALUE=DATE:20140518
SUMMARY:ASER 2014
DESCRIPTION:3rd Edition of International Symposium on Advancing Socio-Eco
 nomic Research
URL:http://www.wikicfp.com/cfp/servlet/event.showcfp?eventid=21335&copyow
 nerid=41951
UID:cfp327470-E@wikicfp.com
END:VEVENT
BEGIN:VEVENT
DTSTAMP:20260421T054435Z
DTSTART;VALUE=DATE:20140331
SUMMARY:ASER 2014 Abstract Due
DESCRIPTION:3rd Edition of International Symposium on Advancing Socio-Eco
 nomic Research
URL:http://www.wikicfp.com/cfp/servlet/event.showcfp?eventid=21335&copyow
 nerid=41951
UID:cfp327470-A@wikicfp.com
END:VEVENT
BEGIN:VEVENT
DTSTAMP:20260421T054435Z
DTSTART;VALUE=DATE:20140413
SUMMARY:ASER 2014 Deadline
DESCRIPTION:3rd Edition of International Symposium on Advancing Socio-Eco
 nomic Research
URL:http://www.wikicfp.com/cfp/servlet/event.showcfp?eventid=21335&copyow
 nerid=41951
UID:cfp327470-D@wikicfp.com
END:VEVENT
BEGIN:VEVENT
DTSTAMP:20260421T054435Z
DTSTART;VALUE=DATE:20140413
SUMMARY:ASER 2014 Final Version Due
DESCRIPTION:3rd Edition of International Symposium on Advancing Socio-Eco
 nomic Research
URL:http://www.wikicfp.com/cfp/servlet/event.showcfp?eventid=21335&copyow
 nerid=41951
UID:cfp327470-N@wikicfp.com
END:VEVENT
BEGIN:VEVENT
DTSTAMP:20260421T054435Z
DTSTART;VALUE=DATE:20170519
DTEND;VALUE=DATE:20170521
SUMMARY:ASECU2017 2017
DESCRIPTION:13th INTERNATIONAL CONFERENCE of ASECU
URL:http://www.wikicfp.com/cfp/servlet/event.showcfp?eventid=59415&copyow
 nerid=41951
UID:cfp634446-E@wikicfp.com
END:VEVENT
BEGIN:VEVENT
DTSTAMP:20260421T054435Z
DTSTART;VALUE=DATE:20170125
SUMMARY:ASECU2017 2017 Abstract Due
DESCRIPTION:13th INTERNATIONAL CONFERENCE of ASECU
URL:http://www.wikicfp.com/cfp/servlet/event.showcfp?eventid=59415&copyow
 nerid=41951
UID:cfp634446-A@wikicfp.com
END:VEVENT
BEGIN:VEVENT
DTSTAMP:20260421T054435Z
DTSTART;VALUE=DATE:20170330
SUMMARY:ASECU2017 2017 Deadline
DESCRIPTION:13th INTERNATIONAL CONFERENCE of ASECU
URL:http://www.wikicfp.com/cfp/servlet/event.showcfp?eventid=59415&copyow
 nerid=41951
UID:cfp634446-D@wikicfp.com
END:VEVENT
BEGIN:VEVENT
DTSTAMP:20260421T054435Z
DTSTART;VALUE=DATE:20170415
SUMMARY:ASECU2017 2017 Notification Due
DESCRIPTION:13th INTERNATIONAL CONFERENCE of ASECU
URL:http://www.wikicfp.com/cfp/servlet/event.showcfp?eventid=59415&copyow
 nerid=41951
UID:cfp634446-N@wikicfp.com
END:VEVENT
END:VCALENDAR
