BEGIN:VCALENDAR
PRODID:-//WikiCFP//ashokripour 1.0//EN
VERSION:2.0
CALSCALE:GREGORIAN
BEGIN:VEVENT
DTSTAMP:20260419T172108Z
DTSTART;VALUE=DATE:20091210
DTEND;VALUE=DATE:20091213
SUMMARY:GDC 2009
DESCRIPTION:The 2009 Symposium on Grid and Distributed Computing
URL:http://www.wikicfp.com/cfp/servlet/event.showcfp?eventid=4134&copyown
 erid=4191
UID:cfp33953-E@wikicfp.com
END:VEVENT
BEGIN:VEVENT
DTSTAMP:20260419T172108Z
DTSTART;VALUE=DATE:20090530
SUMMARY:GDC 2009 Deadline
DESCRIPTION:The 2009 Symposium on Grid and Distributed Computing
URL:http://www.wikicfp.com/cfp/servlet/event.showcfp?eventid=4134&copyown
 erid=4191
UID:cfp33953-D@wikicfp.com
END:VEVENT
BEGIN:VEVENT
DTSTAMP:20260419T172108Z
DTSTART;VALUE=DATE:20090731
SUMMARY:GDC 2009 Notification Due
DESCRIPTION:The 2009 Symposium on Grid and Distributed Computing
URL:http://www.wikicfp.com/cfp/servlet/event.showcfp?eventid=4134&copyown
 erid=4191
UID:cfp33953-N@wikicfp.com
END:VEVENT
BEGIN:VEVENT
DTSTAMP:20260419T172108Z
DTSTART;VALUE=DATE:20090831
SUMMARY:GDC 2009 Final Version Due
DESCRIPTION:The 2009 Symposium on Grid and Distributed Computing
URL:http://www.wikicfp.com/cfp/servlet/event.showcfp?eventid=4134&copyown
 erid=4191
UID:cfp33953-N@wikicfp.com
END:VEVENT
BEGIN:VEVENT
DTSTAMP:20260419T172108Z
DTSTART;VALUE=DATE:20091209
DTEND;VALUE=DATE:20091212
SUMMARY:ICPADS 2009
DESCRIPTION:The IEEE Fifteenth International Conference on Parallel and D
 istributed Systems
URL:http://www.wikicfp.com/cfp/servlet/event.showcfp?eventid=5161&copyown
 erid=4191
UID:cfp37848-E@wikicfp.com
END:VEVENT
BEGIN:VEVENT
DTSTAMP:20260419T172108Z
DTSTART;VALUE=DATE:20090615
SUMMARY:ICPADS 2009 Deadline
DESCRIPTION:The IEEE Fifteenth International Conference on Parallel and D
 istributed Systems
URL:http://www.wikicfp.com/cfp/servlet/event.showcfp?eventid=5161&copyown
 erid=4191
UID:cfp37848-D@wikicfp.com
END:VEVENT
BEGIN:VEVENT
DTSTAMP:20260419T172108Z
DTSTART;VALUE=DATE:20090901
SUMMARY:ICPADS 2009 Notification Due
DESCRIPTION:The IEEE Fifteenth International Conference on Parallel and D
 istributed Systems
URL:http://www.wikicfp.com/cfp/servlet/event.showcfp?eventid=5161&copyown
 erid=4191
UID:cfp37848-N@wikicfp.com
END:VEVENT
BEGIN:VEVENT
DTSTAMP:20260419T172108Z
DTSTART;VALUE=DATE:20091001
SUMMARY:ICPADS 2009 Final Version Due
DESCRIPTION:The IEEE Fifteenth International Conference on Parallel and D
 istributed Systems
URL:http://www.wikicfp.com/cfp/servlet/event.showcfp?eventid=5161&copyown
 erid=4191
UID:cfp37848-N@wikicfp.com
END:VEVENT
BEGIN:VEVENT
DTSTAMP:20260419T172108Z
DTSTART;VALUE=DATE:20091208
DTEND;VALUE=DATE:20091212
SUMMARY:PDCAT 2009
DESCRIPTION:The Tenth International Conference on Parallel and Distribute
 d Computing\, Applications and Technologies (PDCAT)
URL:http://www.wikicfp.com/cfp/servlet/event.showcfp?eventid=5381&copyown
 erid=4191
UID:cfp36286-E@wikicfp.com
END:VEVENT
BEGIN:VEVENT
DTSTAMP:20260419T172108Z
DTSTART;VALUE=DATE:20090615
SUMMARY:PDCAT 2009 Deadline
DESCRIPTION:The Tenth International Conference on Parallel and Distribute
 d Computing\, Applications and Technologies (PDCAT)
URL:http://www.wikicfp.com/cfp/servlet/event.showcfp?eventid=5381&copyown
 erid=4191
UID:cfp36286-D@wikicfp.com
END:VEVENT
BEGIN:VEVENT
DTSTAMP:20260419T172108Z
DTSTART;VALUE=DATE:20090801
SUMMARY:PDCAT 2009 Notification Due
DESCRIPTION:The Tenth International Conference on Parallel and Distribute
 d Computing\, Applications and Technologies (PDCAT)
URL:http://www.wikicfp.com/cfp/servlet/event.showcfp?eventid=5381&copyown
 erid=4191
UID:cfp36286-N@wikicfp.com
END:VEVENT
BEGIN:VEVENT
DTSTAMP:20260419T172108Z
DTSTART;VALUE=DATE:20090901
SUMMARY:PDCAT 2009 Final Version Due
DESCRIPTION:The Tenth International Conference on Parallel and Distribute
 d Computing\, Applications and Technologies (PDCAT)
URL:http://www.wikicfp.com/cfp/servlet/event.showcfp?eventid=5381&copyown
 erid=4191
UID:cfp36286-N@wikicfp.com
END:VEVENT
BEGIN:VEVENT
DTSTAMP:20260419T172108Z
DTSTART;VALUE=DATE:20100103
DTEND;VALUE=DATE:20100107
SUMMARY:ICDCN  2010
DESCRIPTION:11th International Conference on Distributed Computing and Ne
 tworking 
URL:http://www.wikicfp.com/cfp/servlet/event.showcfp?eventid=5286&copyown
 erid=4191
UID:cfp39112-E@wikicfp.com
END:VEVENT
BEGIN:VEVENT
DTSTAMP:20260419T172108Z
DTSTART;VALUE=DATE:20090713
SUMMARY:ICDCN  2010 Deadline
DESCRIPTION:11th International Conference on Distributed Computing and Ne
 tworking 
URL:http://www.wikicfp.com/cfp/servlet/event.showcfp?eventid=5286&copyown
 erid=4191
UID:cfp39112-D@wikicfp.com
END:VEVENT
BEGIN:VEVENT
DTSTAMP:20260419T172108Z
DTSTART;VALUE=DATE:20090915
SUMMARY:ICDCN  2010 Notification Due
DESCRIPTION:11th International Conference on Distributed Computing and Ne
 tworking 
URL:http://www.wikicfp.com/cfp/servlet/event.showcfp?eventid=5286&copyown
 erid=4191
UID:cfp39112-N@wikicfp.com
END:VEVENT
BEGIN:VEVENT
DTSTAMP:20260419T172108Z
DTSTART;VALUE=DATE:20091013
SUMMARY:ICDCN  2010 Final Version Due
DESCRIPTION:11th International Conference on Distributed Computing and Ne
 tworking 
URL:http://www.wikicfp.com/cfp/servlet/event.showcfp?eventid=5286&copyown
 erid=4191
UID:cfp39112-N@wikicfp.com
END:VEVENT
BEGIN:VEVENT
DTSTAMP:20260419T172108Z
DTSTART;VALUE=DATE:20091214
DTEND;VALUE=DATE:20091217
SUMMARY:MoMM 2009
DESCRIPTION:The 7th International Conference on Mobile Computing and Mult
 imedia
URL:http://www.wikicfp.com/cfp/servlet/event.showcfp?eventid=5147&copyown
 erid=4191
UID:cfp35711-E@wikicfp.com
END:VEVENT
BEGIN:VEVENT
DTSTAMP:20260419T172108Z
DTSTART;VALUE=DATE:20090720
SUMMARY:MoMM 2009 Deadline
DESCRIPTION:The 7th International Conference on Mobile Computing and Mult
 imedia
URL:http://www.wikicfp.com/cfp/servlet/event.showcfp?eventid=5147&copyown
 erid=4191
UID:cfp35711-D@wikicfp.com
END:VEVENT
BEGIN:VEVENT
DTSTAMP:20260419T172108Z
DTSTART;VALUE=DATE:20090921
SUMMARY:MoMM 2009 Notification Due
DESCRIPTION:The 7th International Conference on Mobile Computing and Mult
 imedia
URL:http://www.wikicfp.com/cfp/servlet/event.showcfp?eventid=5147&copyown
 erid=4191
UID:cfp35711-N@wikicfp.com
END:VEVENT
BEGIN:VEVENT
DTSTAMP:20260419T172108Z
DTSTART;VALUE=DATE:20091012
SUMMARY:MoMM 2009 Final Version Due
DESCRIPTION:The 7th International Conference on Mobile Computing and Mult
 imedia
URL:http://www.wikicfp.com/cfp/servlet/event.showcfp?eventid=5147&copyown
 erid=4191
UID:cfp35711-N@wikicfp.com
END:VEVENT
END:VCALENDAR
