BEGIN:VCALENDAR
PRODID:-//WikiCFP//pooyadav 1.0//EN
VERSION:2.0
CALSCALE:GREGORIAN
BEGIN:VEVENT
DTSTAMP:20260423T095723Z
DTSTART;VALUE=DATE:20091012
DTEND;VALUE=DATE:20091016
SUMMARY:IEEE MASS 2009
DESCRIPTION:Sixth IEEE International Conference on Mobile Ad-hoc and Sens
 or Systems
URL:http://www.wikicfp.com/cfp/servlet/event.showcfp?eventid=4549&copyown
 erid=4159
UID:cfp33531-E@wikicfp.com
END:VEVENT
BEGIN:VEVENT
DTSTAMP:20260423T095723Z
DTSTART;VALUE=DATE:20090325
SUMMARY:IEEE MASS 2009 Abstract Due
DESCRIPTION:Sixth IEEE International Conference on Mobile Ad-hoc and Sens
 or Systems
URL:http://www.wikicfp.com/cfp/servlet/event.showcfp?eventid=4549&copyown
 erid=4159
UID:cfp33531-A@wikicfp.com
END:VEVENT
BEGIN:VEVENT
DTSTAMP:20260423T095723Z
DTSTART;VALUE=DATE:20090331
SUMMARY:IEEE MASS 2009 Deadline
DESCRIPTION:Sixth IEEE International Conference on Mobile Ad-hoc and Sens
 or Systems
URL:http://www.wikicfp.com/cfp/servlet/event.showcfp?eventid=4549&copyown
 erid=4159
UID:cfp33531-D@wikicfp.com
END:VEVENT
BEGIN:VEVENT
DTSTAMP:20260423T095723Z
DTSTART;VALUE=DATE:20090628
SUMMARY:IEEE MASS 2009 Notification Due
DESCRIPTION:Sixth IEEE International Conference on Mobile Ad-hoc and Sens
 or Systems
URL:http://www.wikicfp.com/cfp/servlet/event.showcfp?eventid=4549&copyown
 erid=4159
UID:cfp33531-N@wikicfp.com
END:VEVENT
BEGIN:VEVENT
DTSTAMP:20260423T095723Z
DTSTART;VALUE=DATE:20090724
SUMMARY:IEEE MASS 2009 Final Version Due
DESCRIPTION:Sixth IEEE International Conference on Mobile Ad-hoc and Sens
 or Systems
URL:http://www.wikicfp.com/cfp/servlet/event.showcfp?eventid=4549&copyown
 erid=4159
UID:cfp33531-N@wikicfp.com
END:VEVENT
BEGIN:VEVENT
DTSTAMP:20260423T095723Z
DTSTART;VALUE=DATE:20091104
DTEND;VALUE=DATE:20091107
SUMMARY:SenSys 2009
DESCRIPTION:ACM Conference on Embedded Networked Sensor Systems 
URL:http://www.wikicfp.com/cfp/servlet/event.showcfp?eventid=4168&copyown
 erid=4159
UID:cfp33530-E@wikicfp.com
END:VEVENT
BEGIN:VEVENT
DTSTAMP:20260423T095723Z
DTSTART;VALUE=DATE:20090401
SUMMARY:SenSys 2009 Abstract Due
DESCRIPTION:ACM Conference on Embedded Networked Sensor Systems 
URL:http://www.wikicfp.com/cfp/servlet/event.showcfp?eventid=4168&copyown
 erid=4159
UID:cfp33530-A@wikicfp.com
END:VEVENT
BEGIN:VEVENT
DTSTAMP:20260423T095723Z
DTSTART;VALUE=DATE:20090408
SUMMARY:SenSys 2009 Deadline
DESCRIPTION:ACM Conference on Embedded Networked Sensor Systems 
URL:http://www.wikicfp.com/cfp/servlet/event.showcfp?eventid=4168&copyown
 erid=4159
UID:cfp33530-D@wikicfp.com
END:VEVENT
BEGIN:VEVENT
DTSTAMP:20260423T095723Z
DTSTART;VALUE=DATE:20090720
SUMMARY:SenSys 2009 Notification Due
DESCRIPTION:ACM Conference on Embedded Networked Sensor Systems 
URL:http://www.wikicfp.com/cfp/servlet/event.showcfp?eventid=4168&copyown
 erid=4159
UID:cfp33530-N@wikicfp.com
END:VEVENT
BEGIN:VEVENT
DTSTAMP:20260423T095723Z
DTSTART;VALUE=DATE:20090501
SUMMARY:JSAC 2009 Deadline
DESCRIPTION:IEEE Journal on Selected Areas in Communications (JSAC) Simpl
 e Wireless Sensor Networking Solutions
URL:http://www.wikicfp.com/cfp/servlet/event.showcfp?eventid=4077&copyown
 erid=4159
UID:cfp33523-D@wikicfp.com
END:VEVENT
BEGIN:VEVENT
DTSTAMP:20260423T095723Z
DTSTART;VALUE=DATE:20091101
SUMMARY:JSAC 2009 Notification Due
DESCRIPTION:IEEE Journal on Selected Areas in Communications (JSAC) Simpl
 e Wireless Sensor Networking Solutions
URL:http://www.wikicfp.com/cfp/servlet/event.showcfp?eventid=4077&copyown
 erid=4159
UID:cfp33523-N@wikicfp.com
END:VEVENT
BEGIN:VEVENT
DTSTAMP:20260423T095723Z
DTSTART;VALUE=DATE:20100215
SUMMARY:JSAC 2009 Final Version Due
DESCRIPTION:IEEE Journal on Selected Areas in Communications (JSAC) Simpl
 e Wireless Sensor Networking Solutions
URL:http://www.wikicfp.com/cfp/servlet/event.showcfp?eventid=4077&copyown
 erid=4159
UID:cfp33523-N@wikicfp.com
END:VEVENT
BEGIN:VEVENT
DTSTAMP:20260423T095723Z
DTSTART;VALUE=DATE:20090913
DTEND;VALUE=DATE:20090917
SUMMARY:PIMRC 2009
DESCRIPTION:IEEE International Symposium on Personal\, Indoor and Mobile 
 Radio Communications
URL:http://www.wikicfp.com/cfp/servlet/event.showcfp?eventid=3682&copyown
 erid=4159
UID:cfp33522-E@wikicfp.com
END:VEVENT
BEGIN:VEVENT
DTSTAMP:20260423T095723Z
DTSTART;VALUE=DATE:20090615
SUMMARY:PIMRC 2009 Deadline
DESCRIPTION:IEEE International Symposium on Personal\, Indoor and Mobile 
 Radio Communications
URL:http://www.wikicfp.com/cfp/servlet/event.showcfp?eventid=3682&copyown
 erid=4159
UID:cfp33522-D@wikicfp.com
END:VEVENT
BEGIN:VEVENT
DTSTAMP:20260423T095723Z
DTSTART;VALUE=DATE:20090715
SUMMARY:PIMRC 2009 Notification Due
DESCRIPTION:IEEE International Symposium on Personal\, Indoor and Mobile 
 Radio Communications
URL:http://www.wikicfp.com/cfp/servlet/event.showcfp?eventid=3682&copyown
 erid=4159
UID:cfp33522-N@wikicfp.com
END:VEVENT
BEGIN:VEVENT
DTSTAMP:20260423T095723Z
DTSTART;VALUE=DATE:20090731
SUMMARY:PIMRC 2009 Final Version Due
DESCRIPTION:IEEE International Symposium on Personal\, Indoor and Mobile 
 Radio Communications
URL:http://www.wikicfp.com/cfp/servlet/event.showcfp?eventid=3682&copyown
 erid=4159
UID:cfp33522-N@wikicfp.com
END:VEVENT
BEGIN:VEVENT
DTSTAMP:20260423T095723Z
DTSTART;VALUE=DATE:20091201
DTEND;VALUE=DATE:20091205
SUMMARY:CoNEXT 2009
DESCRIPTION:ACM CoNEXT 2009
URL:http://www.wikicfp.com/cfp/servlet/event.showcfp?eventid=4269&copyown
 erid=4159
UID:cfp33524-E@wikicfp.com
END:VEVENT
BEGIN:VEVENT
DTSTAMP:20260423T095723Z
DTSTART;VALUE=DATE:20090612
SUMMARY:CoNEXT 2009 Abstract Due
DESCRIPTION:ACM CoNEXT 2009
URL:http://www.wikicfp.com/cfp/servlet/event.showcfp?eventid=4269&copyown
 erid=4159
UID:cfp33524-A@wikicfp.com
END:VEVENT
BEGIN:VEVENT
DTSTAMP:20260423T095723Z
DTSTART;VALUE=DATE:20090619
SUMMARY:CoNEXT 2009 Deadline
DESCRIPTION:ACM CoNEXT 2009
URL:http://www.wikicfp.com/cfp/servlet/event.showcfp?eventid=4269&copyown
 erid=4159
UID:cfp33524-D@wikicfp.com
END:VEVENT
BEGIN:VEVENT
DTSTAMP:20260423T095723Z
DTSTART;VALUE=DATE:20090904
SUMMARY:CoNEXT 2009 Notification Due
DESCRIPTION:ACM CoNEXT 2009
URL:http://www.wikicfp.com/cfp/servlet/event.showcfp?eventid=4269&copyown
 erid=4159
UID:cfp33524-N@wikicfp.com
END:VEVENT
BEGIN:VEVENT
DTSTAMP:20260423T095723Z
DTSTART;VALUE=DATE:20100109
DTEND;VALUE=DATE:20100113
SUMMARY:CCNC 2010
DESCRIPTION:IEEE Consumer Communications and Networking Conference
URL:http://www.wikicfp.com/cfp/servlet/event.showcfp?eventid=4768&copyown
 erid=4159
UID:cfp33526-E@wikicfp.com
END:VEVENT
BEGIN:VEVENT
DTSTAMP:20260423T095723Z
DTSTART;VALUE=DATE:20090629
SUMMARY:CCNC 2010 Deadline
DESCRIPTION:IEEE Consumer Communications and Networking Conference
URL:http://www.wikicfp.com/cfp/servlet/event.showcfp?eventid=4768&copyown
 erid=4159
UID:cfp33526-D@wikicfp.com
END:VEVENT
BEGIN:VEVENT
DTSTAMP:20260423T095723Z
DTSTART;VALUE=DATE:20090816
SUMMARY:CCNC 2010 Notification Due
DESCRIPTION:IEEE Consumer Communications and Networking Conference
URL:http://www.wikicfp.com/cfp/servlet/event.showcfp?eventid=4768&copyown
 erid=4159
UID:cfp33526-N@wikicfp.com
END:VEVENT
BEGIN:VEVENT
DTSTAMP:20260423T095723Z
DTSTART;VALUE=DATE:20091005
SUMMARY:CCNC 2010 Final Version Due
DESCRIPTION:IEEE Consumer Communications and Networking Conference
URL:http://www.wikicfp.com/cfp/servlet/event.showcfp?eventid=4768&copyown
 erid=4159
UID:cfp33526-N@wikicfp.com
END:VEVENT
BEGIN:VEVENT
DTSTAMP:20260423T095723Z
DTSTART;VALUE=DATE:20100315
DTEND;VALUE=DATE:20100320
SUMMARY:INFOCOM 2010
DESCRIPTION:The 29th IEEE Conference on Computer Communications
URL:http://www.wikicfp.com/cfp/servlet/event.showcfp?eventid=4885&copyown
 erid=4159
UID:cfp33527-E@wikicfp.com
END:VEVENT
BEGIN:VEVENT
DTSTAMP:20260423T095723Z
DTSTART;VALUE=DATE:20090724
SUMMARY:INFOCOM 2010 Abstract Due
DESCRIPTION:The 29th IEEE Conference on Computer Communications
URL:http://www.wikicfp.com/cfp/servlet/event.showcfp?eventid=4885&copyown
 erid=4159
UID:cfp33527-A@wikicfp.com
END:VEVENT
BEGIN:VEVENT
DTSTAMP:20260423T095723Z
DTSTART;VALUE=DATE:20090731
SUMMARY:INFOCOM 2010 Deadline
DESCRIPTION:The 29th IEEE Conference on Computer Communications
URL:http://www.wikicfp.com/cfp/servlet/event.showcfp?eventid=4885&copyown
 erid=4159
UID:cfp33527-D@wikicfp.com
END:VEVENT
BEGIN:VEVENT
DTSTAMP:20260423T095723Z
DTSTART;VALUE=DATE:20091121
SUMMARY:INFOCOM 2010 Notification Due
DESCRIPTION:The 29th IEEE Conference on Computer Communications
URL:http://www.wikicfp.com/cfp/servlet/event.showcfp?eventid=4885&copyown
 erid=4159
UID:cfp33527-N@wikicfp.com
END:VEVENT
BEGIN:VEVENT
DTSTAMP:20260423T095723Z
DTSTART;VALUE=DATE:20100523
DTEND;VALUE=DATE:20100528
SUMMARY:ICC 2010
DESCRIPTION:IEEE International Conference on Communications
URL:http://www.wikicfp.com/cfp/servlet/event.showcfp?eventid=4321&copyown
 erid=4159
UID:cfp33525-E@wikicfp.com
END:VEVENT
BEGIN:VEVENT
DTSTAMP:20260423T095723Z
DTSTART;VALUE=DATE:20090921
SUMMARY:ICC 2010 Abstract Due
DESCRIPTION:IEEE International Conference on Communications
URL:http://www.wikicfp.com/cfp/servlet/event.showcfp?eventid=4321&copyown
 erid=4159
UID:cfp33525-A@wikicfp.com
END:VEVENT
BEGIN:VEVENT
DTSTAMP:20260423T095723Z
DTSTART;VALUE=DATE:20090928
SUMMARY:ICC 2010 Deadline
DESCRIPTION:IEEE International Conference on Communications
URL:http://www.wikicfp.com/cfp/servlet/event.showcfp?eventid=4321&copyown
 erid=4159
UID:cfp33525-D@wikicfp.com
END:VEVENT
BEGIN:VEVENT
DTSTAMP:20260423T095723Z
DTSTART;VALUE=DATE:20100110
SUMMARY:ICC 2010 Notification Due
DESCRIPTION:IEEE International Conference on Communications
URL:http://www.wikicfp.com/cfp/servlet/event.showcfp?eventid=4321&copyown
 erid=4159
UID:cfp33525-N@wikicfp.com
END:VEVENT
BEGIN:VEVENT
DTSTAMP:20260423T095723Z
DTSTART;VALUE=DATE:20100210
SUMMARY:ICC 2010 Final Version Due
DESCRIPTION:IEEE International Conference on Communications
URL:http://www.wikicfp.com/cfp/servlet/event.showcfp?eventid=4321&copyown
 erid=4159
UID:cfp33525-N@wikicfp.com
END:VEVENT
BEGIN:VEVENT
DTSTAMP:20260423T095723Z
DTSTART;VALUE=DATE:20110919
DTEND;VALUE=DATE:20110924
SUMMARY:MobiCom 2011
DESCRIPTION:The 17th Annual International Conference on Mobile Computing 
 and Networking  
URL:http://www.wikicfp.com/cfp/servlet/event.showcfp?eventid=13671&copyow
 nerid=4159
UID:cfp136099-E@wikicfp.com
END:VEVENT
BEGIN:VEVENT
DTSTAMP:20260423T095723Z
DTSTART;VALUE=DATE:20110302
SUMMARY:MobiCom 2011 Abstract Due
DESCRIPTION:The 17th Annual International Conference on Mobile Computing 
 and Networking  
URL:http://www.wikicfp.com/cfp/servlet/event.showcfp?eventid=13671&copyow
 nerid=4159
UID:cfp136099-A@wikicfp.com
END:VEVENT
BEGIN:VEVENT
DTSTAMP:20260423T095723Z
DTSTART;VALUE=DATE:20110309
SUMMARY:MobiCom 2011 Deadline
DESCRIPTION:The 17th Annual International Conference on Mobile Computing 
 and Networking  
URL:http://www.wikicfp.com/cfp/servlet/event.showcfp?eventid=13671&copyow
 nerid=4159
UID:cfp136099-D@wikicfp.com
END:VEVENT
BEGIN:VEVENT
DTSTAMP:20260423T095723Z
DTSTART;VALUE=DATE:20110609
SUMMARY:MobiCom 2011 Notification Due
DESCRIPTION:The 17th Annual International Conference on Mobile Computing 
 and Networking  
URL:http://www.wikicfp.com/cfp/servlet/event.showcfp?eventid=13671&copyow
 nerid=4159
UID:cfp136099-N@wikicfp.com
END:VEVENT
BEGIN:VEVENT
DTSTAMP:20260423T095723Z
DTSTART;VALUE=DATE:20110630
SUMMARY:MobiCom 2011 Final Version Due
DESCRIPTION:The 17th Annual International Conference on Mobile Computing 
 and Networking  
URL:http://www.wikicfp.com/cfp/servlet/event.showcfp?eventid=13671&copyow
 nerid=4159
UID:cfp136099-N@wikicfp.com
END:VEVENT
BEGIN:VEVENT
DTSTAMP:20260423T095723Z
DTSTART;VALUE=DATE:20110629
DTEND;VALUE=DATE:20110630
SUMMARY:MobiSensor 2011
DESCRIPTION:2nd International Workshop on Mobility in Wireless Sensor Net
 works
URL:http://www.wikicfp.com/cfp/servlet/event.showcfp?eventid=13636&copyow
 nerid=4159
UID:cfp136098-E@wikicfp.com
END:VEVENT
BEGIN:VEVENT
DTSTAMP:20260423T095723Z
DTSTART;VALUE=DATE:20110415
SUMMARY:MobiSensor 2011 Deadline
DESCRIPTION:2nd International Workshop on Mobility in Wireless Sensor Net
 works
URL:http://www.wikicfp.com/cfp/servlet/event.showcfp?eventid=13636&copyow
 nerid=4159
UID:cfp136098-D@wikicfp.com
END:VEVENT
BEGIN:VEVENT
DTSTAMP:20260423T095723Z
DTSTART;VALUE=DATE:20110505
SUMMARY:MobiSensor 2011 Notification Due
DESCRIPTION:2nd International Workshop on Mobility in Wireless Sensor Net
 works
URL:http://www.wikicfp.com/cfp/servlet/event.showcfp?eventid=13636&copyow
 nerid=4159
UID:cfp136098-N@wikicfp.com
END:VEVENT
BEGIN:VEVENT
DTSTAMP:20260423T095723Z
DTSTART;VALUE=DATE:20110523
SUMMARY:MobiSensor 2011 Final Version Due
DESCRIPTION:2nd International Workshop on Mobility in Wireless Sensor Net
 works
URL:http://www.wikicfp.com/cfp/servlet/event.showcfp?eventid=13636&copyow
 nerid=4159
UID:cfp136098-N@wikicfp.com
END:VEVENT
BEGIN:VEVENT
DTSTAMP:20260423T095723Z
DTSTART;VALUE=DATE:20120115
DTEND;VALUE=DATE:20120120
SUMMARY:BioWireleSS 2012
DESCRIPTION:IEEE Topical Conference on Biomedical Wireless Technologies\,
  Networks\, and Sensing Systems
URL:http://www.wikicfp.com/cfp/servlet/event.showcfp?eventid=13371&copyow
 nerid=4159
UID:cfp136097-E@wikicfp.com
END:VEVENT
BEGIN:VEVENT
DTSTAMP:20260423T095723Z
DTSTART;VALUE=DATE:20110708
SUMMARY:BioWireleSS 2012 Deadline
DESCRIPTION:IEEE Topical Conference on Biomedical Wireless Technologies\,
  Networks\, and Sensing Systems
URL:http://www.wikicfp.com/cfp/servlet/event.showcfp?eventid=13371&copyow
 nerid=4159
UID:cfp136097-D@wikicfp.com
END:VEVENT
BEGIN:VEVENT
DTSTAMP:20260423T095723Z
DTSTART;VALUE=DATE:20110826
SUMMARY:BioWireleSS 2012 Notification Due
DESCRIPTION:IEEE Topical Conference on Biomedical Wireless Technologies\,
  Networks\, and Sensing Systems
URL:http://www.wikicfp.com/cfp/servlet/event.showcfp?eventid=13371&copyow
 nerid=4159
UID:cfp136097-N@wikicfp.com
END:VEVENT
BEGIN:VEVENT
DTSTAMP:20260423T095723Z
DTSTART;VALUE=DATE:20111028
SUMMARY:BioWireleSS 2012 Final Version Due
DESCRIPTION:IEEE Topical Conference on Biomedical Wireless Technologies\,
  Networks\, and Sensing Systems
URL:http://www.wikicfp.com/cfp/servlet/event.showcfp?eventid=13371&copyow
 nerid=4159
UID:cfp136097-N@wikicfp.com
END:VEVENT
BEGIN:VEVENT
DTSTAMP:20260423T095723Z
DTSTART;VALUE=DATE:20120921
DTEND;VALUE=DATE:20120924
SUMMARY:WiCOM 2012
DESCRIPTION:8th International Conference on Wireless Communications\, Net
 working and Mobile Computing
URL:http://www.wikicfp.com/cfp/servlet/event.showcfp?eventid=13687&copyow
 nerid=4159
UID:cfp136100-E@wikicfp.com
END:VEVENT
BEGIN:VEVENT
DTSTAMP:20260423T095723Z
DTSTART;VALUE=DATE:20120430
SUMMARY:WiCOM 2012 Deadline
DESCRIPTION:8th International Conference on Wireless Communications\, Net
 working and Mobile Computing
URL:http://www.wikicfp.com/cfp/servlet/event.showcfp?eventid=13687&copyow
 nerid=4159
UID:cfp136100-D@wikicfp.com
END:VEVENT
BEGIN:VEVENT
DTSTAMP:20260423T095723Z
DTSTART;VALUE=DATE:20120510
SUMMARY:WiCOM 2012 Notification Due
DESCRIPTION:8th International Conference on Wireless Communications\, Net
 working and Mobile Computing
URL:http://www.wikicfp.com/cfp/servlet/event.showcfp?eventid=13687&copyow
 nerid=4159
UID:cfp136100-N@wikicfp.com
END:VEVENT
BEGIN:VEVENT
DTSTAMP:20260423T095723Z
DTSTART;VALUE=DATE:20140131
SUMMARY:IJERTCS 2014 Deadline
DESCRIPTION:Int. J. Embedded and Real-Time Communication Systems
URL:http://www.wikicfp.com/cfp/servlet/event.showcfp?eventid=4905&copyown
 erid=4159
UID:cfp33528-D@wikicfp.com
END:VEVENT
BEGIN:VEVENT
DTSTAMP:20260423T095723Z
DTSTART;VALUE=DATE:20140220
SUMMARY:IJERTCS 2014 Notification Due
DESCRIPTION:Int. J. Embedded and Real-Time Communication Systems
URL:http://www.wikicfp.com/cfp/servlet/event.showcfp?eventid=4905&copyown
 erid=4159
UID:cfp33528-N@wikicfp.com
END:VEVENT
BEGIN:VEVENT
DTSTAMP:20260423T095723Z
DTSTART;VALUE=DATE:20140315
SUMMARY:IJERTCS 2014 Final Version Due
DESCRIPTION:Int. J. Embedded and Real-Time Communication Systems
URL:http://www.wikicfp.com/cfp/servlet/event.showcfp?eventid=4905&copyown
 erid=4159
UID:cfp33528-N@wikicfp.com
END:VEVENT
END:VCALENDAR
