BEGIN:VCALENDAR
PRODID:-//WikiCFP//kandearchana 1.0//EN
VERSION:2.0
CALSCALE:GREGORIAN
BEGIN:VEVENT
DTSTAMP:20260420T165923Z
DTSTART;VALUE=DATE:20121130
DTEND;VALUE=DATE:20121201
SUMMARY:HCITISI  2012
DESCRIPTION:First Argentine Conference on Human-Computer Interaction\, Te
 lecommunications\, Informatics and Scientific Information
URL:http://www.wikicfp.com/cfp/servlet/event.showcfp?eventid=25168&copyow
 nerid=41542
UID:cfp291251-E@wikicfp.com
END:VEVENT
BEGIN:VEVENT
DTSTAMP:20260420T165923Z
DTSTART;VALUE=DATE:20130124
DTEND;VALUE=DATE:20130126
SUMMARY:ScieTech 2013
DESCRIPTION:2013 International Conference on Science & Engineering in Mat
 hematics\, Chemistry and Physics 
URL:http://www.wikicfp.com/cfp/servlet/event.showcfp?eventid=25171&copyow
 nerid=41542
UID:cfp291254-E@wikicfp.com
END:VEVENT
BEGIN:VEVENT
DTSTAMP:20260420T165923Z
DTSTART;VALUE=DATE:20130309
DTEND;VALUE=DATE:20130311
SUMMARY:MOIME  2013
DESCRIPTION:2013 International Conference on Manufacturing\,  Optimizatio
 n\, Industrial and Material Engineering 
URL:http://www.wikicfp.com/cfp/servlet/event.showcfp?eventid=25172&copyow
 nerid=41542
UID:cfp291255-E@wikicfp.com
END:VEVENT
BEGIN:VEVENT
DTSTAMP:20260420T165923Z
DTSTART;VALUE=DATE:20120906
DTEND;VALUE=DATE:20120909
SUMMARY:3DOC 2012
DESCRIPTION:The 2012 International Conference on 3D Converged IT and Opti
 cal Communications
URL:http://www.wikicfp.com/cfp/servlet/event.showcfp?eventid=25151&copyow
 nerid=41542
UID:cfp291239-E@wikicfp.com
END:VEVENT
BEGIN:VEVENT
DTSTAMP:20260420T165923Z
DTSTART;VALUE=DATE:20120815
SUMMARY:3DOC 2012 Deadline
DESCRIPTION:The 2012 International Conference on 3D Converged IT and Opti
 cal Communications
URL:http://www.wikicfp.com/cfp/servlet/event.showcfp?eventid=25151&copyow
 nerid=41542
UID:cfp291239-D@wikicfp.com
END:VEVENT
BEGIN:VEVENT
DTSTAMP:20260420T165923Z
DTSTART;VALUE=DATE:20120825
SUMMARY:3DOC 2012 Notification Due
DESCRIPTION:The 2012 International Conference on 3D Converged IT and Opti
 cal Communications
URL:http://www.wikicfp.com/cfp/servlet/event.showcfp?eventid=25151&copyow
 nerid=41542
UID:cfp291239-N@wikicfp.com
END:VEVENT
BEGIN:VEVENT
DTSTAMP:20260420T165923Z
DTSTART;VALUE=DATE:20120830
SUMMARY:3DOC 2012 Final Version Due
DESCRIPTION:The 2012 International Conference on 3D Converged IT and Opti
 cal Communications
URL:http://www.wikicfp.com/cfp/servlet/event.showcfp?eventid=25151&copyow
 nerid=41542
UID:cfp291239-N@wikicfp.com
END:VEVENT
BEGIN:VEVENT
DTSTAMP:20260420T165923Z
DTSTART;VALUE=DATE:20110312
DTEND;VALUE=DATE:20120611
SUMMARY:HYD 2013
DESCRIPTION:ROBUST AND SECURE OF DIGITAL SIGNATURE ATHENTICATION OVER WIR
 LESS NETWORK
URL:http://www.wikicfp.com/cfp/servlet/event.showcfp?eventid=25175&copyow
 nerid=41542
UID:cfp291259-E@wikicfp.com
END:VEVENT
BEGIN:VEVENT
DTSTAMP:20260420T165923Z
DTSTART;VALUE=DATE:20120811
SUMMARY:HYD 2013 Abstract Due
DESCRIPTION:ROBUST AND SECURE OF DIGITAL SIGNATURE ATHENTICATION OVER WIR
 LESS NETWORK
URL:http://www.wikicfp.com/cfp/servlet/event.showcfp?eventid=25175&copyow
 nerid=41542
UID:cfp291259-A@wikicfp.com
END:VEVENT
BEGIN:VEVENT
DTSTAMP:20260420T165923Z
DTSTART;VALUE=DATE:20120815
SUMMARY:HYD 2013 Deadline
DESCRIPTION:ROBUST AND SECURE OF DIGITAL SIGNATURE ATHENTICATION OVER WIR
 LESS NETWORK
URL:http://www.wikicfp.com/cfp/servlet/event.showcfp?eventid=25175&copyow
 nerid=41542
UID:cfp291259-D@wikicfp.com
END:VEVENT
BEGIN:VEVENT
DTSTAMP:20260420T165923Z
DTSTART;VALUE=DATE:20120815
SUMMARY:HYD 2013 Notification Due
DESCRIPTION:ROBUST AND SECURE OF DIGITAL SIGNATURE ATHENTICATION OVER WIR
 LESS NETWORK
URL:http://www.wikicfp.com/cfp/servlet/event.showcfp?eventid=25175&copyow
 nerid=41542
UID:cfp291259-N@wikicfp.com
END:VEVENT
BEGIN:VEVENT
DTSTAMP:20260420T165923Z
DTSTART;VALUE=DATE:20120912
SUMMARY:HYD 2013 Final Version Due
DESCRIPTION:ROBUST AND SECURE OF DIGITAL SIGNATURE ATHENTICATION OVER WIR
 LESS NETWORK
URL:http://www.wikicfp.com/cfp/servlet/event.showcfp?eventid=25175&copyow
 nerid=41542
UID:cfp291259-N@wikicfp.com
END:VEVENT
BEGIN:VEVENT
DTSTAMP:20260420T165923Z
DTSTART;VALUE=DATE:20130129
DTEND;VALUE=DATE:20130202
SUMMARY:CATS 2013
DESCRIPTION:Computing: the Australasian Theory Symposium
URL:http://www.wikicfp.com/cfp/servlet/event.showcfp?eventid=25174&copyow
 nerid=41542
UID:cfp291257-E@wikicfp.com
END:VEVENT
BEGIN:VEVENT
DTSTAMP:20260420T165923Z
DTSTART;VALUE=DATE:20120827
SUMMARY:CATS 2013 Deadline
DESCRIPTION:Computing: the Australasian Theory Symposium
URL:http://www.wikicfp.com/cfp/servlet/event.showcfp?eventid=25174&copyow
 nerid=41542
UID:cfp291257-D@wikicfp.com
END:VEVENT
BEGIN:VEVENT
DTSTAMP:20260420T165923Z
DTSTART;VALUE=DATE:20121008
SUMMARY:CATS 2013 Notification Due
DESCRIPTION:Computing: the Australasian Theory Symposium
URL:http://www.wikicfp.com/cfp/servlet/event.showcfp?eventid=25174&copyow
 nerid=41542
UID:cfp291257-N@wikicfp.com
END:VEVENT
BEGIN:VEVENT
DTSTAMP:20260420T165923Z
DTSTART;VALUE=DATE:20121029
SUMMARY:CATS 2013 Final Version Due
DESCRIPTION:Computing: the Australasian Theory Symposium
URL:http://www.wikicfp.com/cfp/servlet/event.showcfp?eventid=25174&copyow
 nerid=41542
UID:cfp291257-N@wikicfp.com
END:VEVENT
BEGIN:VEVENT
DTSTAMP:20260420T165923Z
DTSTART;VALUE=DATE:20121101
DTEND;VALUE=DATE:20121103
SUMMARY:METMG 2012
DESCRIPTION:2012 International Conference on Manufacturing Engineering an
 d Technology for Manufacturing Growth
URL:http://www.wikicfp.com/cfp/servlet/event.showcfp?eventid=25173&copyow
 nerid=41542
UID:cfp291256-E@wikicfp.com
END:VEVENT
BEGIN:VEVENT
DTSTAMP:20260420T165923Z
DTSTART;VALUE=DATE:20120910
SUMMARY:METMG 2012 Deadline
DESCRIPTION:2012 International Conference on Manufacturing Engineering an
 d Technology for Manufacturing Growth
URL:http://www.wikicfp.com/cfp/servlet/event.showcfp?eventid=25173&copyow
 nerid=41542
UID:cfp291256-D@wikicfp.com
END:VEVENT
BEGIN:VEVENT
DTSTAMP:20260420T165923Z
DTSTART;VALUE=DATE:20120915
SUMMARY:METMG 2012 Final Version Due
DESCRIPTION:2012 International Conference on Manufacturing Engineering an
 d Technology for Manufacturing Growth
URL:http://www.wikicfp.com/cfp/servlet/event.showcfp?eventid=25173&copyow
 nerid=41542
UID:cfp291256-N@wikicfp.com
END:VEVENT
BEGIN:VEVENT
DTSTAMP:20260420T165923Z
DTSTART;VALUE=DATE:20121227
DTEND;VALUE=DATE:20121230
SUMMARY:EAS 2012
DESCRIPTION:International Conference on Engineering and Applied Science
URL:http://www.wikicfp.com/cfp/servlet/event.showcfp?eventid=21397&copyow
 nerid=41542
UID:cfp291235-E@wikicfp.com
END:VEVENT
BEGIN:VEVENT
DTSTAMP:20260420T165923Z
DTSTART;VALUE=DATE:20120930
SUMMARY:EAS 2012 Deadline
DESCRIPTION:International Conference on Engineering and Applied Science
URL:http://www.wikicfp.com/cfp/servlet/event.showcfp?eventid=21397&copyow
 nerid=41542
UID:cfp291235-D@wikicfp.com
END:VEVENT
BEGIN:VEVENT
DTSTAMP:20260420T165923Z
DTSTART;VALUE=DATE:20121015
SUMMARY:EAS 2012 Notification Due
DESCRIPTION:International Conference on Engineering and Applied Science
URL:http://www.wikicfp.com/cfp/servlet/event.showcfp?eventid=21397&copyow
 nerid=41542
UID:cfp291235-N@wikicfp.com
END:VEVENT
BEGIN:VEVENT
DTSTAMP:20260420T165923Z
DTSTART;VALUE=DATE:20130111
DTEND;VALUE=DATE:20130113
SUMMARY:QSHINE 2013
DESCRIPTION:9th International Conference on Heterogeneous Networking for 
 Quality\, Reliability\, Security and Robustness
URL:http://www.wikicfp.com/cfp/servlet/event.showcfp?eventid=25169&copyow
 nerid=41542
UID:cfp291252-E@wikicfp.com
END:VEVENT
BEGIN:VEVENT
DTSTAMP:20260420T165923Z
DTSTART;VALUE=DATE:20120930
SUMMARY:QSHINE 2013 Deadline
DESCRIPTION:9th International Conference on Heterogeneous Networking for 
 Quality\, Reliability\, Security and Robustness
URL:http://www.wikicfp.com/cfp/servlet/event.showcfp?eventid=25169&copyow
 nerid=41542
UID:cfp291252-D@wikicfp.com
END:VEVENT
BEGIN:VEVENT
DTSTAMP:20260420T165923Z
DTSTART;VALUE=DATE:20121115
SUMMARY:QSHINE 2013 Notification Due
DESCRIPTION:9th International Conference on Heterogeneous Networking for 
 Quality\, Reliability\, Security and Robustness
URL:http://www.wikicfp.com/cfp/servlet/event.showcfp?eventid=25169&copyow
 nerid=41542
UID:cfp291252-N@wikicfp.com
END:VEVENT
BEGIN:VEVENT
DTSTAMP:20260420T165923Z
DTSTART;VALUE=DATE:20121130
SUMMARY:QSHINE 2013 Final Version Due
DESCRIPTION:9th International Conference on Heterogeneous Networking for 
 Quality\, Reliability\, Security and Robustness
URL:http://www.wikicfp.com/cfp/servlet/event.showcfp?eventid=25169&copyow
 nerid=41542
UID:cfp291252-N@wikicfp.com
END:VEVENT
BEGIN:VEVENT
DTSTAMP:20260420T165923Z
DTSTART;VALUE=DATE:20121115
DTEND;VALUE=DATE:20121117
SUMMARY:WCLOUD 2012
DESCRIPTION:International Workshop on Cloud Education Environments
URL:http://www.wikicfp.com/cfp/servlet/event.showcfp?eventid=25155&copyow
 nerid=41542
UID:cfp291242-E@wikicfp.com
END:VEVENT
BEGIN:VEVENT
DTSTAMP:20260420T165923Z
DTSTART;VALUE=DATE:20121007
SUMMARY:WCLOUD 2012 Abstract Due
DESCRIPTION:International Workshop on Cloud Education Environments
URL:http://www.wikicfp.com/cfp/servlet/event.showcfp?eventid=25155&copyow
 nerid=41542
UID:cfp291242-A@wikicfp.com
END:VEVENT
BEGIN:VEVENT
DTSTAMP:20260420T165923Z
DTSTART;VALUE=DATE:20121007
SUMMARY:WCLOUD 2012 Deadline
DESCRIPTION:International Workshop on Cloud Education Environments
URL:http://www.wikicfp.com/cfp/servlet/event.showcfp?eventid=25155&copyow
 nerid=41542
UID:cfp291242-D@wikicfp.com
END:VEVENT
BEGIN:VEVENT
DTSTAMP:20260420T165923Z
DTSTART;VALUE=DATE:20121010
SUMMARY:WCLOUD 2012 Notification Due
DESCRIPTION:International Workshop on Cloud Education Environments
URL:http://www.wikicfp.com/cfp/servlet/event.showcfp?eventid=25155&copyow
 nerid=41542
UID:cfp291242-N@wikicfp.com
END:VEVENT
BEGIN:VEVENT
DTSTAMP:20260420T165923Z
DTSTART;VALUE=DATE:20121004
SUMMARY:WCLOUD 2012 Final Version Due
DESCRIPTION:International Workshop on Cloud Education Environments
URL:http://www.wikicfp.com/cfp/servlet/event.showcfp?eventid=25155&copyow
 nerid=41542
UID:cfp291242-N@wikicfp.com
END:VEVENT
BEGIN:VEVENT
DTSTAMP:20260420T165923Z
DTSTART;VALUE=DATE:20130625
DTEND;VALUE=DATE:20130629
SUMMARY:ANT 2013
DESCRIPTION:The 4th International Conference on Ambient Systems\, Network
 s and Technologies  - CALL FOR WORKSHOP PROPOSALS
URL:http://www.wikicfp.com/cfp/servlet/event.showcfp?eventid=25152&copyow
 nerid=41542
UID:cfp291240-E@wikicfp.com
END:VEVENT
BEGIN:VEVENT
DTSTAMP:20260420T165923Z
DTSTART;VALUE=DATE:20121010
SUMMARY:ANT 2013 Deadline
DESCRIPTION:The 4th International Conference on Ambient Systems\, Network
 s and Technologies  - CALL FOR WORKSHOP PROPOSALS
URL:http://www.wikicfp.com/cfp/servlet/event.showcfp?eventid=25152&copyow
 nerid=41542
UID:cfp291240-D@wikicfp.com
END:VEVENT
BEGIN:VEVENT
DTSTAMP:20260420T165923Z
DTSTART;VALUE=DATE:20121017
SUMMARY:ANT 2013 Notification Due
DESCRIPTION:The 4th International Conference on Ambient Systems\, Network
 s and Technologies  - CALL FOR WORKSHOP PROPOSALS
URL:http://www.wikicfp.com/cfp/servlet/event.showcfp?eventid=25152&copyow
 nerid=41542
UID:cfp291240-N@wikicfp.com
END:VEVENT
BEGIN:VEVENT
DTSTAMP:20260420T165923Z
DTSTART;VALUE=DATE:20130408
DTEND;VALUE=DATE:20130409
SUMMARY:DGSS 2013
DESCRIPTION:IEEE ICDE Workshop on Data-Driven Decision Guidance and Suppo
 rt Systems
URL:http://www.wikicfp.com/cfp/servlet/event.showcfp?eventid=25156&copyow
 nerid=41542
UID:cfp291243-E@wikicfp.com
END:VEVENT
BEGIN:VEVENT
DTSTAMP:20260420T165923Z
DTSTART;VALUE=DATE:20121031
SUMMARY:DGSS 2013 Deadline
DESCRIPTION:IEEE ICDE Workshop on Data-Driven Decision Guidance and Suppo
 rt Systems
URL:http://www.wikicfp.com/cfp/servlet/event.showcfp?eventid=25156&copyow
 nerid=41542
UID:cfp291243-D@wikicfp.com
END:VEVENT
BEGIN:VEVENT
DTSTAMP:20260420T165923Z
DTSTART;VALUE=DATE:20121205
SUMMARY:DGSS 2013 Notification Due
DESCRIPTION:IEEE ICDE Workshop on Data-Driven Decision Guidance and Suppo
 rt Systems
URL:http://www.wikicfp.com/cfp/servlet/event.showcfp?eventid=25156&copyow
 nerid=41542
UID:cfp291243-N@wikicfp.com
END:VEVENT
BEGIN:VEVENT
DTSTAMP:20260420T165923Z
DTSTART;VALUE=DATE:20121217
SUMMARY:DGSS 2013 Final Version Due
DESCRIPTION:IEEE ICDE Workshop on Data-Driven Decision Guidance and Suppo
 rt Systems
URL:http://www.wikicfp.com/cfp/servlet/event.showcfp?eventid=25156&copyow
 nerid=41542
UID:cfp291243-N@wikicfp.com
END:VEVENT
BEGIN:VEVENT
DTSTAMP:20260420T165923Z
DTSTART;VALUE=DATE:20130119
DTEND;VALUE=DATE:20130121
SUMMARY:ICAMR 2013
DESCRIPTION:2013 3rd International Conference on Advanced Materials Resea
 rch
URL:http://www.wikicfp.com/cfp/servlet/event.showcfp?eventid=25158&copyow
 nerid=41542
UID:cfp291245-E@wikicfp.com
END:VEVENT
BEGIN:VEVENT
DTSTAMP:20260420T165923Z
DTSTART;VALUE=DATE:20121101
SUMMARY:ICAMR 2013 Deadline
DESCRIPTION:2013 3rd International Conference on Advanced Materials Resea
 rch
URL:http://www.wikicfp.com/cfp/servlet/event.showcfp?eventid=25158&copyow
 nerid=41542
UID:cfp291245-D@wikicfp.com
END:VEVENT
BEGIN:VEVENT
DTSTAMP:20260420T165923Z
DTSTART;VALUE=DATE:20121120
SUMMARY:ICAMR 2013 Notification Due
DESCRIPTION:2013 3rd International Conference on Advanced Materials Resea
 rch
URL:http://www.wikicfp.com/cfp/servlet/event.showcfp?eventid=25158&copyow
 nerid=41542
UID:cfp291245-N@wikicfp.com
END:VEVENT
BEGIN:VEVENT
DTSTAMP:20260420T165923Z
DTSTART;VALUE=DATE:20121215
SUMMARY:ICAMR 2013 Final Version Due
DESCRIPTION:2013 3rd International Conference on Advanced Materials Resea
 rch
URL:http://www.wikicfp.com/cfp/servlet/event.showcfp?eventid=25158&copyow
 nerid=41542
UID:cfp291245-N@wikicfp.com
END:VEVENT
BEGIN:VEVENT
DTSTAMP:20260420T165923Z
DTSTART;VALUE=DATE:20130119
DTEND;VALUE=DATE:20130121
SUMMARY:ICSRS 2013
DESCRIPTION:2013 International Conference on Scientific Research and Stud
 ies
URL:http://www.wikicfp.com/cfp/servlet/event.showcfp?eventid=25161&copyow
 nerid=41542
UID:cfp291248-E@wikicfp.com
END:VEVENT
BEGIN:VEVENT
DTSTAMP:20260420T165923Z
DTSTART;VALUE=DATE:20121101
SUMMARY:ICSRS 2013 Deadline
DESCRIPTION:2013 International Conference on Scientific Research and Stud
 ies
URL:http://www.wikicfp.com/cfp/servlet/event.showcfp?eventid=25161&copyow
 nerid=41542
UID:cfp291248-D@wikicfp.com
END:VEVENT
BEGIN:VEVENT
DTSTAMP:20260420T165923Z
DTSTART;VALUE=DATE:20121120
SUMMARY:ICSRS 2013 Notification Due
DESCRIPTION:2013 International Conference on Scientific Research and Stud
 ies
URL:http://www.wikicfp.com/cfp/servlet/event.showcfp?eventid=25161&copyow
 nerid=41542
UID:cfp291248-N@wikicfp.com
END:VEVENT
BEGIN:VEVENT
DTSTAMP:20260420T165923Z
DTSTART;VALUE=DATE:20121205
SUMMARY:ICSRS 2013 Final Version Due
DESCRIPTION:2013 International Conference on Scientific Research and Stud
 ies
URL:http://www.wikicfp.com/cfp/servlet/event.showcfp?eventid=25161&copyow
 nerid=41542
UID:cfp291248-N@wikicfp.com
END:VEVENT
BEGIN:VEVENT
DTSTAMP:20260420T165923Z
DTSTART;VALUE=DATE:20130417
DTEND;VALUE=DATE:20130420
SUMMARY:WiSec 2013
DESCRIPTION:The Sixth ACM Conference on Security and Privacy in Wireless 
 and Mobile Networks
URL:http://www.wikicfp.com/cfp/servlet/event.showcfp?eventid=25166&copyow
 nerid=41542
UID:cfp291250-E@wikicfp.com
END:VEVENT
BEGIN:VEVENT
DTSTAMP:20260420T165923Z
DTSTART;VALUE=DATE:20121111
SUMMARY:WiSec 2013 Deadline
DESCRIPTION:The Sixth ACM Conference on Security and Privacy in Wireless 
 and Mobile Networks
URL:http://www.wikicfp.com/cfp/servlet/event.showcfp?eventid=25166&copyow
 nerid=41542
UID:cfp291250-D@wikicfp.com
END:VEVENT
BEGIN:VEVENT
DTSTAMP:20260420T165923Z
DTSTART;VALUE=DATE:20130120
SUMMARY:WiSec 2013 Notification Due
DESCRIPTION:The Sixth ACM Conference on Security and Privacy in Wireless 
 and Mobile Networks
URL:http://www.wikicfp.com/cfp/servlet/event.showcfp?eventid=25166&copyow
 nerid=41542
UID:cfp291250-N@wikicfp.com
END:VEVENT
BEGIN:VEVENT
DTSTAMP:20260420T165923Z
DTSTART;VALUE=DATE:20130215
SUMMARY:WiSec 2013 Final Version Due
DESCRIPTION:The Sixth ACM Conference on Security and Privacy in Wireless 
 and Mobile Networks
URL:http://www.wikicfp.com/cfp/servlet/event.showcfp?eventid=25166&copyow
 nerid=41542
UID:cfp291250-N@wikicfp.com
END:VEVENT
BEGIN:VEVENT
DTSTAMP:20260420T165923Z
DTSTART;VALUE=DATE:20130402
DTEND;VALUE=DATE:20130406
SUMMARY:SBP 2013
DESCRIPTION:International Conference on Social Computing\, Behavioral-Cul
 tural Modeling\, & Prediction
URL:http://www.wikicfp.com/cfp/servlet/event.showcfp?eventid=25154&copyow
 nerid=41542
UID:cfp291241-E@wikicfp.com
END:VEVENT
BEGIN:VEVENT
DTSTAMP:20260420T165923Z
DTSTART;VALUE=DATE:20121106
SUMMARY:SBP 2013 Abstract Due
DESCRIPTION:International Conference on Social Computing\, Behavioral-Cul
 tural Modeling\, & Prediction
URL:http://www.wikicfp.com/cfp/servlet/event.showcfp?eventid=25154&copyow
 nerid=41542
UID:cfp291241-A@wikicfp.com
END:VEVENT
BEGIN:VEVENT
DTSTAMP:20260420T165923Z
DTSTART;VALUE=DATE:20121114
SUMMARY:SBP 2013 Deadline
DESCRIPTION:International Conference on Social Computing\, Behavioral-Cul
 tural Modeling\, & Prediction
URL:http://www.wikicfp.com/cfp/servlet/event.showcfp?eventid=25154&copyow
 nerid=41542
UID:cfp291241-D@wikicfp.com
END:VEVENT
BEGIN:VEVENT
DTSTAMP:20260420T165923Z
DTSTART;VALUE=DATE:20121220
SUMMARY:SBP 2013 Notification Due
DESCRIPTION:International Conference on Social Computing\, Behavioral-Cul
 tural Modeling\, & Prediction
URL:http://www.wikicfp.com/cfp/servlet/event.showcfp?eventid=25154&copyow
 nerid=41542
UID:cfp291241-N@wikicfp.com
END:VEVENT
BEGIN:VEVENT
DTSTAMP:20260420T165923Z
DTSTART;VALUE=DATE:20121115
SUMMARY:The IJHRL 2013 Deadline
DESCRIPTION:The Istanbul Journal of Human Rights Law
URL:http://www.wikicfp.com/cfp/servlet/event.showcfp?eventid=25150&copyow
 nerid=41542
UID:cfp291238-D@wikicfp.com
END:VEVENT
BEGIN:VEVENT
DTSTAMP:20260420T165923Z
DTSTART;VALUE=DATE:20130119
DTEND;VALUE=DATE:20130121
SUMMARY:ICLST 2013
DESCRIPTION:2013 3rd International Conference on Life Science and Technol
 ogy 
URL:http://www.wikicfp.com/cfp/servlet/event.showcfp?eventid=25157&copyow
 nerid=41542
UID:cfp291244-E@wikicfp.com
END:VEVENT
BEGIN:VEVENT
DTSTAMP:20260420T165923Z
DTSTART;VALUE=DATE:20121115
SUMMARY:ICLST 2013 Deadline
DESCRIPTION:2013 3rd International Conference on Life Science and Technol
 ogy 
URL:http://www.wikicfp.com/cfp/servlet/event.showcfp?eventid=25157&copyow
 nerid=41542
UID:cfp291244-D@wikicfp.com
END:VEVENT
BEGIN:VEVENT
DTSTAMP:20260420T165923Z
DTSTART;VALUE=DATE:20121205
SUMMARY:ICLST 2013 Notification Due
DESCRIPTION:2013 3rd International Conference on Life Science and Technol
 ogy 
URL:http://www.wikicfp.com/cfp/servlet/event.showcfp?eventid=25157&copyow
 nerid=41542
UID:cfp291244-N@wikicfp.com
END:VEVENT
BEGIN:VEVENT
DTSTAMP:20260420T165923Z
DTSTART;VALUE=DATE:20121225
SUMMARY:ICLST 2013 Final Version Due
DESCRIPTION:2013 3rd International Conference on Life Science and Technol
 ogy 
URL:http://www.wikicfp.com/cfp/servlet/event.showcfp?eventid=25157&copyow
 nerid=41542
UID:cfp291244-N@wikicfp.com
END:VEVENT
BEGIN:VEVENT
DTSTAMP:20260420T165923Z
DTSTART;VALUE=DATE:20130119
DTEND;VALUE=DATE:20130121
SUMMARY:ICCGE 2013
DESCRIPTION:2013 2nd International Conference on Clean and Green Energy 
URL:http://www.wikicfp.com/cfp/servlet/event.showcfp?eventid=25159&copyow
 nerid=41542
UID:cfp291246-E@wikicfp.com
END:VEVENT
BEGIN:VEVENT
DTSTAMP:20260420T165923Z
DTSTART;VALUE=DATE:20121115
SUMMARY:ICCGE 2013 Deadline
DESCRIPTION:2013 2nd International Conference on Clean and Green Energy 
URL:http://www.wikicfp.com/cfp/servlet/event.showcfp?eventid=25159&copyow
 nerid=41542
UID:cfp291246-D@wikicfp.com
END:VEVENT
BEGIN:VEVENT
DTSTAMP:20260420T165923Z
DTSTART;VALUE=DATE:20121205
SUMMARY:ICCGE 2013 Notification Due
DESCRIPTION:2013 2nd International Conference on Clean and Green Energy 
URL:http://www.wikicfp.com/cfp/servlet/event.showcfp?eventid=25159&copyow
 nerid=41542
UID:cfp291246-N@wikicfp.com
END:VEVENT
BEGIN:VEVENT
DTSTAMP:20260420T165923Z
DTSTART;VALUE=DATE:20121220
SUMMARY:ICCGE 2013 Final Version Due
DESCRIPTION:2013 2nd International Conference on Clean and Green Energy 
URL:http://www.wikicfp.com/cfp/servlet/event.showcfp?eventid=25159&copyow
 nerid=41542
UID:cfp291246-N@wikicfp.com
END:VEVENT
BEGIN:VEVENT
DTSTAMP:20260420T165923Z
DTSTART;VALUE=DATE:20130119
DTEND;VALUE=DATE:20130121
SUMMARY:ICESD 2013
DESCRIPTION:2013 4th International Conference on Environmental Science an
 d Development
URL:http://www.wikicfp.com/cfp/servlet/event.showcfp?eventid=25160&copyow
 nerid=41542
UID:cfp291247-E@wikicfp.com
END:VEVENT
BEGIN:VEVENT
DTSTAMP:20260420T165923Z
DTSTART;VALUE=DATE:20121115
SUMMARY:ICESD 2013 Deadline
DESCRIPTION:2013 4th International Conference on Environmental Science an
 d Development
URL:http://www.wikicfp.com/cfp/servlet/event.showcfp?eventid=25160&copyow
 nerid=41542
UID:cfp291247-D@wikicfp.com
END:VEVENT
BEGIN:VEVENT
DTSTAMP:20260420T165923Z
DTSTART;VALUE=DATE:20121201
SUMMARY:ICESD 2013 Notification Due
DESCRIPTION:2013 4th International Conference on Environmental Science an
 d Development
URL:http://www.wikicfp.com/cfp/servlet/event.showcfp?eventid=25160&copyow
 nerid=41542
UID:cfp291247-N@wikicfp.com
END:VEVENT
BEGIN:VEVENT
DTSTAMP:20260420T165923Z
DTSTART;VALUE=DATE:20121220
SUMMARY:ICESD 2013 Final Version Due
DESCRIPTION:2013 4th International Conference on Environmental Science an
 d Development
URL:http://www.wikicfp.com/cfp/servlet/event.showcfp?eventid=25160&copyow
 nerid=41542
UID:cfp291247-N@wikicfp.com
END:VEVENT
BEGIN:VEVENT
DTSTAMP:20260420T165923Z
DTSTART;VALUE=DATE:20130617
DTEND;VALUE=DATE:20130622
SUMMARY:IEA/AIE 2013
DESCRIPTION:The 26th International Conference on Industrial\, Engineering
  & Other Applications of Applied Intelligent Systems
URL:http://www.wikicfp.com/cfp/servlet/event.showcfp?eventid=25170&copyow
 nerid=41542
UID:cfp291253-E@wikicfp.com
END:VEVENT
BEGIN:VEVENT
DTSTAMP:20260420T165923Z
DTSTART;VALUE=DATE:20121123
SUMMARY:IEA/AIE 2013 Deadline
DESCRIPTION:The 26th International Conference on Industrial\, Engineering
  & Other Applications of Applied Intelligent Systems
URL:http://www.wikicfp.com/cfp/servlet/event.showcfp?eventid=25170&copyow
 nerid=41542
UID:cfp291253-D@wikicfp.com
END:VEVENT
BEGIN:VEVENT
DTSTAMP:20260420T165923Z
DTSTART;VALUE=DATE:20130206
SUMMARY:IEA/AIE 2013 Notification Due
DESCRIPTION:The 26th International Conference on Industrial\, Engineering
  & Other Applications of Applied Intelligent Systems
URL:http://www.wikicfp.com/cfp/servlet/event.showcfp?eventid=25170&copyow
 nerid=41542
UID:cfp291253-N@wikicfp.com
END:VEVENT
BEGIN:VEVENT
DTSTAMP:20260420T165923Z
DTSTART;VALUE=DATE:20130225
SUMMARY:IEA/AIE 2013 Final Version Due
DESCRIPTION:The 26th International Conference on Industrial\, Engineering
  & Other Applications of Applied Intelligent Systems
URL:http://www.wikicfp.com/cfp/servlet/event.showcfp?eventid=25170&copyow
 nerid=41542
UID:cfp291253-N@wikicfp.com
END:VEVENT
BEGIN:VEVENT
DTSTAMP:20260420T165923Z
DTSTART;VALUE=DATE:20130119
DTEND;VALUE=DATE:20130121
SUMMARY:ICIBM 2013
DESCRIPTION:2013 International Conference on Intelligent Building and Man
 agement
URL:http://www.wikicfp.com/cfp/servlet/event.showcfp?eventid=25162&copyow
 nerid=41542
UID:cfp291249-E@wikicfp.com
END:VEVENT
BEGIN:VEVENT
DTSTAMP:20260420T165923Z
DTSTART;VALUE=DATE:20121201
SUMMARY:ICIBM 2013 Deadline
DESCRIPTION:2013 International Conference on Intelligent Building and Man
 agement
URL:http://www.wikicfp.com/cfp/servlet/event.showcfp?eventid=25162&copyow
 nerid=41542
UID:cfp291249-D@wikicfp.com
END:VEVENT
BEGIN:VEVENT
DTSTAMP:20260420T165923Z
DTSTART;VALUE=DATE:20121225
SUMMARY:ICIBM 2013 Notification Due
DESCRIPTION:2013 International Conference on Intelligent Building and Man
 agement
URL:http://www.wikicfp.com/cfp/servlet/event.showcfp?eventid=25162&copyow
 nerid=41542
UID:cfp291249-N@wikicfp.com
END:VEVENT
BEGIN:VEVENT
DTSTAMP:20260420T165923Z
DTSTART;VALUE=DATE:20130115
SUMMARY:ICIBM 2013 Final Version Due
DESCRIPTION:2013 International Conference on Intelligent Building and Man
 agement
URL:http://www.wikicfp.com/cfp/servlet/event.showcfp?eventid=25162&copyow
 nerid=41542
UID:cfp291249-N@wikicfp.com
END:VEVENT
BEGIN:VEVENT
DTSTAMP:20260420T165923Z
DTSTART;VALUE=DATE:20130524
DTEND;VALUE=DATE:20130527
SUMMARY:SPPR 2013
DESCRIPTION:Second International Conference on Signal\, Image Processing 
 & Pattern Recognition 
URL:http://www.wikicfp.com/cfp/servlet/event.showcfp?eventid=25137&copyow
 nerid=41542
UID:cfp291237-E@wikicfp.com
END:VEVENT
BEGIN:VEVENT
DTSTAMP:20260420T165923Z
DTSTART;VALUE=DATE:20130104
SUMMARY:SPPR 2013 Deadline
DESCRIPTION:Second International Conference on Signal\, Image Processing 
 & Pattern Recognition 
URL:http://www.wikicfp.com/cfp/servlet/event.showcfp?eventid=25137&copyow
 nerid=41542
UID:cfp291237-D@wikicfp.com
END:VEVENT
BEGIN:VEVENT
DTSTAMP:20260420T165923Z
DTSTART;VALUE=DATE:20130130
SUMMARY:SPPR 2013 Notification Due
DESCRIPTION:Second International Conference on Signal\, Image Processing 
 & Pattern Recognition 
URL:http://www.wikicfp.com/cfp/servlet/event.showcfp?eventid=25137&copyow
 nerid=41542
UID:cfp291237-N@wikicfp.com
END:VEVENT
BEGIN:VEVENT
DTSTAMP:20260420T165923Z
DTSTART;VALUE=DATE:20130205
SUMMARY:SPPR 2013 Final Version Due
DESCRIPTION:Second International Conference on Signal\, Image Processing 
 & Pattern Recognition 
URL:http://www.wikicfp.com/cfp/servlet/event.showcfp?eventid=25137&copyow
 nerid=41542
UID:cfp291237-N@wikicfp.com
END:VEVENT
BEGIN:VEVENT
DTSTAMP:20260420T165923Z
DTSTART;VALUE=DATE:20130120
SUMMARY:IJCSIT 2012 Deadline
DESCRIPTION:International Journal of Computer Science & Information Techn
 ology 
URL:http://www.wikicfp.com/cfp/servlet/event.showcfp?eventid=24898&copyow
 nerid=41542
UID:cfp291236-D@wikicfp.com
END:VEVENT
BEGIN:VEVENT
DTSTAMP:20260420T165923Z
DTSTART;VALUE=DATE:20130220
SUMMARY:IJCSIT 2012 Notification Due
DESCRIPTION:International Journal of Computer Science & Information Techn
 ology 
URL:http://www.wikicfp.com/cfp/servlet/event.showcfp?eventid=24898&copyow
 nerid=41542
UID:cfp291236-N@wikicfp.com
END:VEVENT
BEGIN:VEVENT
DTSTAMP:20260420T165923Z
DTSTART;VALUE=DATE:20130223
SUMMARY:IJCSIT 2012 Final Version Due
DESCRIPTION:International Journal of Computer Science & Information Techn
 ology 
URL:http://www.wikicfp.com/cfp/servlet/event.showcfp?eventid=24898&copyow
 nerid=41542
UID:cfp291236-N@wikicfp.com
END:VEVENT
END:VCALENDAR
