BEGIN:VCALENDAR
PRODID:-//WikiCFP//cecidi 1.0//EN
VERSION:2.0
CALSCALE:GREGORIAN
BEGIN:VEVENT
DTSTAMP:20260419T141252Z
DTSTART;VALUE=DATE:20130602
DTEND;VALUE=DATE:20130606
SUMMARY:VTC Spring 2013
DESCRIPTION:2013 IEEE 77th Vehicular Technology Conference
URL:http://www.wikicfp.com/cfp/servlet/event.showcfp?eventid=25105&copyow
 nerid=41419
UID:cfp290472-E@wikicfp.com
END:VEVENT
BEGIN:VEVENT
DTSTAMP:20260419T141252Z
DTSTART;VALUE=DATE:20120930
SUMMARY:VTC Spring 2013 Deadline
DESCRIPTION:2013 IEEE 77th Vehicular Technology Conference
URL:http://www.wikicfp.com/cfp/servlet/event.showcfp?eventid=25105&copyow
 nerid=41419
UID:cfp290472-D@wikicfp.com
END:VEVENT
BEGIN:VEVENT
DTSTAMP:20260419T141252Z
DTSTART;VALUE=DATE:20130111
SUMMARY:VTC Spring 2013 Notification Due
DESCRIPTION:2013 IEEE 77th Vehicular Technology Conference
URL:http://www.wikicfp.com/cfp/servlet/event.showcfp?eventid=25105&copyow
 nerid=41419
UID:cfp290472-N@wikicfp.com
END:VEVENT
BEGIN:VEVENT
DTSTAMP:20260419T141252Z
DTSTART;VALUE=DATE:20130221
SUMMARY:VTC Spring 2013 Final Version Due
DESCRIPTION:2013 IEEE 77th Vehicular Technology Conference
URL:http://www.wikicfp.com/cfp/servlet/event.showcfp?eventid=25105&copyow
 nerid=41419
UID:cfp290472-N@wikicfp.com
END:VEVENT
BEGIN:VEVENT
DTSTAMP:20260419T141252Z
DTSTART;VALUE=DATE:20131209
DTEND;VALUE=DATE:20131214
SUMMARY:GLOBECOM 2013
DESCRIPTION:IEEE Global Communications Conference
URL:http://www.wikicfp.com/cfp/servlet/event.showcfp?eventid=13879&copyow
 nerid=41419
UID:cfp290478-E@wikicfp.com
END:VEVENT
BEGIN:VEVENT
DTSTAMP:20260419T141252Z
DTSTART;VALUE=DATE:20130329
SUMMARY:GLOBECOM 2013 Deadline
DESCRIPTION:IEEE Global Communications Conference
URL:http://www.wikicfp.com/cfp/servlet/event.showcfp?eventid=13879&copyow
 nerid=41419
UID:cfp290478-D@wikicfp.com
END:VEVENT
BEGIN:VEVENT
DTSTAMP:20260419T141252Z
DTSTART;VALUE=DATE:20130701
SUMMARY:GLOBECOM 2013 Notification Due
DESCRIPTION:IEEE Global Communications Conference
URL:http://www.wikicfp.com/cfp/servlet/event.showcfp?eventid=13879&copyow
 nerid=41419
UID:cfp290478-N@wikicfp.com
END:VEVENT
BEGIN:VEVENT
DTSTAMP:20260419T141252Z
DTSTART;VALUE=DATE:20130801
SUMMARY:GLOBECOM 2013 Final Version Due
DESCRIPTION:IEEE Global Communications Conference
URL:http://www.wikicfp.com/cfp/servlet/event.showcfp?eventid=13879&copyow
 nerid=41419
UID:cfp290478-N@wikicfp.com
END:VEVENT
BEGIN:VEVENT
DTSTAMP:20260419T141252Z
DTSTART;VALUE=DATE:20130827
DTEND;VALUE=DATE:20130831
SUMMARY:ISWCS 2013
DESCRIPTION:The Tenth International Symposium on Wireless Communication S
 ystems
URL:http://www.wikicfp.com/cfp/servlet/event.showcfp?eventid=27051&copyow
 nerid=41419
UID:cfp360233-E@wikicfp.com
END:VEVENT
BEGIN:VEVENT
DTSTAMP:20260419T141252Z
DTSTART;VALUE=DATE:20130331
SUMMARY:ISWCS 2013 Deadline
DESCRIPTION:The Tenth International Symposium on Wireless Communication S
 ystems
URL:http://www.wikicfp.com/cfp/servlet/event.showcfp?eventid=27051&copyow
 nerid=41419
UID:cfp360233-D@wikicfp.com
END:VEVENT
BEGIN:VEVENT
DTSTAMP:20260419T141252Z
DTSTART;VALUE=DATE:20130529
SUMMARY:ISWCS 2013 Notification Due
DESCRIPTION:The Tenth International Symposium on Wireless Communication S
 ystems
URL:http://www.wikicfp.com/cfp/servlet/event.showcfp?eventid=27051&copyow
 nerid=41419
UID:cfp360233-N@wikicfp.com
END:VEVENT
BEGIN:VEVENT
DTSTAMP:20260419T141252Z
DTSTART;VALUE=DATE:20130624
SUMMARY:ISWCS 2013 Final Version Due
DESCRIPTION:The Tenth International Symposium on Wireless Communication S
 ystems
URL:http://www.wikicfp.com/cfp/servlet/event.showcfp?eventid=27051&copyow
 nerid=41419
UID:cfp360233-N@wikicfp.com
END:VEVENT
BEGIN:VEVENT
DTSTAMP:20260419T141252Z
DTSTART;VALUE=DATE:20131007
DTEND;VALUE=DATE:20131010
SUMMARY:GROWN 2013
DESCRIPTION:The 1st International Workshop on GReen Optimized Wireless Ne
 tworks
URL:http://www.wikicfp.com/cfp/servlet/event.showcfp?eventid=30927&copyow
 nerid=41419
UID:cfp360236-E@wikicfp.com
END:VEVENT
BEGIN:VEVENT
DTSTAMP:20260419T141252Z
DTSTART;VALUE=DATE:20130630
SUMMARY:GROWN 2013 Deadline
DESCRIPTION:The 1st International Workshop on GReen Optimized Wireless Ne
 tworks
URL:http://www.wikicfp.com/cfp/servlet/event.showcfp?eventid=30927&copyow
 nerid=41419
UID:cfp360236-D@wikicfp.com
END:VEVENT
BEGIN:VEVENT
DTSTAMP:20260419T141252Z
DTSTART;VALUE=DATE:20130715
SUMMARY:GROWN 2013 Notification Due
DESCRIPTION:The 1st International Workshop on GReen Optimized Wireless Ne
 tworks
URL:http://www.wikicfp.com/cfp/servlet/event.showcfp?eventid=30927&copyow
 nerid=41419
UID:cfp360236-N@wikicfp.com
END:VEVENT
BEGIN:VEVENT
DTSTAMP:20260419T141252Z
DTSTART;VALUE=DATE:20130724
SUMMARY:GROWN 2013 Final Version Due
DESCRIPTION:The 1st International Workshop on GReen Optimized Wireless Ne
 tworks
URL:http://www.wikicfp.com/cfp/servlet/event.showcfp?eventid=30927&copyow
 nerid=41419
UID:cfp360236-N@wikicfp.com
END:VEVENT
BEGIN:VEVENT
DTSTAMP:20260419T141252Z
DTSTART;VALUE=DATE:20140427
DTEND;VALUE=DATE:20140503
SUMMARY:INFOCOM 2014
DESCRIPTION:The 33rd Annual IEEE International Conference on Computer Com
 munications
URL:http://www.wikicfp.com/cfp/servlet/event.showcfp?eventid=24373&copyow
 nerid=41419
UID:cfp360237-E@wikicfp.com
END:VEVENT
BEGIN:VEVENT
DTSTAMP:20260419T141252Z
DTSTART;VALUE=DATE:20130721
SUMMARY:INFOCOM 2014 Abstract Due
DESCRIPTION:The 33rd Annual IEEE International Conference on Computer Com
 munications
URL:http://www.wikicfp.com/cfp/servlet/event.showcfp?eventid=24373&copyow
 nerid=41419
UID:cfp360237-A@wikicfp.com
END:VEVENT
BEGIN:VEVENT
DTSTAMP:20260419T141252Z
DTSTART;VALUE=DATE:20130728
SUMMARY:INFOCOM 2014 Deadline
DESCRIPTION:The 33rd Annual IEEE International Conference on Computer Com
 munications
URL:http://www.wikicfp.com/cfp/servlet/event.showcfp?eventid=24373&copyow
 nerid=41419
UID:cfp360237-D@wikicfp.com
END:VEVENT
BEGIN:VEVENT
DTSTAMP:20260419T141252Z
DTSTART;VALUE=DATE:20131125
SUMMARY:INFOCOM 2014 Notification Due
DESCRIPTION:The 33rd Annual IEEE International Conference on Computer Com
 munications
URL:http://www.wikicfp.com/cfp/servlet/event.showcfp?eventid=24373&copyow
 nerid=41419
UID:cfp360237-N@wikicfp.com
END:VEVENT
BEGIN:VEVENT
DTSTAMP:20260419T141252Z
DTSTART;VALUE=DATE:20140610
DTEND;VALUE=DATE:20140615
SUMMARY:ICC 2014
DESCRIPTION:IEEE International Conference on Communications
URL:http://www.wikicfp.com/cfp/servlet/event.showcfp?eventid=29420&copyow
 nerid=41419
UID:cfp360230-E@wikicfp.com
END:VEVENT
BEGIN:VEVENT
DTSTAMP:20260419T141252Z
DTSTART;VALUE=DATE:20130930
SUMMARY:ICC 2014 Deadline
DESCRIPTION:IEEE International Conference on Communications
URL:http://www.wikicfp.com/cfp/servlet/event.showcfp?eventid=29420&copyow
 nerid=41419
UID:cfp360230-D@wikicfp.com
END:VEVENT
BEGIN:VEVENT
DTSTAMP:20260419T141252Z
DTSTART;VALUE=DATE:20140112
SUMMARY:ICC 2014 Notification Due
DESCRIPTION:IEEE International Conference on Communications
URL:http://www.wikicfp.com/cfp/servlet/event.showcfp?eventid=29420&copyow
 nerid=41419
UID:cfp360230-N@wikicfp.com
END:VEVENT
BEGIN:VEVENT
DTSTAMP:20260419T141252Z
DTSTART;VALUE=DATE:20140213
SUMMARY:ICC 2014 Final Version Due
DESCRIPTION:IEEE International Conference on Communications
URL:http://www.wikicfp.com/cfp/servlet/event.showcfp?eventid=29420&copyow
 nerid=41419
UID:cfp360230-N@wikicfp.com
END:VEVENT
BEGIN:VEVENT
DTSTAMP:20260419T141252Z
DTSTART;VALUE=DATE:20140406
DTEND;VALUE=DATE:20140410
SUMMARY:WCNC 2014
DESCRIPTION:IEEE Wireless Communications and Networking Conference (WCNC)
 
URL:http://www.wikicfp.com/cfp/servlet/event.showcfp?eventid=29923&copyow
 nerid=41419
UID:cfp360234-E@wikicfp.com
END:VEVENT
BEGIN:VEVENT
DTSTAMP:20260419T141252Z
DTSTART;VALUE=DATE:20131013
SUMMARY:WCNC 2014 Deadline
DESCRIPTION:IEEE Wireless Communications and Networking Conference (WCNC)
 
URL:http://www.wikicfp.com/cfp/servlet/event.showcfp?eventid=29923&copyow
 nerid=41419
UID:cfp360234-D@wikicfp.com
END:VEVENT
BEGIN:VEVENT
DTSTAMP:20260419T141252Z
DTSTART;VALUE=DATE:20131215
SUMMARY:WCNC 2014 Notification Due
DESCRIPTION:IEEE Wireless Communications and Networking Conference (WCNC)
 
URL:http://www.wikicfp.com/cfp/servlet/event.showcfp?eventid=29923&copyow
 nerid=41419
UID:cfp360234-N@wikicfp.com
END:VEVENT
BEGIN:VEVENT
DTSTAMP:20260419T141252Z
DTSTART;VALUE=DATE:20140112
SUMMARY:WCNC 2014 Final Version Due
DESCRIPTION:IEEE Wireless Communications and Networking Conference (WCNC)
 
URL:http://www.wikicfp.com/cfp/servlet/event.showcfp?eventid=29923&copyow
 nerid=41419
UID:cfp360234-N@wikicfp.com
END:VEVENT
BEGIN:VEVENT
DTSTAMP:20260419T141252Z
DTSTART;VALUE=DATE:20140504
DTEND;VALUE=DATE:20140510
SUMMARY:ICASSP 2014
DESCRIPTION:IEEE International Conference on Acoustics\, Speech and Signa
 l Processing
URL:http://www.wikicfp.com/cfp/servlet/event.showcfp?eventid=14048&copyow
 nerid=41419
UID:cfp290474-E@wikicfp.com
END:VEVENT
BEGIN:VEVENT
DTSTAMP:20260419T141252Z
DTSTART;VALUE=DATE:20131104
SUMMARY:ICASSP 2014 Deadline
DESCRIPTION:IEEE International Conference on Acoustics\, Speech and Signa
 l Processing
URL:http://www.wikicfp.com/cfp/servlet/event.showcfp?eventid=14048&copyow
 nerid=41419
UID:cfp290474-D@wikicfp.com
END:VEVENT
BEGIN:VEVENT
DTSTAMP:20260419T141252Z
DTSTART;VALUE=DATE:20140127
SUMMARY:ICASSP 2014 Notification Due
DESCRIPTION:IEEE International Conference on Acoustics\, Speech and Signa
 l Processing
URL:http://www.wikicfp.com/cfp/servlet/event.showcfp?eventid=14048&copyow
 nerid=41419
UID:cfp290474-N@wikicfp.com
END:VEVENT
BEGIN:VEVENT
DTSTAMP:20260419T141252Z
DTSTART;VALUE=DATE:20140307
SUMMARY:ICASSP 2014 Final Version Due
DESCRIPTION:IEEE International Conference on Acoustics\, Speech and Signa
 l Processing
URL:http://www.wikicfp.com/cfp/servlet/event.showcfp?eventid=14048&copyow
 nerid=41419
UID:cfp290474-N@wikicfp.com
END:VEVENT
BEGIN:VEVENT
DTSTAMP:20260419T141252Z
DTSTART;VALUE=DATE:20141208
DTEND;VALUE=DATE:20141213
SUMMARY:GLOBECOM 2014
DESCRIPTION:IEEE Global Communications Conference
URL:http://www.wikicfp.com/cfp/servlet/event.showcfp?eventid=18828&copyow
 nerid=41419
UID:cfp290479-E@wikicfp.com
END:VEVENT
BEGIN:VEVENT
DTSTAMP:20260419T141252Z
DTSTART;VALUE=DATE:20140401
SUMMARY:GLOBECOM 2014 Deadline
DESCRIPTION:IEEE Global Communications Conference
URL:http://www.wikicfp.com/cfp/servlet/event.showcfp?eventid=18828&copyow
 nerid=41419
UID:cfp290479-D@wikicfp.com
END:VEVENT
BEGIN:VEVENT
DTSTAMP:20260419T141252Z
DTSTART;VALUE=DATE:20140701
SUMMARY:GLOBECOM 2014 Notification Due
DESCRIPTION:IEEE Global Communications Conference
URL:http://www.wikicfp.com/cfp/servlet/event.showcfp?eventid=18828&copyow
 nerid=41419
UID:cfp290479-N@wikicfp.com
END:VEVENT
END:VCALENDAR
