BEGIN:VCALENDAR
PRODID:-//WikiCFP//nicknish 1.0//EN
VERSION:2.0
CALSCALE:GREGORIAN
BEGIN:VEVENT
DTSTAMP:20260422T092912Z
DTSTART;VALUE=DATE:20130304
DTEND;VALUE=DATE:20130307
SUMMARY:ISQED 2013
DESCRIPTION:14th International Symposium on Quality Electronic Design
URL:http://www.wikicfp.com/cfp/servlet/event.showcfp?eventid=25065&copyow
 nerid=41382
UID:cfp290246-E@wikicfp.com
END:VEVENT
BEGIN:VEVENT
DTSTAMP:20260422T092912Z
DTSTART;VALUE=DATE:20120912
SUMMARY:ISQED 2013 Deadline
DESCRIPTION:14th International Symposium on Quality Electronic Design
URL:http://www.wikicfp.com/cfp/servlet/event.showcfp?eventid=25065&copyow
 nerid=41382
UID:cfp290246-D@wikicfp.com
END:VEVENT
BEGIN:VEVENT
DTSTAMP:20260422T092912Z
DTSTART;VALUE=DATE:20121124
SUMMARY:ISQED 2013 Notification Due
DESCRIPTION:14th International Symposium on Quality Electronic Design
URL:http://www.wikicfp.com/cfp/servlet/event.showcfp?eventid=25065&copyow
 nerid=41382
UID:cfp290246-N@wikicfp.com
END:VEVENT
BEGIN:VEVENT
DTSTAMP:20260422T092912Z
DTSTART;VALUE=DATE:20130110
SUMMARY:ISQED 2013 Final Version Due
DESCRIPTION:14th International Symposium on Quality Electronic Design
URL:http://www.wikicfp.com/cfp/servlet/event.showcfp?eventid=25065&copyow
 nerid=41382
UID:cfp290246-N@wikicfp.com
END:VEVENT
BEGIN:VEVENT
DTSTAMP:20260422T092912Z
DTSTART;VALUE=DATE:20130413
DTEND;VALUE=DATE:20130419
SUMMARY:SBSR 2013
DESCRIPTION:XVI Brazilian Remote Sensing Symposium
URL:http://www.wikicfp.com/cfp/servlet/event.showcfp?eventid=25092&copyow
 nerid=41382
UID:cfp290245-E@wikicfp.com
END:VEVENT
BEGIN:VEVENT
DTSTAMP:20260422T092912Z
DTSTART;VALUE=DATE:20121110
SUMMARY:SBSR 2013 Deadline
DESCRIPTION:XVI Brazilian Remote Sensing Symposium
URL:http://www.wikicfp.com/cfp/servlet/event.showcfp?eventid=25092&copyow
 nerid=41382
UID:cfp290245-D@wikicfp.com
END:VEVENT
BEGIN:VEVENT
DTSTAMP:20260422T092912Z
DTSTART;VALUE=DATE:20130118
SUMMARY:SBSR 2013 Notification Due
DESCRIPTION:XVI Brazilian Remote Sensing Symposium
URL:http://www.wikicfp.com/cfp/servlet/event.showcfp?eventid=25092&copyow
 nerid=41382
UID:cfp290245-N@wikicfp.com
END:VEVENT
END:VCALENDAR
