BEGIN:VCALENDAR
PRODID:-//WikiCFP//suoyuanming 1.0//EN
VERSION:2.0
CALSCALE:GREGORIAN
BEGIN:VEVENT
DTSTAMP:20260421T003428Z
DTSTART;VALUE=DATE:20120812
DTEND;VALUE=DATE:20120817
SUMMARY:KDD 2012
DESCRIPTION:18th ACM SIGKDD Knowledge Discovery and Data Mining 
URL:http://www.wikicfp.com/cfp/servlet/event.showcfp?eventid=18347&copyow
 nerid=41307
UID:cfp289919-E@wikicfp.com
END:VEVENT
BEGIN:VEVENT
DTSTAMP:20260421T003428Z
DTSTART;VALUE=DATE:20120210
SUMMARY:KDD 2012 Deadline
DESCRIPTION:18th ACM SIGKDD Knowledge Discovery and Data Mining 
URL:http://www.wikicfp.com/cfp/servlet/event.showcfp?eventid=18347&copyow
 nerid=41307
UID:cfp289919-D@wikicfp.com
END:VEVENT
BEGIN:VEVENT
DTSTAMP:20260421T003428Z
DTSTART;VALUE=DATE:20120504
SUMMARY:KDD 2012 Notification Due
DESCRIPTION:18th ACM SIGKDD Knowledge Discovery and Data Mining 
URL:http://www.wikicfp.com/cfp/servlet/event.showcfp?eventid=18347&copyow
 nerid=41307
UID:cfp289919-N@wikicfp.com
END:VEVENT
BEGIN:VEVENT
DTSTAMP:20260421T003428Z
DTSTART;VALUE=DATE:20130623
DTEND;VALUE=DATE:20130629
SUMMARY:CVPR 2013
DESCRIPTION:26th IEEE Conference on Computer Vision and Pattern Recogniti
 on
URL:http://www.wikicfp.com/cfp/servlet/event.showcfp?eventid=22376&copyow
 nerid=41307
UID:cfp289913-E@wikicfp.com
END:VEVENT
BEGIN:VEVENT
DTSTAMP:20260421T003428Z
DTSTART;VALUE=DATE:20121115
SUMMARY:CVPR 2013 Deadline
DESCRIPTION:26th IEEE Conference on Computer Vision and Pattern Recogniti
 on
URL:http://www.wikicfp.com/cfp/servlet/event.showcfp?eventid=22376&copyow
 nerid=41307
UID:cfp289913-D@wikicfp.com
END:VEVENT
BEGIN:VEVENT
DTSTAMP:20260421T003428Z
DTSTART;VALUE=DATE:20130224
SUMMARY:CVPR 2013 Notification Due
DESCRIPTION:26th IEEE Conference on Computer Vision and Pattern Recogniti
 on
URL:http://www.wikicfp.com/cfp/servlet/event.showcfp?eventid=22376&copyow
 nerid=41307
UID:cfp289913-N@wikicfp.com
END:VEVENT
BEGIN:VEVENT
DTSTAMP:20260421T003428Z
DTSTART;VALUE=DATE:20130526
DTEND;VALUE=DATE:20130531
SUMMARY:ICASSP 2013
DESCRIPTION:The 38th IEEE International Conference on Acoustics\, Speech\
 , and Signal Processing
URL:http://www.wikicfp.com/cfp/servlet/event.showcfp?eventid=16216&copyow
 nerid=41307
UID:cfp289914-E@wikicfp.com
END:VEVENT
BEGIN:VEVENT
DTSTAMP:20260421T003428Z
DTSTART;VALUE=DATE:20121130
SUMMARY:ICASSP 2013 Deadline
DESCRIPTION:The 38th IEEE International Conference on Acoustics\, Speech\
 , and Signal Processing
URL:http://www.wikicfp.com/cfp/servlet/event.showcfp?eventid=16216&copyow
 nerid=41307
UID:cfp289914-D@wikicfp.com
END:VEVENT
BEGIN:VEVENT
DTSTAMP:20260421T003428Z
DTSTART;VALUE=DATE:20130218
SUMMARY:ICASSP 2013 Notification Due
DESCRIPTION:The 38th IEEE International Conference on Acoustics\, Speech\
 , and Signal Processing
URL:http://www.wikicfp.com/cfp/servlet/event.showcfp?eventid=16216&copyow
 nerid=41307
UID:cfp289914-N@wikicfp.com
END:VEVENT
BEGIN:VEVENT
DTSTAMP:20260421T003428Z
DTSTART;VALUE=DATE:20130318
SUMMARY:ICASSP 2013 Final Version Due
DESCRIPTION:The 38th IEEE International Conference on Acoustics\, Speech\
 , and Signal Processing
URL:http://www.wikicfp.com/cfp/servlet/event.showcfp?eventid=16216&copyow
 nerid=41307
UID:cfp289914-N@wikicfp.com
END:VEVENT
BEGIN:VEVENT
DTSTAMP:20260421T003428Z
DTSTART;VALUE=DATE:20130616
DTEND;VALUE=DATE:20130622
SUMMARY:ICML 2013
DESCRIPTION:The 30th International Conference on Machine Learning
URL:http://www.wikicfp.com/cfp/servlet/event.showcfp?eventid=25075&copyow
 nerid=41307
UID:cfp293880-E@wikicfp.com
END:VEVENT
BEGIN:VEVENT
DTSTAMP:20260421T003428Z
DTSTART;VALUE=DATE:20130215
SUMMARY:ICML 2013 Deadline
DESCRIPTION:The 30th International Conference on Machine Learning
URL:http://www.wikicfp.com/cfp/servlet/event.showcfp?eventid=25075&copyow
 nerid=41307
UID:cfp293880-D@wikicfp.com
END:VEVENT
BEGIN:VEVENT
DTSTAMP:20260421T003428Z
DTSTART;VALUE=DATE:20130415
SUMMARY:ICML 2013 Notification Due
DESCRIPTION:The 30th International Conference on Machine Learning
URL:http://www.wikicfp.com/cfp/servlet/event.showcfp?eventid=25075&copyow
 nerid=41307
UID:cfp293880-N@wikicfp.com
END:VEVENT
BEGIN:VEVENT
DTSTAMP:20260421T003428Z
DTSTART;VALUE=DATE:20130508
SUMMARY:ICML 2013 Final Version Due
DESCRIPTION:The 30th International Conference on Machine Learning
URL:http://www.wikicfp.com/cfp/servlet/event.showcfp?eventid=25075&copyow
 nerid=41307
UID:cfp293880-N@wikicfp.com
END:VEVENT
BEGIN:VEVENT
DTSTAMP:20260421T003428Z
DTSTART;VALUE=DATE:20131201
DTEND;VALUE=DATE:20131209
SUMMARY:ICCV 2013
DESCRIPTION:IEEE International Conference on Computer Vision
URL:http://www.wikicfp.com/cfp/servlet/event.showcfp?eventid=18583&copyow
 nerid=41307
UID:cfp366152-E@wikicfp.com
END:VEVENT
BEGIN:VEVENT
DTSTAMP:20260421T003428Z
DTSTART;VALUE=DATE:20130408
SUMMARY:ICCV 2013 Abstract Due
DESCRIPTION:IEEE International Conference on Computer Vision
URL:http://www.wikicfp.com/cfp/servlet/event.showcfp?eventid=18583&copyow
 nerid=41307
UID:cfp366152-A@wikicfp.com
END:VEVENT
BEGIN:VEVENT
DTSTAMP:20260421T003428Z
DTSTART;VALUE=DATE:20130412
SUMMARY:ICCV 2013 Deadline
DESCRIPTION:IEEE International Conference on Computer Vision
URL:http://www.wikicfp.com/cfp/servlet/event.showcfp?eventid=18583&copyow
 nerid=41307
UID:cfp366152-D@wikicfp.com
END:VEVENT
BEGIN:VEVENT
DTSTAMP:20260421T003428Z
DTSTART;VALUE=DATE:20131205
DTEND;VALUE=DATE:20131211
SUMMARY:NIPS 2013
DESCRIPTION:Neural Information Processing Systems Conference
URL:http://www.wikicfp.com/cfp/servlet/event.showcfp?eventid=21361&copyow
 nerid=41307
UID:cfp289915-E@wikicfp.com
END:VEVENT
BEGIN:VEVENT
DTSTAMP:20260421T003428Z
DTSTART;VALUE=DATE:20130531
SUMMARY:NIPS 2013 Deadline
DESCRIPTION:Neural Information Processing Systems Conference
URL:http://www.wikicfp.com/cfp/servlet/event.showcfp?eventid=21361&copyow
 nerid=41307
UID:cfp289915-D@wikicfp.com
END:VEVENT
END:VCALENDAR
