BEGIN:VCALENDAR
PRODID:-//WikiCFP//rpwkwcfp 1.0//EN
VERSION:2.0
CALSCALE:GREGORIAN
BEGIN:VEVENT
DTSTAMP:20260423T150636Z
DTSTART;VALUE=DATE:20150603
DTEND;VALUE=DATE:20150606
SUMMARY:Persuasive  2015
DESCRIPTION:The 10th International Conference on Persuasive Technology
URL:http://www.wikicfp.com/cfp/servlet/event.showcfp?eventid=39935&copyow
 nerid=41133
UID:cfp552075-E@wikicfp.com
END:VEVENT
BEGIN:VEVENT
DTSTAMP:20260423T150636Z
DTSTART;VALUE=DATE:20150112
SUMMARY:Persuasive  2015 Deadline
DESCRIPTION:The 10th International Conference on Persuasive Technology
URL:http://www.wikicfp.com/cfp/servlet/event.showcfp?eventid=39935&copyow
 nerid=41133
UID:cfp552075-D@wikicfp.com
END:VEVENT
BEGIN:VEVENT
DTSTAMP:20260423T150636Z
DTSTART;VALUE=DATE:20150223
SUMMARY:Persuasive  2015 Notification Due
DESCRIPTION:The 10th International Conference on Persuasive Technology
URL:http://www.wikicfp.com/cfp/servlet/event.showcfp?eventid=39935&copyow
 nerid=41133
UID:cfp552075-N@wikicfp.com
END:VEVENT
BEGIN:VEVENT
DTSTAMP:20260423T150636Z
DTSTART;VALUE=DATE:20150406
SUMMARY:Persuasive  2015 Final Version Due
DESCRIPTION:The 10th International Conference on Persuasive Technology
URL:http://www.wikicfp.com/cfp/servlet/event.showcfp?eventid=39935&copyow
 nerid=41133
UID:cfp552075-N@wikicfp.com
END:VEVENT
BEGIN:VEVENT
DTSTAMP:20260423T150636Z
DTSTART;VALUE=DATE:20160314
DTEND;VALUE=DATE:20160319
SUMMARY:PerCom 2016
DESCRIPTION:IEEE International Conference on Pervasive Computing and Comm
 unications
URL:http://www.wikicfp.com/cfp/servlet/event.showcfp?eventid=45785&copyow
 nerid=41133
UID:cfp532819-E@wikicfp.com
END:VEVENT
BEGIN:VEVENT
DTSTAMP:20260423T150636Z
DTSTART;VALUE=DATE:20150918
SUMMARY:PerCom 2016 Abstract Due
DESCRIPTION:IEEE International Conference on Pervasive Computing and Comm
 unications
URL:http://www.wikicfp.com/cfp/servlet/event.showcfp?eventid=45785&copyow
 nerid=41133
UID:cfp532819-A@wikicfp.com
END:VEVENT
BEGIN:VEVENT
DTSTAMP:20260423T150636Z
DTSTART;VALUE=DATE:20150925
SUMMARY:PerCom 2016 Deadline
DESCRIPTION:IEEE International Conference on Pervasive Computing and Comm
 unications
URL:http://www.wikicfp.com/cfp/servlet/event.showcfp?eventid=45785&copyow
 nerid=41133
UID:cfp532819-D@wikicfp.com
END:VEVENT
BEGIN:VEVENT
DTSTAMP:20260423T150636Z
DTSTART;VALUE=DATE:20151130
SUMMARY:PerCom 2016 Notification Due
DESCRIPTION:IEEE International Conference on Pervasive Computing and Comm
 unications
URL:http://www.wikicfp.com/cfp/servlet/event.showcfp?eventid=45785&copyow
 nerid=41133
UID:cfp532819-N@wikicfp.com
END:VEVENT
BEGIN:VEVENT
DTSTAMP:20260423T150636Z
DTSTART;VALUE=DATE:20160115
SUMMARY:PerCom 2016 Final Version Due
DESCRIPTION:IEEE International Conference on Pervasive Computing and Comm
 unications
URL:http://www.wikicfp.com/cfp/servlet/event.showcfp?eventid=45785&copyow
 nerid=41133
UID:cfp532819-N@wikicfp.com
END:VEVENT
BEGIN:VEVENT
DTSTAMP:20260423T150636Z
DTSTART;VALUE=DATE:20160419
DTEND;VALUE=DATE:20160423
SUMMARY:PAKDD 2016
DESCRIPTION:The 20th Pacific-Asia Conference on Knowledge Discovery and D
 ata Mining
URL:http://www.wikicfp.com/cfp/servlet/event.showcfp?eventid=47481&copyow
 nerid=41133
UID:cfp549529-E@wikicfp.com
END:VEVENT
BEGIN:VEVENT
DTSTAMP:20260423T150636Z
DTSTART;VALUE=DATE:20151002
SUMMARY:PAKDD 2016 Deadline
DESCRIPTION:The 20th Pacific-Asia Conference on Knowledge Discovery and D
 ata Mining
URL:http://www.wikicfp.com/cfp/servlet/event.showcfp?eventid=47481&copyow
 nerid=41133
UID:cfp549529-D@wikicfp.com
END:VEVENT
BEGIN:VEVENT
DTSTAMP:20260423T150636Z
DTSTART;VALUE=DATE:20151211
SUMMARY:PAKDD 2016 Notification Due
DESCRIPTION:The 20th Pacific-Asia Conference on Knowledge Discovery and D
 ata Mining
URL:http://www.wikicfp.com/cfp/servlet/event.showcfp?eventid=47481&copyow
 nerid=41133
UID:cfp549529-N@wikicfp.com
END:VEVENT
BEGIN:VEVENT
DTSTAMP:20260423T150636Z
DTSTART;VALUE=DATE:20160115
SUMMARY:PAKDD 2016 Final Version Due
DESCRIPTION:The 20th Pacific-Asia Conference on Knowledge Discovery and D
 ata Mining
URL:http://www.wikicfp.com/cfp/servlet/event.showcfp?eventid=47481&copyow
 nerid=41133
UID:cfp549529-N@wikicfp.com
END:VEVENT
BEGIN:VEVENT
DTSTAMP:20260423T150636Z
DTSTART;VALUE=DATE:20160307
DTEND;VALUE=DATE:20160311
SUMMARY:IUI  2016
DESCRIPTION:ACM International Conference on Intelligent User Interfaces
URL:http://www.wikicfp.com/cfp/servlet/event.showcfp?eventid=45655&copyow
 nerid=41133
UID:cfp552077-E@wikicfp.com
END:VEVENT
BEGIN:VEVENT
DTSTAMP:20260423T150636Z
DTSTART;VALUE=DATE:20151014
SUMMARY:IUI  2016 Deadline
DESCRIPTION:ACM International Conference on Intelligent User Interfaces
URL:http://www.wikicfp.com/cfp/servlet/event.showcfp?eventid=45655&copyow
 nerid=41133
UID:cfp552077-D@wikicfp.com
END:VEVENT
BEGIN:VEVENT
DTSTAMP:20260423T150636Z
DTSTART;VALUE=DATE:20160322
DTEND;VALUE=DATE:20160325
SUMMARY:PIS@WorldCist 2016
DESCRIPTION:Pervasive Information Systems
URL:http://www.wikicfp.com/cfp/servlet/event.showcfp?eventid=48607&copyow
 nerid=41133
UID:cfp553511-E@wikicfp.com
END:VEVENT
BEGIN:VEVENT
DTSTAMP:20260423T150636Z
DTSTART;VALUE=DATE:20151114
SUMMARY:PIS@WorldCist 2016 Deadline
DESCRIPTION:Pervasive Information Systems
URL:http://www.wikicfp.com/cfp/servlet/event.showcfp?eventid=48607&copyow
 nerid=41133
UID:cfp553511-D@wikicfp.com
END:VEVENT
BEGIN:VEVENT
DTSTAMP:20260423T150636Z
DTSTART;VALUE=DATE:20151213
SUMMARY:PIS@WorldCist 2016 Notification Due
DESCRIPTION:Pervasive Information Systems
URL:http://www.wikicfp.com/cfp/servlet/event.showcfp?eventid=48607&copyow
 nerid=41133
UID:cfp553511-N@wikicfp.com
END:VEVENT
BEGIN:VEVENT
DTSTAMP:20260423T150636Z
DTSTART;VALUE=DATE:20151227
SUMMARY:PIS@WorldCist 2016 Final Version Due
DESCRIPTION:Pervasive Information Systems
URL:http://www.wikicfp.com/cfp/servlet/event.showcfp?eventid=48607&copyow
 nerid=41133
UID:cfp553511-N@wikicfp.com
END:VEVENT
BEGIN:VEVENT
DTSTAMP:20260423T150636Z
DTSTART;VALUE=DATE:20160612
DTEND;VALUE=DATE:20160616
SUMMARY:ECIS 2016
DESCRIPTION:European Conference on Information Systems
URL:http://www.wikicfp.com/cfp/servlet/event.showcfp?eventid=47376&copyow
 nerid=41133
UID:cfp552076-E@wikicfp.com
END:VEVENT
BEGIN:VEVENT
DTSTAMP:20260423T150636Z
DTSTART;VALUE=DATE:20151127
SUMMARY:ECIS 2016 Deadline
DESCRIPTION:European Conference on Information Systems
URL:http://www.wikicfp.com/cfp/servlet/event.showcfp?eventid=47376&copyow
 nerid=41133
UID:cfp552076-D@wikicfp.com
END:VEVENT
BEGIN:VEVENT
DTSTAMP:20260423T150636Z
DTSTART;VALUE=DATE:20160423
DTEND;VALUE=DATE:20160426
SUMMARY:WEBIST  2016
DESCRIPTION:The 12th International Conference on Web Information Systems 
 and Technologies â WEBIST 2016
URL:http://www.wikicfp.com/cfp/servlet/event.showcfp?eventid=47277&copyow
 nerid=41133
UID:cfp549509-E@wikicfp.com
END:VEVENT
BEGIN:VEVENT
DTSTAMP:20260423T150636Z
DTSTART;VALUE=DATE:20151207
SUMMARY:WEBIST  2016 Deadline
DESCRIPTION:The 12th International Conference on Web Information Systems 
 and Technologies â WEBIST 2016
URL:http://www.wikicfp.com/cfp/servlet/event.showcfp?eventid=47277&copyow
 nerid=41133
UID:cfp549509-D@wikicfp.com
END:VEVENT
BEGIN:VEVENT
DTSTAMP:20260423T150636Z
DTSTART;VALUE=DATE:20160424
DTEND;VALUE=DATE:20160429
SUMMARY:ACHI  2016
DESCRIPTION:The Ninth International Conference on Advances in Computer-Hu
 man Interactions
URL:http://www.wikicfp.com/cfp/servlet/event.showcfp?eventid=45657&copyow
 nerid=41133
UID:cfp552002-E@wikicfp.com
END:VEVENT
BEGIN:VEVENT
DTSTAMP:20260423T150636Z
DTSTART;VALUE=DATE:20151208
SUMMARY:ACHI  2016 Deadline
DESCRIPTION:The Ninth International Conference on Advances in Computer-Hu
 man Interactions
URL:http://www.wikicfp.com/cfp/servlet/event.showcfp?eventid=45657&copyow
 nerid=41133
UID:cfp552002-D@wikicfp.com
END:VEVENT
BEGIN:VEVENT
DTSTAMP:20260423T150636Z
DTSTART;VALUE=DATE:20160813
DTEND;VALUE=DATE:20160818
SUMMARY:KDD 2016
DESCRIPTION:22nd ACM SIGKDD international conference on knowledge discove
 ry and data mining
URL:http://www.wikicfp.com/cfp/servlet/event.showcfp?eventid=48652&copyow
 nerid=41133
UID:cfp553501-E@wikicfp.com
END:VEVENT
BEGIN:VEVENT
DTSTAMP:20260423T150636Z
DTSTART;VALUE=DATE:20160212
SUMMARY:KDD 2016 Deadline
DESCRIPTION:22nd ACM SIGKDD international conference on knowledge discove
 ry and data mining
URL:http://www.wikicfp.com/cfp/servlet/event.showcfp?eventid=48652&copyow
 nerid=41133
UID:cfp553501-D@wikicfp.com
END:VEVENT
END:VCALENDAR
