BEGIN:VCALENDAR
PRODID:-//WikiCFP//agoeb 1.0//EN
VERSION:2.0
CALSCALE:GREGORIAN
BEGIN:VEVENT
DTSTAMP:20260419T231419Z
DTSTART;VALUE=DATE:20121112
DTEND;VALUE=DATE:20121113
SUMMARY:WoSQ 2012
DESCRIPTION:9th International Workshop on Software Quality
URL:http://www.wikicfp.com/cfp/servlet/event.showcfp?eventid=24736&copyow
 nerid=40780
UID:cfp287026-E@wikicfp.com
END:VEVENT
BEGIN:VEVENT
DTSTAMP:20260419T231419Z
DTSTART;VALUE=DATE:20120731
SUMMARY:WoSQ 2012 Deadline
DESCRIPTION:9th International Workshop on Software Quality
URL:http://www.wikicfp.com/cfp/servlet/event.showcfp?eventid=24736&copyow
 nerid=40780
UID:cfp287026-D@wikicfp.com
END:VEVENT
BEGIN:VEVENT
DTSTAMP:20260419T231419Z
DTSTART;VALUE=DATE:20120824
SUMMARY:WoSQ 2012 Notification Due
DESCRIPTION:9th International Workshop on Software Quality
URL:http://www.wikicfp.com/cfp/servlet/event.showcfp?eventid=24736&copyow
 nerid=40780
UID:cfp287026-N@wikicfp.com
END:VEVENT
BEGIN:VEVENT
DTSTAMP:20260419T231419Z
DTSTART;VALUE=DATE:20120907
SUMMARY:WoSQ 2012 Final Version Due
DESCRIPTION:9th International Workshop on Software Quality
URL:http://www.wikicfp.com/cfp/servlet/event.showcfp?eventid=24736&copyow
 nerid=40780
UID:cfp287026-N@wikicfp.com
END:VEVENT
BEGIN:VEVENT
DTSTAMP:20260419T231419Z
DTSTART;VALUE=DATE:20130226
DTEND;VALUE=DATE:20130302
SUMMARY:SE 2013
DESCRIPTION:Software Engineering 2013
URL:http://www.wikicfp.com/cfp/servlet/event.showcfp?eventid=25422&copyow
 nerid=40780
UID:cfp294477-E@wikicfp.com
END:VEVENT
BEGIN:VEVENT
DTSTAMP:20260419T231419Z
DTSTART;VALUE=DATE:20121007
SUMMARY:SE 2013 Abstract Due
DESCRIPTION:Software Engineering 2013
URL:http://www.wikicfp.com/cfp/servlet/event.showcfp?eventid=25422&copyow
 nerid=40780
UID:cfp294477-A@wikicfp.com
END:VEVENT
BEGIN:VEVENT
DTSTAMP:20260419T231419Z
DTSTART;VALUE=DATE:20121013
SUMMARY:SE 2013 Deadline
DESCRIPTION:Software Engineering 2013
URL:http://www.wikicfp.com/cfp/servlet/event.showcfp?eventid=25422&copyow
 nerid=40780
UID:cfp294477-D@wikicfp.com
END:VEVENT
BEGIN:VEVENT
DTSTAMP:20260419T231419Z
DTSTART;VALUE=DATE:20121117
SUMMARY:SE 2013 Notification Due
DESCRIPTION:Software Engineering 2013
URL:http://www.wikicfp.com/cfp/servlet/event.showcfp?eventid=25422&copyow
 nerid=40780
UID:cfp294477-N@wikicfp.com
END:VEVENT
BEGIN:VEVENT
DTSTAMP:20260419T231419Z
DTSTART;VALUE=DATE:20121201
SUMMARY:SE 2013 Final Version Due
DESCRIPTION:Software Engineering 2013
URL:http://www.wikicfp.com/cfp/servlet/event.showcfp?eventid=25422&copyow
 nerid=40780
UID:cfp294477-N@wikicfp.com
END:VEVENT
BEGIN:VEVENT
DTSTAMP:20260419T231419Z
DTSTART;VALUE=DATE:20130305
DTEND;VALUE=DATE:20130309
SUMMARY:CSMR 2013
DESCRIPTION:17th European Conference on Software Maintenance and Reengine
 ering
URL:http://www.wikicfp.com/cfp/servlet/event.showcfp?eventid=25647&copyow
 nerid=40780
UID:cfp303776-E@wikicfp.com
END:VEVENT
BEGIN:VEVENT
DTSTAMP:20260419T231419Z
DTSTART;VALUE=DATE:20121012
SUMMARY:CSMR 2013 Abstract Due
DESCRIPTION:17th European Conference on Software Maintenance and Reengine
 ering
URL:http://www.wikicfp.com/cfp/servlet/event.showcfp?eventid=25647&copyow
 nerid=40780
UID:cfp303776-A@wikicfp.com
END:VEVENT
BEGIN:VEVENT
DTSTAMP:20260419T231419Z
DTSTART;VALUE=DATE:20121019
SUMMARY:CSMR 2013 Deadline
DESCRIPTION:17th European Conference on Software Maintenance and Reengine
 ering
URL:http://www.wikicfp.com/cfp/servlet/event.showcfp?eventid=25647&copyow
 nerid=40780
UID:cfp303776-D@wikicfp.com
END:VEVENT
BEGIN:VEVENT
DTSTAMP:20260419T231419Z
DTSTART;VALUE=DATE:20121121
SUMMARY:CSMR 2013 Notification Due
DESCRIPTION:17th European Conference on Software Maintenance and Reengine
 ering
URL:http://www.wikicfp.com/cfp/servlet/event.showcfp?eventid=25647&copyow
 nerid=40780
UID:cfp303776-N@wikicfp.com
END:VEVENT
BEGIN:VEVENT
DTSTAMP:20260419T231419Z
DTSTART;VALUE=DATE:20130617
DTEND;VALUE=DATE:20130622
SUMMARY:CAISE 2013
DESCRIPTION:25th International Conference on Advanced Information Systems
  Engineering (CAiSE'13)
URL:http://www.wikicfp.com/cfp/servlet/event.showcfp?eventid=25195&copyow
 nerid=40780
UID:cfp294475-E@wikicfp.com
END:VEVENT
BEGIN:VEVENT
DTSTAMP:20260419T231419Z
DTSTART;VALUE=DATE:20121207
SUMMARY:CAISE 2013 Deadline
DESCRIPTION:25th International Conference on Advanced Information Systems
  Engineering (CAiSE'13)
URL:http://www.wikicfp.com/cfp/servlet/event.showcfp?eventid=25195&copyow
 nerid=40780
UID:cfp294475-D@wikicfp.com
END:VEVENT
BEGIN:VEVENT
DTSTAMP:20260419T231419Z
DTSTART;VALUE=DATE:20130217
SUMMARY:CAISE 2013 Notification Due
DESCRIPTION:25th International Conference on Advanced Information Systems
  Engineering (CAiSE'13)
URL:http://www.wikicfp.com/cfp/servlet/event.showcfp?eventid=25195&copyow
 nerid=40780
UID:cfp294475-N@wikicfp.com
END:VEVENT
BEGIN:VEVENT
DTSTAMP:20260419T231419Z
DTSTART;VALUE=DATE:20130414
DTEND;VALUE=DATE:20130417
SUMMARY:EASE 2013
DESCRIPTION:International Conference on Evaluation and Assessment in Soft
 ware Engineering
URL:http://www.wikicfp.com/cfp/servlet/event.showcfp?eventid=25428&copyow
 nerid=40780
UID:cfp303777-E@wikicfp.com
END:VEVENT
BEGIN:VEVENT
DTSTAMP:20260419T231419Z
DTSTART;VALUE=DATE:20121201
SUMMARY:EASE 2013 Abstract Due
DESCRIPTION:International Conference on Evaluation and Assessment in Soft
 ware Engineering
URL:http://www.wikicfp.com/cfp/servlet/event.showcfp?eventid=25428&copyow
 nerid=40780
UID:cfp303777-A@wikicfp.com
END:VEVENT
BEGIN:VEVENT
DTSTAMP:20260419T231419Z
DTSTART;VALUE=DATE:20121210
SUMMARY:EASE 2013 Deadline
DESCRIPTION:International Conference on Evaluation and Assessment in Soft
 ware Engineering
URL:http://www.wikicfp.com/cfp/servlet/event.showcfp?eventid=25428&copyow
 nerid=40780
UID:cfp303777-D@wikicfp.com
END:VEVENT
BEGIN:VEVENT
DTSTAMP:20260419T231419Z
DTSTART;VALUE=DATE:20130120
SUMMARY:EASE 2013 Notification Due
DESCRIPTION:International Conference on Evaluation and Assessment in Soft
 ware Engineering
URL:http://www.wikicfp.com/cfp/servlet/event.showcfp?eventid=25428&copyow
 nerid=40780
UID:cfp303777-N@wikicfp.com
END:VEVENT
BEGIN:VEVENT
DTSTAMP:20260419T231419Z
DTSTART;VALUE=DATE:20130310
SUMMARY:EASE 2013 Final Version Due
DESCRIPTION:International Conference on Evaluation and Assessment in Soft
 ware Engineering
URL:http://www.wikicfp.com/cfp/servlet/event.showcfp?eventid=25428&copyow
 nerid=40780
UID:cfp303777-N@wikicfp.com
END:VEVENT
BEGIN:VEVENT
DTSTAMP:20260419T231419Z
DTSTART;VALUE=DATE:20130701
DTEND;VALUE=DATE:20130704
SUMMARY:TASE 2013
DESCRIPTION:7th International Symposium on Theoretical Aspects of Softwar
 e Engineering
URL:http://www.wikicfp.com/cfp/servlet/event.showcfp?eventid=26089&copyow
 nerid=40780
UID:cfp303779-E@wikicfp.com
END:VEVENT
BEGIN:VEVENT
DTSTAMP:20260419T231419Z
DTSTART;VALUE=DATE:20130118
SUMMARY:TASE 2013 Abstract Due
DESCRIPTION:7th International Symposium on Theoretical Aspects of Softwar
 e Engineering
URL:http://www.wikicfp.com/cfp/servlet/event.showcfp?eventid=26089&copyow
 nerid=40780
UID:cfp303779-A@wikicfp.com
END:VEVENT
BEGIN:VEVENT
DTSTAMP:20260419T231419Z
DTSTART;VALUE=DATE:20130125
SUMMARY:TASE 2013 Deadline
DESCRIPTION:7th International Symposium on Theoretical Aspects of Softwar
 e Engineering
URL:http://www.wikicfp.com/cfp/servlet/event.showcfp?eventid=26089&copyow
 nerid=40780
UID:cfp303779-D@wikicfp.com
END:VEVENT
BEGIN:VEVENT
DTSTAMP:20260419T231419Z
DTSTART;VALUE=DATE:20130322
SUMMARY:TASE 2013 Notification Due
DESCRIPTION:7th International Symposium on Theoretical Aspects of Softwar
 e Engineering
URL:http://www.wikicfp.com/cfp/servlet/event.showcfp?eventid=26089&copyow
 nerid=40780
UID:cfp303779-N@wikicfp.com
END:VEVENT
BEGIN:VEVENT
DTSTAMP:20260419T231419Z
DTSTART;VALUE=DATE:20130426
SUMMARY:TASE 2013 Final Version Due
DESCRIPTION:7th International Symposium on Theoretical Aspects of Softwar
 e Engineering
URL:http://www.wikicfp.com/cfp/servlet/event.showcfp?eventid=26089&copyow
 nerid=40780
UID:cfp303779-N@wikicfp.com
END:VEVENT
BEGIN:VEVENT
DTSTAMP:20260419T231419Z
DTSTART;VALUE=DATE:20130821
DTEND;VALUE=DATE:20130824
SUMMARY:ESEC/FSE 2013
DESCRIPTION:9th joint meeting of the European Software Engineering Confer
 ence and the ACM SIGSOFT Symposium on the Foundations of Software Engine
 ering
URL:http://www.wikicfp.com/cfp/servlet/event.showcfp?eventid=24789&copyow
 nerid=40780
UID:cfp294476-E@wikicfp.com
END:VEVENT
BEGIN:VEVENT
DTSTAMP:20260419T231419Z
DTSTART;VALUE=DATE:20130301
SUMMARY:ESEC/FSE 2013 Deadline
DESCRIPTION:9th joint meeting of the European Software Engineering Confer
 ence and the ACM SIGSOFT Symposium on the Foundations of Software Engine
 ering
URL:http://www.wikicfp.com/cfp/servlet/event.showcfp?eventid=24789&copyow
 nerid=40780
UID:cfp294476-D@wikicfp.com
END:VEVENT
BEGIN:VEVENT
DTSTAMP:20260419T231419Z
DTSTART;VALUE=DATE:20130526
SUMMARY:ESEC/FSE 2013 Notification Due
DESCRIPTION:9th joint meeting of the European Software Engineering Confer
 ence and the ACM SIGSOFT Symposium on the Foundations of Software Engine
 ering
URL:http://www.wikicfp.com/cfp/servlet/event.showcfp?eventid=24789&copyow
 nerid=40780
UID:cfp294476-N@wikicfp.com
END:VEVENT
BEGIN:VEVENT
DTSTAMP:20260419T231419Z
DTSTART;VALUE=DATE:20130701
DTEND;VALUE=DATE:20130706
SUMMARY:ECSA 2013
DESCRIPTION:7th European Conference on Software Architecture 2013
URL:http://www.wikicfp.com/cfp/servlet/event.showcfp?eventid=25256&copyow
 nerid=40780
UID:cfp294474-E@wikicfp.com
END:VEVENT
BEGIN:VEVENT
DTSTAMP:20260419T231419Z
DTSTART;VALUE=DATE:20130224
SUMMARY:ECSA 2013 Abstract Due
DESCRIPTION:7th European Conference on Software Architecture 2013
URL:http://www.wikicfp.com/cfp/servlet/event.showcfp?eventid=25256&copyow
 nerid=40780
UID:cfp294474-A@wikicfp.com
END:VEVENT
BEGIN:VEVENT
DTSTAMP:20260419T231419Z
DTSTART;VALUE=DATE:20130303
SUMMARY:ECSA 2013 Deadline
DESCRIPTION:7th European Conference on Software Architecture 2013
URL:http://www.wikicfp.com/cfp/servlet/event.showcfp?eventid=25256&copyow
 nerid=40780
UID:cfp294474-D@wikicfp.com
END:VEVENT
BEGIN:VEVENT
DTSTAMP:20260419T231419Z
DTSTART;VALUE=DATE:20130406
SUMMARY:ECSA 2013 Notification Due
DESCRIPTION:7th European Conference on Software Architecture 2013
URL:http://www.wikicfp.com/cfp/servlet/event.showcfp?eventid=25256&copyow
 nerid=40780
UID:cfp294474-N@wikicfp.com
END:VEVENT
BEGIN:VEVENT
DTSTAMP:20260419T231419Z
DTSTART;VALUE=DATE:20130419
SUMMARY:ECSA 2013 Final Version Due
DESCRIPTION:7th European Conference on Software Architecture 2013
URL:http://www.wikicfp.com/cfp/servlet/event.showcfp?eventid=25256&copyow
 nerid=40780
UID:cfp294474-N@wikicfp.com
END:VEVENT
END:VCALENDAR
