BEGIN:VCALENDAR
PRODID:-//WikiCFP//darialarocca 1.0//EN
VERSION:2.0
CALSCALE:GREGORIAN
BEGIN:VEVENT
DTSTAMP:20260421T071058Z
DTSTART;VALUE=DATE:20120906
DTEND;VALUE=DATE:20120908
SUMMARY:BIOSIG 2012
DESCRIPTION:IEEE International Conference of the Biometrics Special Inter
 est Group
URL:http://www.wikicfp.com/cfp/servlet/event.showcfp?eventid=19797&copyow
 nerid=40672
UID:cfp286471-E@wikicfp.com
END:VEVENT
BEGIN:VEVENT
DTSTAMP:20260421T071058Z
DTSTART;VALUE=DATE:20120530
SUMMARY:BIOSIG 2012 Deadline
DESCRIPTION:IEEE International Conference of the Biometrics Special Inter
 est Group
URL:http://www.wikicfp.com/cfp/servlet/event.showcfp?eventid=19797&copyow
 nerid=40672
UID:cfp286471-D@wikicfp.com
END:VEVENT
BEGIN:VEVENT
DTSTAMP:20260421T071058Z
DTSTART;VALUE=DATE:20120630
SUMMARY:BIOSIG 2012 Notification Due
DESCRIPTION:IEEE International Conference of the Biometrics Special Inter
 est Group
URL:http://www.wikicfp.com/cfp/servlet/event.showcfp?eventid=19797&copyow
 nerid=40672
UID:cfp286471-N@wikicfp.com
END:VEVENT
BEGIN:VEVENT
DTSTAMP:20260421T071058Z
DTSTART;VALUE=DATE:20120731
SUMMARY:BIOSIG 2012 Final Version Due
DESCRIPTION:IEEE International Conference of the Biometrics Special Inter
 est Group
URL:http://www.wikicfp.com/cfp/servlet/event.showcfp?eventid=19797&copyow
 nerid=40672
UID:cfp286471-N@wikicfp.com
END:VEVENT
END:VCALENDAR
