BEGIN:VCALENDAR
PRODID:-//WikiCFP//azaliwski 1.0//EN
VERSION:2.0
CALSCALE:GREGORIAN
BEGIN:VEVENT
DTSTAMP:20260421T135815Z
DTSTART;VALUE=DATE:20111218
DTEND;VALUE=DATE:20111222
SUMMARY:HiPC 2011
DESCRIPTION:International Conference on High Performance Computing
URL:http://www.wikicfp.com/cfp/servlet/event.showcfp?eventid=14106&copyow
 nerid=40593
UID:cfp285956-E@wikicfp.com
END:VEVENT
BEGIN:VEVENT
DTSTAMP:20260421T135815Z
DTSTART;VALUE=DATE:20110523
SUMMARY:HiPC 2011 Deadline
DESCRIPTION:International Conference on High Performance Computing
URL:http://www.wikicfp.com/cfp/servlet/event.showcfp?eventid=14106&copyow
 nerid=40593
UID:cfp285956-D@wikicfp.com
END:VEVENT
BEGIN:VEVENT
DTSTAMP:20260421T135815Z
DTSTART;VALUE=DATE:20110718
SUMMARY:HiPC 2011 Notification Due
DESCRIPTION:International Conference on High Performance Computing
URL:http://www.wikicfp.com/cfp/servlet/event.showcfp?eventid=14106&copyow
 nerid=40593
UID:cfp285956-N@wikicfp.com
END:VEVENT
BEGIN:VEVENT
DTSTAMP:20260421T135815Z
DTSTART;VALUE=DATE:20110818
SUMMARY:HiPC 2011 Final Version Due
DESCRIPTION:International Conference on High Performance Computing
URL:http://www.wikicfp.com/cfp/servlet/event.showcfp?eventid=14106&copyow
 nerid=40593
UID:cfp285956-N@wikicfp.com
END:VEVENT
BEGIN:VEVENT
DTSTAMP:20260421T135815Z
DTSTART;VALUE=DATE:20111207
DTEND;VALUE=DATE:20111210
SUMMARY:ICPADS 2011
DESCRIPTION:IEEE 17th International Conference on Parallel and Distribute
 d Systems
URL:http://www.wikicfp.com/cfp/servlet/event.showcfp?eventid=14012&copyow
 nerid=40593
UID:cfp285955-E@wikicfp.com
END:VEVENT
BEGIN:VEVENT
DTSTAMP:20260421T135815Z
DTSTART;VALUE=DATE:20110624
SUMMARY:ICPADS 2011 Deadline
DESCRIPTION:IEEE 17th International Conference on Parallel and Distribute
 d Systems
URL:http://www.wikicfp.com/cfp/servlet/event.showcfp?eventid=14012&copyow
 nerid=40593
UID:cfp285955-D@wikicfp.com
END:VEVENT
BEGIN:VEVENT
DTSTAMP:20260421T135815Z
DTSTART;VALUE=DATE:20110905
SUMMARY:ICPADS 2011 Notification Due
DESCRIPTION:IEEE 17th International Conference on Parallel and Distribute
 d Systems
URL:http://www.wikicfp.com/cfp/servlet/event.showcfp?eventid=14012&copyow
 nerid=40593
UID:cfp285955-N@wikicfp.com
END:VEVENT
BEGIN:VEVENT
DTSTAMP:20260421T135815Z
DTSTART;VALUE=DATE:20111007
SUMMARY:ICPADS 2011 Final Version Due
DESCRIPTION:IEEE 17th International Conference on Parallel and Distribute
 d Systems
URL:http://www.wikicfp.com/cfp/servlet/event.showcfp?eventid=14012&copyow
 nerid=40593
UID:cfp285955-N@wikicfp.com
END:VEVENT
BEGIN:VEVENT
DTSTAMP:20260421T135815Z
DTSTART;VALUE=DATE:20110928
DTEND;VALUE=DATE:20111001
SUMMARY:Multicore-Challenge 2011
DESCRIPTION:Facing the Mulicore-Challenge II
URL:http://www.wikicfp.com/cfp/servlet/event.showcfp?eventid=16535&copyow
 nerid=40593
UID:cfp285957-E@wikicfp.com
END:VEVENT
BEGIN:VEVENT
DTSTAMP:20260421T135815Z
DTSTART;VALUE=DATE:20110717
SUMMARY:Multicore-Challenge 2011 Deadline
DESCRIPTION:Facing the Mulicore-Challenge II
URL:http://www.wikicfp.com/cfp/servlet/event.showcfp?eventid=16535&copyow
 nerid=40593
UID:cfp285957-D@wikicfp.com
END:VEVENT
BEGIN:VEVENT
DTSTAMP:20260421T135815Z
DTSTART;VALUE=DATE:20110828
SUMMARY:Multicore-Challenge 2011 Notification Due
DESCRIPTION:Facing the Mulicore-Challenge II
URL:http://www.wikicfp.com/cfp/servlet/event.showcfp?eventid=16535&copyow
 nerid=40593
UID:cfp285957-N@wikicfp.com
END:VEVENT
BEGIN:VEVENT
DTSTAMP:20260421T135815Z
DTSTART;VALUE=DATE:20110911
SUMMARY:Multicore-Challenge 2011 Final Version Due
DESCRIPTION:Facing the Mulicore-Challenge II
URL:http://www.wikicfp.com/cfp/servlet/event.showcfp?eventid=16535&copyow
 nerid=40593
UID:cfp285957-N@wikicfp.com
END:VEVENT
BEGIN:VEVENT
DTSTAMP:20260421T135815Z
DTSTART;VALUE=DATE:20120704
DTEND;VALUE=DATE:20120707
SUMMARY:ICPDC 2012
DESCRIPTION:The 2012 International Conference of Parallel and Distributed
  Computing
URL:http://www.wikicfp.com/cfp/servlet/event.showcfp?eventid=21507&copyow
 nerid=40593
UID:cfp285959-E@wikicfp.com
END:VEVENT
BEGIN:VEVENT
DTSTAMP:20260421T135815Z
DTSTART;VALUE=DATE:20120318
SUMMARY:ICPDC 2012 Deadline
DESCRIPTION:The 2012 International Conference of Parallel and Distributed
  Computing
URL:http://www.wikicfp.com/cfp/servlet/event.showcfp?eventid=21507&copyow
 nerid=40593
UID:cfp285959-D@wikicfp.com
END:VEVENT
BEGIN:VEVENT
DTSTAMP:20260421T135815Z
DTSTART;VALUE=DATE:20120331
SUMMARY:ICPDC 2012 Final Version Due
DESCRIPTION:The 2012 International Conference of Parallel and Distributed
  Computing
URL:http://www.wikicfp.com/cfp/servlet/event.showcfp?eventid=21507&copyow
 nerid=40593
UID:cfp285959-N@wikicfp.com
END:VEVENT
BEGIN:VEVENT
DTSTAMP:20260421T135815Z
DTSTART;VALUE=DATE:20120917
DTEND;VALUE=DATE:20120919
SUMMARY:ADPC 2012
DESCRIPTION:3RD ANNUAL INTERNATIONAL CONFERENCE ON ADVANCES IN DISTRIBUTE
 D AND PARALLEL COMPUTING (ADPC 2012
URL:http://www.wikicfp.com/cfp/servlet/event.showcfp?eventid=21958&copyow
 nerid=40593
UID:cfp285960-E@wikicfp.com
END:VEVENT
BEGIN:VEVENT
DTSTAMP:20260421T135815Z
DTSTART;VALUE=DATE:20120518
SUMMARY:ADPC 2012 Deadline
DESCRIPTION:3RD ANNUAL INTERNATIONAL CONFERENCE ON ADVANCES IN DISTRIBUTE
 D AND PARALLEL COMPUTING (ADPC 2012
URL:http://www.wikicfp.com/cfp/servlet/event.showcfp?eventid=21958&copyow
 nerid=40593
UID:cfp285960-D@wikicfp.com
END:VEVENT
BEGIN:VEVENT
DTSTAMP:20260421T135815Z
DTSTART;VALUE=DATE:20120629
SUMMARY:ADPC 2012 Final Version Due
DESCRIPTION:3RD ANNUAL INTERNATIONAL CONFERENCE ON ADVANCES IN DISTRIBUTE
 D AND PARALLEL COMPUTING (ADPC 2012
URL:http://www.wikicfp.com/cfp/servlet/event.showcfp?eventid=21958&copyow
 nerid=40593
UID:cfp285960-N@wikicfp.com
END:VEVENT
BEGIN:VEVENT
DTSTAMP:20260421T135815Z
DTSTART;VALUE=DATE:20121218
DTEND;VALUE=DATE:20121222
SUMMARY:HiPC 2012
DESCRIPTION:19th IEEE International Conference on High Performance Comput
 ing
URL:http://www.wikicfp.com/cfp/servlet/event.showcfp?eventid=22327&copyow
 nerid=40593
UID:cfp285961-E@wikicfp.com
END:VEVENT
BEGIN:VEVENT
DTSTAMP:20260421T135815Z
DTSTART;VALUE=DATE:20120531
SUMMARY:HiPC 2012 Deadline
DESCRIPTION:19th IEEE International Conference on High Performance Comput
 ing
URL:http://www.wikicfp.com/cfp/servlet/event.showcfp?eventid=22327&copyow
 nerid=40593
UID:cfp285961-D@wikicfp.com
END:VEVENT
BEGIN:VEVENT
DTSTAMP:20260421T135815Z
DTSTART;VALUE=DATE:20120731
SUMMARY:HiPC 2012 Notification Due
DESCRIPTION:19th IEEE International Conference on High Performance Comput
 ing
URL:http://www.wikicfp.com/cfp/servlet/event.showcfp?eventid=22327&copyow
 nerid=40593
UID:cfp285961-N@wikicfp.com
END:VEVENT
BEGIN:VEVENT
DTSTAMP:20260421T135815Z
DTSTART;VALUE=DATE:20120818
SUMMARY:HiPC 2012 Final Version Due
DESCRIPTION:19th IEEE International Conference on High Performance Comput
 ing
URL:http://www.wikicfp.com/cfp/servlet/event.showcfp?eventid=22327&copyow
 nerid=40593
UID:cfp285961-N@wikicfp.com
END:VEVENT
BEGIN:VEVENT
DTSTAMP:20260421T135815Z
DTSTART;VALUE=DATE:20121112
DTEND;VALUE=DATE:20121115
SUMMARY:3PGCIC 2012
DESCRIPTION:Seventh International Conference on P2P\, Parallel\, Grid\, C
 loud and Internet Computing
URL:http://www.wikicfp.com/cfp/servlet/event.showcfp?eventid=19490&copyow
 nerid=40593
UID:cfp285958-E@wikicfp.com
END:VEVENT
BEGIN:VEVENT
DTSTAMP:20260421T135815Z
DTSTART;VALUE=DATE:20120610
SUMMARY:3PGCIC 2012 Deadline
DESCRIPTION:Seventh International Conference on P2P\, Parallel\, Grid\, C
 loud and Internet Computing
URL:http://www.wikicfp.com/cfp/servlet/event.showcfp?eventid=19490&copyow
 nerid=40593
UID:cfp285958-D@wikicfp.com
END:VEVENT
BEGIN:VEVENT
DTSTAMP:20260421T135815Z
DTSTART;VALUE=DATE:20120630
SUMMARY:3PGCIC 2012 Notification Due
DESCRIPTION:Seventh International Conference on P2P\, Parallel\, Grid\, C
 loud and Internet Computing
URL:http://www.wikicfp.com/cfp/servlet/event.showcfp?eventid=19490&copyow
 nerid=40593
UID:cfp285958-N@wikicfp.com
END:VEVENT
BEGIN:VEVENT
DTSTAMP:20260421T135815Z
DTSTART;VALUE=DATE:20120803
SUMMARY:3PGCIC 2012 Final Version Due
DESCRIPTION:Seventh International Conference on P2P\, Parallel\, Grid\, C
 loud and Internet Computing
URL:http://www.wikicfp.com/cfp/servlet/event.showcfp?eventid=19490&copyow
 nerid=40593
UID:cfp285958-N@wikicfp.com
END:VEVENT
BEGIN:VEVENT
DTSTAMP:20260421T135815Z
DTSTART;VALUE=DATE:20120827
DTEND;VALUE=DATE:20120828
SUMMARY:HeteroPar 2012
DESCRIPTION:10th International Workshop on Algorithms\, Models and Tools 
 for Parallel Computing on Heterogeneous Platforms
URL:http://www.wikicfp.com/cfp/servlet/event.showcfp?eventid=23597&copyow
 nerid=40593
UID:cfp285963-E@wikicfp.com
END:VEVENT
BEGIN:VEVENT
DTSTAMP:20260421T135815Z
DTSTART;VALUE=DATE:20120628
SUMMARY:HeteroPar 2012 Deadline
DESCRIPTION:10th International Workshop on Algorithms\, Models and Tools 
 for Parallel Computing on Heterogeneous Platforms
URL:http://www.wikicfp.com/cfp/servlet/event.showcfp?eventid=23597&copyow
 nerid=40593
UID:cfp285963-D@wikicfp.com
END:VEVENT
BEGIN:VEVENT
DTSTAMP:20260421T135815Z
DTSTART;VALUE=DATE:20120723
SUMMARY:HeteroPar 2012 Notification Due
DESCRIPTION:10th International Workshop on Algorithms\, Models and Tools 
 for Parallel Computing on Heterogeneous Platforms
URL:http://www.wikicfp.com/cfp/servlet/event.showcfp?eventid=23597&copyow
 nerid=40593
UID:cfp285963-N@wikicfp.com
END:VEVENT
BEGIN:VEVENT
DTSTAMP:20260421T135815Z
DTSTART;VALUE=DATE:20121015
SUMMARY:HeteroPar 2012 Final Version Due
DESCRIPTION:10th International Workshop on Algorithms\, Models and Tools 
 for Parallel Computing on Heterogeneous Platforms
URL:http://www.wikicfp.com/cfp/servlet/event.showcfp?eventid=23597&copyow
 nerid=40593
UID:cfp285963-N@wikicfp.com
END:VEVENT
BEGIN:VEVENT
DTSTAMP:20260421T135815Z
DTSTART;VALUE=DATE:20120927
DTEND;VALUE=DATE:20120930
SUMMARY:WoHS 2012
DESCRIPTION:Workshop on HPC Services
URL:http://www.wikicfp.com/cfp/servlet/event.showcfp?eventid=24503&copyow
 nerid=40593
UID:cfp285966-E@wikicfp.com
END:VEVENT
BEGIN:VEVENT
DTSTAMP:20260421T135815Z
DTSTART;VALUE=DATE:20120720
SUMMARY:WoHS 2012 Deadline
DESCRIPTION:Workshop on HPC Services
URL:http://www.wikicfp.com/cfp/servlet/event.showcfp?eventid=24503&copyow
 nerid=40593
UID:cfp285966-D@wikicfp.com
END:VEVENT
BEGIN:VEVENT
DTSTAMP:20260421T135815Z
DTSTART;VALUE=DATE:20120815
SUMMARY:WoHS 2012 Notification Due
DESCRIPTION:Workshop on HPC Services
URL:http://www.wikicfp.com/cfp/servlet/event.showcfp?eventid=24503&copyow
 nerid=40593
UID:cfp285966-N@wikicfp.com
END:VEVENT
BEGIN:VEVENT
DTSTAMP:20260421T135815Z
DTSTART;VALUE=DATE:20120901
SUMMARY:WoHS 2012 Final Version Due
DESCRIPTION:Workshop on HPC Services
URL:http://www.wikicfp.com/cfp/servlet/event.showcfp?eventid=24503&copyow
 nerid=40593
UID:cfp285966-N@wikicfp.com
END:VEVENT
BEGIN:VEVENT
DTSTAMP:20260421T135815Z
DTSTART;VALUE=DATE:20121205
DTEND;VALUE=DATE:20121208
SUMMARY:PDAA 2012
DESCRIPTION:4th International Workshop on Parallel and Distributed Algori
 thms and Applications
URL:http://www.wikicfp.com/cfp/servlet/event.showcfp?eventid=24496&copyow
 nerid=40593
UID:cfp285964-E@wikicfp.com
END:VEVENT
BEGIN:VEVENT
DTSTAMP:20260421T135815Z
DTSTART;VALUE=DATE:20120820
SUMMARY:PDAA 2012 Deadline
DESCRIPTION:4th International Workshop on Parallel and Distributed Algori
 thms and Applications
URL:http://www.wikicfp.com/cfp/servlet/event.showcfp?eventid=24496&copyow
 nerid=40593
UID:cfp285964-D@wikicfp.com
END:VEVENT
BEGIN:VEVENT
DTSTAMP:20260421T135815Z
DTSTART;VALUE=DATE:20120910
SUMMARY:PDAA 2012 Notification Due
DESCRIPTION:4th International Workshop on Parallel and Distributed Algori
 thms and Applications
URL:http://www.wikicfp.com/cfp/servlet/event.showcfp?eventid=24496&copyow
 nerid=40593
UID:cfp285964-N@wikicfp.com
END:VEVENT
BEGIN:VEVENT
DTSTAMP:20260421T135815Z
DTSTART;VALUE=DATE:20120921
SUMMARY:PDAA 2012 Final Version Due
DESCRIPTION:4th International Workshop on Parallel and Distributed Algori
 thms and Applications
URL:http://www.wikicfp.com/cfp/servlet/event.showcfp?eventid=24496&copyow
 nerid=40593
UID:cfp285964-N@wikicfp.com
END:VEVENT
BEGIN:VEVENT
DTSTAMP:20260421T135815Z
DTSTART;VALUE=DATE:20121112
DTEND;VALUE=DATE:20121115
SUMMARY:PDCS 2012
DESCRIPTION:Parallel and Distributed Computing and Systems
URL:http://www.wikicfp.com/cfp/servlet/event.showcfp?eventid=22613&copyow
 nerid=40593
UID:cfp285962-E@wikicfp.com
END:VEVENT
BEGIN:VEVENT
DTSTAMP:20260421T135815Z
DTSTART;VALUE=DATE:20120907
SUMMARY:PDCS 2012 Deadline
DESCRIPTION:Parallel and Distributed Computing and Systems
URL:http://www.wikicfp.com/cfp/servlet/event.showcfp?eventid=22613&copyow
 nerid=40593
UID:cfp285962-D@wikicfp.com
END:VEVENT
BEGIN:VEVENT
DTSTAMP:20260421T135815Z
DTSTART;VALUE=DATE:20121206
DTEND;VALUE=DATE:20121209
SUMMARY:IEEE PDGC 2012
DESCRIPTION:The Second IEEE International Conference on Parallel\, Distri
 buted and Grid Computing
URL:http://www.wikicfp.com/cfp/servlet/event.showcfp?eventid=24541&copyow
 nerid=40593
UID:cfp285965-E@wikicfp.com
END:VEVENT
BEGIN:VEVENT
DTSTAMP:20260421T135815Z
DTSTART;VALUE=DATE:20120915
SUMMARY:IEEE PDGC 2012 Deadline
DESCRIPTION:The Second IEEE International Conference on Parallel\, Distri
 buted and Grid Computing
URL:http://www.wikicfp.com/cfp/servlet/event.showcfp?eventid=24541&copyow
 nerid=40593
UID:cfp285965-D@wikicfp.com
END:VEVENT
BEGIN:VEVENT
DTSTAMP:20260421T135815Z
DTSTART;VALUE=DATE:20120930
SUMMARY:IEEE PDGC 2012 Notification Due
DESCRIPTION:The Second IEEE International Conference on Parallel\, Distri
 buted and Grid Computing
URL:http://www.wikicfp.com/cfp/servlet/event.showcfp?eventid=24541&copyow
 nerid=40593
UID:cfp285965-N@wikicfp.com
END:VEVENT
BEGIN:VEVENT
DTSTAMP:20260421T135815Z
DTSTART;VALUE=DATE:20121015
SUMMARY:IEEE PDGC 2012 Final Version Due
DESCRIPTION:The Second IEEE International Conference on Parallel\, Distri
 buted and Grid Computing
URL:http://www.wikicfp.com/cfp/servlet/event.showcfp?eventid=24541&copyow
 nerid=40593
UID:cfp285965-N@wikicfp.com
END:VEVENT
END:VCALENDAR
