BEGIN:VCALENDAR
PRODID:-//WikiCFP//nicolasgold 1.0//EN
VERSION:2.0
CALSCALE:GREGORIAN
BEGIN:VEVENT
DTSTAMP:20260421T103837Z
DTSTART;VALUE=DATE:20120909
DTEND;VALUE=DATE:20120916
SUMMARY:ICMC 2012
DESCRIPTION:International Computer Music Conference (ICMC) 2012
URL:http://www.wikicfp.com/cfp/servlet/event.showcfp?eventid=20057&copyow
 nerid=40468
UID:cfp284933-E@wikicfp.com
END:VEVENT
BEGIN:VEVENT
DTSTAMP:20260421T103837Z
DTSTART;VALUE=DATE:20120215
SUMMARY:ICMC 2012 Deadline
DESCRIPTION:International Computer Music Conference (ICMC) 2012
URL:http://www.wikicfp.com/cfp/servlet/event.showcfp?eventid=20057&copyow
 nerid=40468
UID:cfp284933-D@wikicfp.com
END:VEVENT
BEGIN:VEVENT
DTSTAMP:20260421T103837Z
DTSTART;VALUE=DATE:20120501
SUMMARY:ICMC 2012 Notification Due
DESCRIPTION:International Computer Music Conference (ICMC) 2012
URL:http://www.wikicfp.com/cfp/servlet/event.showcfp?eventid=20057&copyow
 nerid=40468
UID:cfp284933-N@wikicfp.com
END:VEVENT
BEGIN:VEVENT
DTSTAMP:20260421T103837Z
DTSTART;VALUE=DATE:20120601
SUMMARY:ICMC 2012 Final Version Due
DESCRIPTION:International Computer Music Conference (ICMC) 2012
URL:http://www.wikicfp.com/cfp/servlet/event.showcfp?eventid=20057&copyow
 nerid=40468
UID:cfp284933-N@wikicfp.com
END:VEVENT
END:VCALENDAR
