BEGIN:VCALENDAR
PRODID:-//WikiCFP//dhakree 1.0//EN
VERSION:2.0
CALSCALE:GREGORIAN
BEGIN:VEVENT
DTSTAMP:20260420T115136Z
DTSTART;VALUE=DATE:20120908
DTEND;VALUE=DATE:20120910
SUMMARY:SFK 2012
DESCRIPTION:Software Freedom Kosova 2012
URL:http://www.wikicfp.com/cfp/servlet/event.showcfp?eventid=24361&copyow
 nerid=40126
UID:cfp282778-E@wikicfp.com
END:VEVENT
BEGIN:VEVENT
DTSTAMP:20260420T115136Z
DTSTART;VALUE=DATE:20120320
DTEND;VALUE=DATE:20120321
SUMMARY:APG PMC 2013
DESCRIPTION:Association of Professional Genealogists PMC 2013
URL:http://www.wikicfp.com/cfp/servlet/event.showcfp?eventid=24370&copyow
 nerid=40126
UID:cfp282785-E@wikicfp.com
END:VEVENT
BEGIN:VEVENT
DTSTAMP:20260420T115136Z
DTSTART;VALUE=DATE:20120715
SUMMARY:APG PMC 2013 Deadline
DESCRIPTION:Association of Professional Genealogists PMC 2013
URL:http://www.wikicfp.com/cfp/servlet/event.showcfp?eventid=24370&copyow
 nerid=40126
UID:cfp282785-D@wikicfp.com
END:VEVENT
BEGIN:VEVENT
DTSTAMP:20260420T115136Z
DTSTART;VALUE=DATE:20120918
DTEND;VALUE=DATE:20120922
SUMMARY:MLCW-ECTEL 2012
DESCRIPTION:Mobile Learning and Creativity Workshop (MLCW12): Fostering C
 reative Learning with Mobile Technologies
URL:http://www.wikicfp.com/cfp/servlet/event.showcfp?eventid=24359&copyow
 nerid=40126
UID:cfp282776-E@wikicfp.com
END:VEVENT
BEGIN:VEVENT
DTSTAMP:20260420T115136Z
DTSTART;VALUE=DATE:20120716
SUMMARY:MLCW-ECTEL 2012 Deadline
DESCRIPTION:Mobile Learning and Creativity Workshop (MLCW12): Fostering C
 reative Learning with Mobile Technologies
URL:http://www.wikicfp.com/cfp/servlet/event.showcfp?eventid=24359&copyow
 nerid=40126
UID:cfp282776-D@wikicfp.com
END:VEVENT
BEGIN:VEVENT
DTSTAMP:20260420T115136Z
DTSTART;VALUE=DATE:20121222
DTEND;VALUE=DATE:20121225
SUMMARY:NETCOM 2012
DESCRIPTION:The Fourth International Conference on Networks & Communicati
 ons
URL:http://www.wikicfp.com/cfp/servlet/event.showcfp?eventid=23766&copyow
 nerid=40126
UID:cfp282771-E@wikicfp.com
END:VEVENT
BEGIN:VEVENT
DTSTAMP:20260420T115136Z
DTSTART;VALUE=DATE:20120720
SUMMARY:NETCOM 2012 Deadline
DESCRIPTION:The Fourth International Conference on Networks & Communicati
 ons
URL:http://www.wikicfp.com/cfp/servlet/event.showcfp?eventid=23766&copyow
 nerid=40126
UID:cfp282771-D@wikicfp.com
END:VEVENT
BEGIN:VEVENT
DTSTAMP:20260420T115136Z
DTSTART;VALUE=DATE:20120910
SUMMARY:NETCOM 2012 Notification Due
DESCRIPTION:The Fourth International Conference on Networks & Communicati
 ons
URL:http://www.wikicfp.com/cfp/servlet/event.showcfp?eventid=23766&copyow
 nerid=40126
UID:cfp282771-N@wikicfp.com
END:VEVENT
BEGIN:VEVENT
DTSTAMP:20260420T115136Z
DTSTART;VALUE=DATE:20121007
SUMMARY:NETCOM 2012 Final Version Due
DESCRIPTION:The Fourth International Conference on Networks & Communicati
 ons
URL:http://www.wikicfp.com/cfp/servlet/event.showcfp?eventid=23766&copyow
 nerid=40126
UID:cfp282771-N@wikicfp.com
END:VEVENT
BEGIN:VEVENT
DTSTAMP:20260420T115136Z
DTSTART;VALUE=DATE:20121014
DTEND;VALUE=DATE:20121015
SUMMARY:TrustCol 2012
DESCRIPTION:The 7th IEEE International Workshop on Trusted Collaboration
URL:http://www.wikicfp.com/cfp/servlet/event.showcfp?eventid=24365&copyow
 nerid=40126
UID:cfp282782-E@wikicfp.com
END:VEVENT
BEGIN:VEVENT
DTSTAMP:20260420T115136Z
DTSTART;VALUE=DATE:20120727
SUMMARY:TrustCol 2012 Deadline
DESCRIPTION:The 7th IEEE International Workshop on Trusted Collaboration
URL:http://www.wikicfp.com/cfp/servlet/event.showcfp?eventid=24365&copyow
 nerid=40126
UID:cfp282782-D@wikicfp.com
END:VEVENT
BEGIN:VEVENT
DTSTAMP:20260420T115136Z
DTSTART;VALUE=DATE:20121029
DTEND;VALUE=DATE:20121031
SUMMARY:CTC 2012
DESCRIPTION:3rd Cybercrime and Trustworthy Computing Workshop
URL:http://www.wikicfp.com/cfp/servlet/event.showcfp?eventid=24375&copyow
 nerid=40126
UID:cfp282790-E@wikicfp.com
END:VEVENT
BEGIN:VEVENT
DTSTAMP:20260420T115136Z
DTSTART;VALUE=DATE:20120803
SUMMARY:CTC 2012 Deadline
DESCRIPTION:3rd Cybercrime and Trustworthy Computing Workshop
URL:http://www.wikicfp.com/cfp/servlet/event.showcfp?eventid=24375&copyow
 nerid=40126
UID:cfp282790-D@wikicfp.com
END:VEVENT
BEGIN:VEVENT
DTSTAMP:20260420T115136Z
DTSTART;VALUE=DATE:20120817
SUMMARY:CTC 2012 Notification Due
DESCRIPTION:3rd Cybercrime and Trustworthy Computing Workshop
URL:http://www.wikicfp.com/cfp/servlet/event.showcfp?eventid=24375&copyow
 nerid=40126
UID:cfp282790-N@wikicfp.com
END:VEVENT
BEGIN:VEVENT
DTSTAMP:20260420T115136Z
DTSTART;VALUE=DATE:20120831
SUMMARY:CTC 2012 Final Version Due
DESCRIPTION:3rd Cybercrime and Trustworthy Computing Workshop
URL:http://www.wikicfp.com/cfp/servlet/event.showcfp?eventid=24375&copyow
 nerid=40126
UID:cfp282790-N@wikicfp.com
END:VEVENT
BEGIN:VEVENT
DTSTAMP:20260420T115136Z
DTSTART;VALUE=DATE:20121210
DTEND;VALUE=DATE:20121211
SUMMARY:KDCloud 2012
DESCRIPTION:The 2nd International Workshop on Knowledge Discovery Using C
 loud and Distributed Computing Platforms
URL:http://www.wikicfp.com/cfp/servlet/event.showcfp?eventid=24364&copyow
 nerid=40126
UID:cfp282781-E@wikicfp.com
END:VEVENT
BEGIN:VEVENT
DTSTAMP:20260420T115136Z
DTSTART;VALUE=DATE:20120810
SUMMARY:KDCloud 2012 Deadline
DESCRIPTION:The 2nd International Workshop on Knowledge Discovery Using C
 loud and Distributed Computing Platforms
URL:http://www.wikicfp.com/cfp/servlet/event.showcfp?eventid=24364&copyow
 nerid=40126
UID:cfp282781-D@wikicfp.com
END:VEVENT
BEGIN:VEVENT
DTSTAMP:20260420T115136Z
DTSTART;VALUE=DATE:20120820
SUMMARY:IJWMN 2012 Deadline
DESCRIPTION:International Journal of Wireless & Mobile Networks
URL:http://www.wikicfp.com/cfp/servlet/event.showcfp?eventid=23486&copyow
 nerid=40126
UID:cfp282770-D@wikicfp.com
END:VEVENT
BEGIN:VEVENT
DTSTAMP:20260420T115136Z
DTSTART;VALUE=DATE:20120920
SUMMARY:IJWMN 2012 Notification Due
DESCRIPTION:International Journal of Wireless & Mobile Networks
URL:http://www.wikicfp.com/cfp/servlet/event.showcfp?eventid=23486&copyow
 nerid=40126
UID:cfp282770-N@wikicfp.com
END:VEVENT
BEGIN:VEVENT
DTSTAMP:20260420T115136Z
DTSTART;VALUE=DATE:20120925
SUMMARY:IJWMN 2012 Final Version Due
DESCRIPTION:International Journal of Wireless & Mobile Networks
URL:http://www.wikicfp.com/cfp/servlet/event.showcfp?eventid=23486&copyow
 nerid=40126
UID:cfp282770-N@wikicfp.com
END:VEVENT
BEGIN:VEVENT
DTSTAMP:20260420T115136Z
DTSTART;VALUE=DATE:20121106
DTEND;VALUE=DATE:20121107
SUMMARY:SDC 2012
DESCRIPTION:International Workshop on SoLoMo Data in the Cloud
URL:http://www.wikicfp.com/cfp/servlet/event.showcfp?eventid=24363&copyow
 nerid=40126
UID:cfp282780-E@wikicfp.com
END:VEVENT
BEGIN:VEVENT
DTSTAMP:20260420T115136Z
DTSTART;VALUE=DATE:20120821
SUMMARY:SDC 2012 Deadline
DESCRIPTION:International Workshop on SoLoMo Data in the Cloud
URL:http://www.wikicfp.com/cfp/servlet/event.showcfp?eventid=24363&copyow
 nerid=40126
UID:cfp282780-D@wikicfp.com
END:VEVENT
BEGIN:VEVENT
DTSTAMP:20260420T115136Z
DTSTART;VALUE=DATE:20121030
DTEND;VALUE=DATE:20121102
SUMMARY:AVSEC World 2012
DESCRIPTION:Call for papers on aviation security
URL:http://www.wikicfp.com/cfp/servlet/event.showcfp?eventid=24355&copyow
 nerid=40126
UID:cfp282773-E@wikicfp.com
END:VEVENT
BEGIN:VEVENT
DTSTAMP:20260420T115136Z
DTSTART;VALUE=DATE:20120915
SUMMARY:AVSEC World 2012 Deadline
DESCRIPTION:Call for papers on aviation security
URL:http://www.wikicfp.com/cfp/servlet/event.showcfp?eventid=24355&copyow
 nerid=40126
UID:cfp282773-D@wikicfp.com
END:VEVENT
BEGIN:VEVENT
DTSTAMP:20260420T115136Z
DTSTART;VALUE=DATE:20121204
DTEND;VALUE=DATE:20121208
SUMMARY:HISCVPR 2012
DESCRIPTION:Special Session on Hybrid Intelligent Systems for Computer Vi
 sion and Pattern Recognition in conjunction with Hybrid Intelligent Syst
 ems (HIS-12)
URL:http://www.wikicfp.com/cfp/servlet/event.showcfp?eventid=24376&copyow
 nerid=40126
UID:cfp282791-E@wikicfp.com
END:VEVENT
BEGIN:VEVENT
DTSTAMP:20260420T115136Z
DTSTART;VALUE=DATE:20120915
SUMMARY:HISCVPR 2012 Deadline
DESCRIPTION:Special Session on Hybrid Intelligent Systems for Computer Vi
 sion and Pattern Recognition in conjunction with Hybrid Intelligent Syst
 ems (HIS-12)
URL:http://www.wikicfp.com/cfp/servlet/event.showcfp?eventid=24376&copyow
 nerid=40126
UID:cfp282791-D@wikicfp.com
END:VEVENT
BEGIN:VEVENT
DTSTAMP:20260420T115136Z
DTSTART;VALUE=DATE:20120901
DTEND;VALUE=DATE:20121216
SUMMARY:MLC-IJMBL 2012
DESCRIPTION:Mobile Learning and Creativity: Current Concepts and Studies
URL:http://www.wikicfp.com/cfp/servlet/event.showcfp?eventid=24358&copyow
 nerid=40126
UID:cfp282775-E@wikicfp.com
END:VEVENT
BEGIN:VEVENT
DTSTAMP:20260420T115136Z
DTSTART;VALUE=DATE:20120930
SUMMARY:MLC-IJMBL 2012 Deadline
DESCRIPTION:Mobile Learning and Creativity: Current Concepts and Studies
URL:http://www.wikicfp.com/cfp/servlet/event.showcfp?eventid=24358&copyow
 nerid=40126
UID:cfp282775-D@wikicfp.com
END:VEVENT
BEGIN:VEVENT
DTSTAMP:20260420T115136Z
DTSTART;VALUE=DATE:20130415
DTEND;VALUE=DATE:20130417
SUMMARY:II-SDV 2013
DESCRIPTION:International Information Conference on Search\, Data Mining 
 and Visualization
URL:http://www.wikicfp.com/cfp/servlet/event.showcfp?eventid=24356&copyow
 nerid=40126
UID:cfp282774-E@wikicfp.com
END:VEVENT
BEGIN:VEVENT
DTSTAMP:20260420T115136Z
DTSTART;VALUE=DATE:20121001
SUMMARY:II-SDV 2013 Deadline
DESCRIPTION:International Information Conference on Search\, Data Mining 
 and Visualization
URL:http://www.wikicfp.com/cfp/servlet/event.showcfp?eventid=24356&copyow
 nerid=40126
UID:cfp282774-D@wikicfp.com
END:VEVENT
BEGIN:VEVENT
DTSTAMP:20260420T115136Z
DTSTART;VALUE=DATE:20130404
DTEND;VALUE=DATE:20130407
SUMMARY:APWeb 2013
DESCRIPTION:The 15th Asia-Pacific Web Conference
URL:http://www.wikicfp.com/cfp/servlet/event.showcfp?eventid=24366&copyow
 nerid=40126
UID:cfp282783-E@wikicfp.com
END:VEVENT
BEGIN:VEVENT
DTSTAMP:20260420T115136Z
DTSTART;VALUE=DATE:20121027
SUMMARY:APWeb 2013 Abstract Due
DESCRIPTION:The 15th Asia-Pacific Web Conference
URL:http://www.wikicfp.com/cfp/servlet/event.showcfp?eventid=24366&copyow
 nerid=40126
UID:cfp282783-A@wikicfp.com
END:VEVENT
BEGIN:VEVENT
DTSTAMP:20260420T115136Z
DTSTART;VALUE=DATE:20121027
SUMMARY:APWeb 2013 Deadline
DESCRIPTION:The 15th Asia-Pacific Web Conference
URL:http://www.wikicfp.com/cfp/servlet/event.showcfp?eventid=24366&copyow
 nerid=40126
UID:cfp282783-D@wikicfp.com
END:VEVENT
BEGIN:VEVENT
DTSTAMP:20260420T115136Z
DTSTART;VALUE=DATE:20121226
SUMMARY:APWeb 2013 Notification Due
DESCRIPTION:The 15th Asia-Pacific Web Conference
URL:http://www.wikicfp.com/cfp/servlet/event.showcfp?eventid=24366&copyow
 nerid=40126
UID:cfp282783-N@wikicfp.com
END:VEVENT
BEGIN:VEVENT
DTSTAMP:20260420T115136Z
DTSTART;VALUE=DATE:20130108
SUMMARY:APWeb 2013 Final Version Due
DESCRIPTION:The 15th Asia-Pacific Web Conference
URL:http://www.wikicfp.com/cfp/servlet/event.showcfp?eventid=24366&copyow
 nerid=40126
UID:cfp282783-N@wikicfp.com
END:VEVENT
BEGIN:VEVENT
DTSTAMP:20260420T115136Z
DTSTART;VALUE=DATE:20130115
DTEND;VALUE=DATE:20130117
SUMMARY:ICAISED 2013
DESCRIPTION:2nd  International Conference on  advance Information System\
 , E-Education & Development
URL:http://www.wikicfp.com/cfp/servlet/event.showcfp?eventid=24371&copyow
 nerid=40126
UID:cfp282786-E@wikicfp.com
END:VEVENT
BEGIN:VEVENT
DTSTAMP:20260420T115136Z
DTSTART;VALUE=DATE:20121030
SUMMARY:ICAISED 2013 Deadline
DESCRIPTION:2nd  International Conference on  advance Information System\
 , E-Education & Development
URL:http://www.wikicfp.com/cfp/servlet/event.showcfp?eventid=24371&copyow
 nerid=40126
UID:cfp282786-D@wikicfp.com
END:VEVENT
BEGIN:VEVENT
DTSTAMP:20260420T115136Z
DTSTART;VALUE=DATE:20130119
DTEND;VALUE=DATE:20130121
SUMMARY:ICAC2ET 2013
DESCRIPTION:2nd International Conference on Advanced in Computing and Eme
 rging E-Learning Technologies
URL:http://www.wikicfp.com/cfp/servlet/event.showcfp?eventid=24372&copyow
 nerid=40126
UID:cfp282787-E@wikicfp.com
END:VEVENT
BEGIN:VEVENT
DTSTAMP:20260420T115136Z
DTSTART;VALUE=DATE:20121030
SUMMARY:ICAC2ET 2013 Abstract Due
DESCRIPTION:2nd International Conference on Advanced in Computing and Eme
 rging E-Learning Technologies
URL:http://www.wikicfp.com/cfp/servlet/event.showcfp?eventid=24372&copyow
 nerid=40126
UID:cfp282787-A@wikicfp.com
END:VEVENT
BEGIN:VEVENT
DTSTAMP:20260420T115136Z
DTSTART;VALUE=DATE:20121030
SUMMARY:ICAC2ET 2013 Deadline
DESCRIPTION:2nd International Conference on Advanced in Computing and Eme
 rging E-Learning Technologies
URL:http://www.wikicfp.com/cfp/servlet/event.showcfp?eventid=24372&copyow
 nerid=40126
UID:cfp282787-D@wikicfp.com
END:VEVENT
BEGIN:VEVENT
DTSTAMP:20260420T115136Z
DTSTART;VALUE=DATE:20130327
DTEND;VALUE=DATE:20130329
SUMMARY:CSIT 2013
DESCRIPTION:The 5th International Conference on Computer Science and Info
 rmation Technology
URL:http://www.wikicfp.com/cfp/servlet/event.showcfp?eventid=24360&copyow
 nerid=40126
UID:cfp282777-E@wikicfp.com
END:VEVENT
BEGIN:VEVENT
DTSTAMP:20260420T115136Z
DTSTART;VALUE=DATE:20121115
SUMMARY:CSIT 2013 Deadline
DESCRIPTION:The 5th International Conference on Computer Science and Info
 rmation Technology
URL:http://www.wikicfp.com/cfp/servlet/event.showcfp?eventid=24360&copyow
 nerid=40126
UID:cfp282777-D@wikicfp.com
END:VEVENT
BEGIN:VEVENT
DTSTAMP:20260420T115136Z
DTSTART;VALUE=DATE:20121220
SUMMARY:CSIT 2013 Notification Due
DESCRIPTION:The 5th International Conference on Computer Science and Info
 rmation Technology
URL:http://www.wikicfp.com/cfp/servlet/event.showcfp?eventid=24360&copyow
 nerid=40126
UID:cfp282777-N@wikicfp.com
END:VEVENT
BEGIN:VEVENT
DTSTAMP:20260420T115136Z
DTSTART;VALUE=DATE:20130120
SUMMARY:CSIT 2013 Final Version Due
DESCRIPTION:The 5th International Conference on Computer Science and Info
 rmation Technology
URL:http://www.wikicfp.com/cfp/servlet/event.showcfp?eventid=24360&copyow
 nerid=40126
UID:cfp282777-N@wikicfp.com
END:VEVENT
BEGIN:VEVENT
DTSTAMP:20260420T115136Z
DTSTART;VALUE=DATE:20121130
SUMMARY:SI-Complex-Networks 2012 Deadline
DESCRIPTION:Special Issue of Springer Complex Adaptive Systems Modeling o
 n Complex Networks
URL:http://www.wikicfp.com/cfp/servlet/event.showcfp?eventid=24354&copyow
 nerid=40126
UID:cfp282772-D@wikicfp.com
END:VEVENT
BEGIN:VEVENT
DTSTAMP:20260420T115136Z
DTSTART;VALUE=DATE:20121215
SUMMARY:SI-Complex-Networks 2012 Notification Due
DESCRIPTION:Special Issue of Springer Complex Adaptive Systems Modeling o
 n Complex Networks
URL:http://www.wikicfp.com/cfp/servlet/event.showcfp?eventid=24354&copyow
 nerid=40126
UID:cfp282772-N@wikicfp.com
END:VEVENT
BEGIN:VEVENT
DTSTAMP:20260420T115136Z
DTSTART;VALUE=DATE:20130115
SUMMARY:SI-Complex-Networks 2012 Final Version Due
DESCRIPTION:Special Issue of Springer Complex Adaptive Systems Modeling o
 n Complex Networks
URL:http://www.wikicfp.com/cfp/servlet/event.showcfp?eventid=24354&copyow
 nerid=40126
UID:cfp282772-N@wikicfp.com
END:VEVENT
BEGIN:VEVENT
DTSTAMP:20260420T115136Z
DTSTART;VALUE=DATE:20130624
DTEND;VALUE=DATE:20130628
SUMMARY:EICS 2013
DESCRIPTION:ACM SIGCHI Symposium on Engineering Interactive Computing Sys
 tems
URL:http://www.wikicfp.com/cfp/servlet/event.showcfp?eventid=24362&copyow
 nerid=40126
UID:cfp282779-E@wikicfp.com
END:VEVENT
BEGIN:VEVENT
DTSTAMP:20260420T115136Z
DTSTART;VALUE=DATE:10121203
SUMMARY:EICS 2013 Abstract Due
DESCRIPTION:ACM SIGCHI Symposium on Engineering Interactive Computing Sys
 tems
URL:http://www.wikicfp.com/cfp/servlet/event.showcfp?eventid=24362&copyow
 nerid=40126
UID:cfp282779-A@wikicfp.com
END:VEVENT
BEGIN:VEVENT
DTSTAMP:20260420T115136Z
DTSTART;VALUE=DATE:20121217
SUMMARY:EICS 2013 Deadline
DESCRIPTION:ACM SIGCHI Symposium on Engineering Interactive Computing Sys
 tems
URL:http://www.wikicfp.com/cfp/servlet/event.showcfp?eventid=24362&copyow
 nerid=40126
UID:cfp282779-D@wikicfp.com
END:VEVENT
BEGIN:VEVENT
DTSTAMP:20260420T115136Z
DTSTART;VALUE=DATE:20130612
DTEND;VALUE=DATE:20130616
SUMMARY:ICSI 2013
DESCRIPTION:Fourth International Conference on Swarm Intelligence
URL:http://www.wikicfp.com/cfp/servlet/event.showcfp?eventid=24367&copyow
 nerid=40126
UID:cfp282784-E@wikicfp.com
END:VEVENT
BEGIN:VEVENT
DTSTAMP:20260420T115136Z
DTSTART;VALUE=DATE:20130101
SUMMARY:ICSI 2013 Deadline
DESCRIPTION:Fourth International Conference on Swarm Intelligence
URL:http://www.wikicfp.com/cfp/servlet/event.showcfp?eventid=24367&copyow
 nerid=40126
UID:cfp282784-D@wikicfp.com
END:VEVENT
BEGIN:VEVENT
DTSTAMP:20260420T115136Z
DTSTART;VALUE=DATE:20130301
SUMMARY:ICSI 2013 Notification Due
DESCRIPTION:Fourth International Conference on Swarm Intelligence
URL:http://www.wikicfp.com/cfp/servlet/event.showcfp?eventid=24367&copyow
 nerid=40126
UID:cfp282784-N@wikicfp.com
END:VEVENT
BEGIN:VEVENT
DTSTAMP:20260420T115136Z
DTSTART;VALUE=DATE:20130331
SUMMARY:ICSI 2013 Final Version Due
DESCRIPTION:Fourth International Conference on Swarm Intelligence
URL:http://www.wikicfp.com/cfp/servlet/event.showcfp?eventid=24367&copyow
 nerid=40126
UID:cfp282784-N@wikicfp.com
END:VEVENT
BEGIN:VEVENT
DTSTAMP:20260420T115136Z
DTSTART;VALUE=DATE:20130729
DTEND;VALUE=DATE:20130730
SUMMARY:MobileHealth 2013
DESCRIPTION:Third ACM MobiHoc Workshop on Pervasive Wireless Healthcare
URL:http://www.wikicfp.com/cfp/servlet/event.showcfp?eventid=28289&copyow
 nerid=40126
UID:cfp329720-E@wikicfp.com
END:VEVENT
BEGIN:VEVENT
DTSTAMP:20260420T115136Z
DTSTART;VALUE=DATE:20130408
SUMMARY:MobileHealth 2013 Deadline
DESCRIPTION:Third ACM MobiHoc Workshop on Pervasive Wireless Healthcare
URL:http://www.wikicfp.com/cfp/servlet/event.showcfp?eventid=28289&copyow
 nerid=40126
UID:cfp329720-D@wikicfp.com
END:VEVENT
BEGIN:VEVENT
DTSTAMP:20260420T115136Z
DTSTART;VALUE=DATE:20130429
SUMMARY:MobileHealth 2013 Notification Due
DESCRIPTION:Third ACM MobiHoc Workshop on Pervasive Wireless Healthcare
URL:http://www.wikicfp.com/cfp/servlet/event.showcfp?eventid=28289&copyow
 nerid=40126
UID:cfp329720-N@wikicfp.com
END:VEVENT
BEGIN:VEVENT
DTSTAMP:20260420T115136Z
DTSTART;VALUE=DATE:20130506
SUMMARY:MobileHealth 2013 Final Version Due
DESCRIPTION:Third ACM MobiHoc Workshop on Pervasive Wireless Healthcare
URL:http://www.wikicfp.com/cfp/servlet/event.showcfp?eventid=28289&copyow
 nerid=40126
UID:cfp329720-N@wikicfp.com
END:VEVENT
BEGIN:VEVENT
DTSTAMP:20260420T115136Z
DTSTART;VALUE=DATE:20131104
DTEND;VALUE=DATE:20131109
SUMMARY:CCS 2013
DESCRIPTION:ACM Conference on Computer and Communications Security
URL:http://www.wikicfp.com/cfp/servlet/event.showcfp?eventid=24374&copyow
 nerid=40126
UID:cfp282789-E@wikicfp.com
END:VEVENT
BEGIN:VEVENT
DTSTAMP:20260420T115136Z
DTSTART;VALUE=DATE:20130508
SUMMARY:CCS 2013 Deadline
DESCRIPTION:ACM Conference on Computer and Communications Security
URL:http://www.wikicfp.com/cfp/servlet/event.showcfp?eventid=24374&copyow
 nerid=40126
UID:cfp282789-D@wikicfp.com
END:VEVENT
BEGIN:VEVENT
DTSTAMP:20260420T115136Z
DTSTART;VALUE=DATE:20130719
SUMMARY:CCS 2013 Notification Due
DESCRIPTION:ACM Conference on Computer and Communications Security
URL:http://www.wikicfp.com/cfp/servlet/event.showcfp?eventid=24374&copyow
 nerid=40126
UID:cfp282789-N@wikicfp.com
END:VEVENT
BEGIN:VEVENT
DTSTAMP:20260420T115136Z
DTSTART;VALUE=DATE:20130815
SUMMARY:CCS 2013 Final Version Due
DESCRIPTION:ACM Conference on Computer and Communications Security
URL:http://www.wikicfp.com/cfp/servlet/event.showcfp?eventid=24374&copyow
 nerid=40126
UID:cfp282789-N@wikicfp.com
END:VEVENT
BEGIN:VEVENT
DTSTAMP:20260420T115136Z
DTSTART;VALUE=DATE:20140427
DTEND;VALUE=DATE:20140503
SUMMARY:INFOCOM 2014
DESCRIPTION:The 33rd Annual IEEE International Conference on Computer Com
 munications
URL:http://www.wikicfp.com/cfp/servlet/event.showcfp?eventid=24373&copyow
 nerid=40126
UID:cfp282788-E@wikicfp.com
END:VEVENT
BEGIN:VEVENT
DTSTAMP:20260420T115136Z
DTSTART;VALUE=DATE:20130721
SUMMARY:INFOCOM 2014 Abstract Due
DESCRIPTION:The 33rd Annual IEEE International Conference on Computer Com
 munications
URL:http://www.wikicfp.com/cfp/servlet/event.showcfp?eventid=24373&copyow
 nerid=40126
UID:cfp282788-A@wikicfp.com
END:VEVENT
BEGIN:VEVENT
DTSTAMP:20260420T115136Z
DTSTART;VALUE=DATE:20130728
SUMMARY:INFOCOM 2014 Deadline
DESCRIPTION:The 33rd Annual IEEE International Conference on Computer Com
 munications
URL:http://www.wikicfp.com/cfp/servlet/event.showcfp?eventid=24373&copyow
 nerid=40126
UID:cfp282788-D@wikicfp.com
END:VEVENT
BEGIN:VEVENT
DTSTAMP:20260420T115136Z
DTSTART;VALUE=DATE:20131125
SUMMARY:INFOCOM 2014 Notification Due
DESCRIPTION:The 33rd Annual IEEE International Conference on Computer Com
 munications
URL:http://www.wikicfp.com/cfp/servlet/event.showcfp?eventid=24373&copyow
 nerid=40126
UID:cfp282788-N@wikicfp.com
END:VEVENT
BEGIN:VEVENT
DTSTAMP:20260420T115136Z
DTSTART;VALUE=DATE:20131230
SUMMARY:COM 2013 Deadline
DESCRIPTION:Communications Journal
URL:http://www.wikicfp.com/cfp/servlet/event.showcfp?eventid=15943&copyow
 nerid=40126
UID:cfp329719-D@wikicfp.com
END:VEVENT
END:VCALENDAR
