BEGIN:VCALENDAR
PRODID:-//WikiCFP//sukhalid 1.0//EN
VERSION:2.0
CALSCALE:GREGORIAN
BEGIN:VEVENT
DTSTAMP:20260421T235827Z
DTSTART;VALUE=DATE:20120909
DTEND;VALUE=DATE:20120913
SUMMARY:IoT-CN 2012
DESCRIPTION:International Workshop on Internet-of-Things Communications a
 nd Networking
URL:http://www.wikicfp.com/cfp/servlet/event.showcfp?eventid=22019&copyow
 nerid=39717
UID:cfp279764-E@wikicfp.com
END:VEVENT
BEGIN:VEVENT
DTSTAMP:20260421T235827Z
DTSTART;VALUE=DATE:20120501
SUMMARY:IoT-CN 2012 Deadline
DESCRIPTION:International Workshop on Internet-of-Things Communications a
 nd Networking
URL:http://www.wikicfp.com/cfp/servlet/event.showcfp?eventid=22019&copyow
 nerid=39717
UID:cfp279764-D@wikicfp.com
END:VEVENT
BEGIN:VEVENT
DTSTAMP:20260421T235827Z
DTSTART;VALUE=DATE:20120501
SUMMARY:IoT-CN 2012 Notification Due
DESCRIPTION:International Workshop on Internet-of-Things Communications a
 nd Networking
URL:http://www.wikicfp.com/cfp/servlet/event.showcfp?eventid=22019&copyow
 nerid=39717
UID:cfp279764-N@wikicfp.com
END:VEVENT
BEGIN:VEVENT
DTSTAMP:20260421T235827Z
DTSTART;VALUE=DATE:20120601
SUMMARY:IoT-CN 2012 Final Version Due
DESCRIPTION:International Workshop on Internet-of-Things Communications a
 nd Networking
URL:http://www.wikicfp.com/cfp/servlet/event.showcfp?eventid=22019&copyow
 nerid=39717
UID:cfp279764-N@wikicfp.com
END:VEVENT
BEGIN:VEVENT
DTSTAMP:20260421T235827Z
DTSTART;VALUE=DATE:20121022
DTEND;VALUE=DATE:20121026
SUMMARY:IEEE SenseApp 2012
DESCRIPTION:Seventh IEEE International Workshop on Practical Issues in Bu
 ilding Sensor Network Applications
URL:http://www.wikicfp.com/cfp/servlet/event.showcfp?eventid=21819&copyow
 nerid=39717
UID:cfp279763-E@wikicfp.com
END:VEVENT
BEGIN:VEVENT
DTSTAMP:20260421T235827Z
DTSTART;VALUE=DATE:20120512
SUMMARY:IEEE SenseApp 2012 Deadline
DESCRIPTION:Seventh IEEE International Workshop on Practical Issues in Bu
 ilding Sensor Network Applications
URL:http://www.wikicfp.com/cfp/servlet/event.showcfp?eventid=21819&copyow
 nerid=39717
UID:cfp279763-D@wikicfp.com
END:VEVENT
BEGIN:VEVENT
DTSTAMP:20260421T235827Z
DTSTART;VALUE=DATE:20120630
SUMMARY:IEEE SenseApp 2012 Notification Due
DESCRIPTION:Seventh IEEE International Workshop on Practical Issues in Bu
 ilding Sensor Network Applications
URL:http://www.wikicfp.com/cfp/servlet/event.showcfp?eventid=21819&copyow
 nerid=39717
UID:cfp279763-N@wikicfp.com
END:VEVENT
BEGIN:VEVENT
DTSTAMP:20260421T235827Z
DTSTART;VALUE=DATE:20120728
SUMMARY:IEEE SenseApp 2012 Final Version Due
DESCRIPTION:Seventh IEEE International Workshop on Practical Issues in Bu
 ilding Sensor Network Applications
URL:http://www.wikicfp.com/cfp/servlet/event.showcfp?eventid=21819&copyow
 nerid=39717
UID:cfp279763-N@wikicfp.com
END:VEVENT
BEGIN:VEVENT
DTSTAMP:20260421T235827Z
DTSTART;VALUE=DATE:20120925
DTEND;VALUE=DATE:20120928
SUMMARY:SSPD 2012
DESCRIPTION:3rd Conference on Sensor Signal Processing for Defence
URL:http://www.wikicfp.com/cfp/servlet/event.showcfp?eventid=23533&copyow
 nerid=39717
UID:cfp279765-E@wikicfp.com
END:VEVENT
BEGIN:VEVENT
DTSTAMP:20260421T235827Z
DTSTART;VALUE=DATE:20120615
SUMMARY:SSPD 2012 Deadline
DESCRIPTION:3rd Conference on Sensor Signal Processing for Defence
URL:http://www.wikicfp.com/cfp/servlet/event.showcfp?eventid=23533&copyow
 nerid=39717
UID:cfp279765-D@wikicfp.com
END:VEVENT
BEGIN:VEVENT
DTSTAMP:20260421T235827Z
DTSTART;VALUE=DATE:20120715
SUMMARY:SSPD 2012 Notification Due
DESCRIPTION:3rd Conference on Sensor Signal Processing for Defence
URL:http://www.wikicfp.com/cfp/servlet/event.showcfp?eventid=23533&copyow
 nerid=39717
UID:cfp279765-N@wikicfp.com
END:VEVENT
BEGIN:VEVENT
DTSTAMP:20260421T235827Z
DTSTART;VALUE=DATE:20120909
SUMMARY:SSPD 2012 Final Version Due
DESCRIPTION:3rd Conference on Sensor Signal Processing for Defence
URL:http://www.wikicfp.com/cfp/servlet/event.showcfp?eventid=23533&copyow
 nerid=39717
UID:cfp279765-N@wikicfp.com
END:VEVENT
BEGIN:VEVENT
DTSTAMP:20260421T235827Z
DTSTART;VALUE=DATE:20130213
DTEND;VALUE=DATE:20130216
SUMMARY:EWSN 2013
DESCRIPTION:10th European Conference on Wireless Sensor Networks
URL:http://www.wikicfp.com/cfp/servlet/event.showcfp?eventid=23933&copyow
 nerid=39717
UID:cfp279766-E@wikicfp.com
END:VEVENT
BEGIN:VEVENT
DTSTAMP:20260421T235827Z
DTSTART;VALUE=DATE:20120901
SUMMARY:EWSN 2013 Deadline
DESCRIPTION:10th European Conference on Wireless Sensor Networks
URL:http://www.wikicfp.com/cfp/servlet/event.showcfp?eventid=23933&copyow
 nerid=39717
UID:cfp279766-D@wikicfp.com
END:VEVENT
BEGIN:VEVENT
DTSTAMP:20260421T235827Z
DTSTART;VALUE=DATE:20121115
SUMMARY:EWSN 2013 Notification Due
DESCRIPTION:10th European Conference on Wireless Sensor Networks
URL:http://www.wikicfp.com/cfp/servlet/event.showcfp?eventid=23933&copyow
 nerid=39717
UID:cfp279766-N@wikicfp.com
END:VEVENT
BEGIN:VEVENT
DTSTAMP:20260421T235827Z
DTSTART;VALUE=DATE:20121122
SUMMARY:EWSN 2013 Final Version Due
DESCRIPTION:10th European Conference on Wireless Sensor Networks
URL:http://www.wikicfp.com/cfp/servlet/event.showcfp?eventid=23933&copyow
 nerid=39717
UID:cfp279766-N@wikicfp.com
END:VEVENT
END:VCALENDAR
