BEGIN:VCALENDAR
PRODID:-//WikiCFP//500500 1.0//EN
VERSION:2.0
CALSCALE:GREGORIAN
BEGIN:VEVENT
DTSTAMP:20260423T034808Z
DTSTART;VALUE=DATE:20120910
DTEND;VALUE=DATE:20120915
SUMMARY:Meta4eS 2012
DESCRIPTION:Methods\, Evaluation\, Tools and Applications for the Creatio
 n and Consumption of Structured Data for the e-Society
URL:http://www.wikicfp.com/cfp/servlet/event.showcfp?eventid=23962&copyow
 nerid=39417
UID:cfp277663-E@wikicfp.com
END:VEVENT
BEGIN:VEVENT
DTSTAMP:20260423T034808Z
DTSTART;VALUE=DATE:20120604
SUMMARY:Meta4eS 2012 Deadline
DESCRIPTION:Methods\, Evaluation\, Tools and Applications for the Creatio
 n and Consumption of Structured Data for the e-Society
URL:http://www.wikicfp.com/cfp/servlet/event.showcfp?eventid=23962&copyow
 nerid=39417
UID:cfp277663-D@wikicfp.com
END:VEVENT
BEGIN:VEVENT
DTSTAMP:20260423T034808Z
DTSTART;VALUE=DATE:20120716
DTEND;VALUE=DATE:20120719
SUMMARY:DEIS 2012
DESCRIPTION:The Second International Conference on Digital Enterprise and
  Information Systems
URL:http://www.wikicfp.com/cfp/servlet/event.showcfp?eventid=23969&copyow
 nerid=39417
UID:cfp277668-E@wikicfp.com
END:VEVENT
BEGIN:VEVENT
DTSTAMP:20260423T034808Z
DTSTART;VALUE=DATE:20120615
SUMMARY:DEIS 2012 Deadline
DESCRIPTION:The Second International Conference on Digital Enterprise and
  Information Systems
URL:http://www.wikicfp.com/cfp/servlet/event.showcfp?eventid=23969&copyow
 nerid=39417
UID:cfp277668-D@wikicfp.com
END:VEVENT
BEGIN:VEVENT
DTSTAMP:20260423T034808Z
DTSTART;VALUE=DATE:20120622
SUMMARY:DEIS 2012 Notification Due
DESCRIPTION:The Second International Conference on Digital Enterprise and
  Information Systems
URL:http://www.wikicfp.com/cfp/servlet/event.showcfp?eventid=23969&copyow
 nerid=39417
UID:cfp277668-N@wikicfp.com
END:VEVENT
BEGIN:VEVENT
DTSTAMP:20260423T034808Z
DTSTART;VALUE=DATE:20121102
DTEND;VALUE=DATE:20121103
SUMMARY:PLEAD at CIKM 2012
DESCRIPTION:Politics\, Elections And Data
URL:http://www.wikicfp.com/cfp/servlet/event.showcfp?eventid=23961&copyow
 nerid=39417
UID:cfp277662-E@wikicfp.com
END:VEVENT
BEGIN:VEVENT
DTSTAMP:20260423T034808Z
DTSTART;VALUE=DATE:20120629
SUMMARY:PLEAD at CIKM 2012 Deadline
DESCRIPTION:Politics\, Elections And Data
URL:http://www.wikicfp.com/cfp/servlet/event.showcfp?eventid=23961&copyow
 nerid=39417
UID:cfp277662-D@wikicfp.com
END:VEVENT
BEGIN:VEVENT
DTSTAMP:20260423T034808Z
DTSTART;VALUE=DATE:20120920
DTEND;VALUE=DATE:20120922
SUMMARY:HISC 2012
DESCRIPTION:Health Informatics Scotland Conference 2012
URL:http://www.wikicfp.com/cfp/servlet/event.showcfp?eventid=23960&copyow
 nerid=39417
UID:cfp277661-E@wikicfp.com
END:VEVENT
BEGIN:VEVENT
DTSTAMP:20260423T034808Z
DTSTART;VALUE=DATE:20120630
SUMMARY:HISC 2012 Deadline
DESCRIPTION:Health Informatics Scotland Conference 2012
URL:http://www.wikicfp.com/cfp/servlet/event.showcfp?eventid=23960&copyow
 nerid=39417
UID:cfp277661-D@wikicfp.com
END:VEVENT
BEGIN:VEVENT
DTSTAMP:20260423T034808Z
DTSTART;VALUE=DATE:20121013
DTEND;VALUE=DATE:20121014
SUMMARY:IFCVCR 2012
DESCRIPTION:The 2012 International Workshop on Information Fusion in Comp
 uter Vision for Concept Recognition
URL:http://www.wikicfp.com/cfp/servlet/event.showcfp?eventid=23959&copyow
 nerid=39417
UID:cfp277660-E@wikicfp.com
END:VEVENT
BEGIN:VEVENT
DTSTAMP:20260423T034808Z
DTSTART;VALUE=DATE:20120701
SUMMARY:IFCVCR 2012 Deadline
DESCRIPTION:The 2012 International Workshop on Information Fusion in Comp
 uter Vision for Concept Recognition
URL:http://www.wikicfp.com/cfp/servlet/event.showcfp?eventid=23959&copyow
 nerid=39417
UID:cfp277660-D@wikicfp.com
END:VEVENT
BEGIN:VEVENT
DTSTAMP:20260423T034808Z
DTSTART;VALUE=DATE:20121222
DTEND;VALUE=DATE:20121225
SUMMARY:NETCOM 2012
DESCRIPTION:The Fourth International Conference on Networks & Communicati
 ons
URL:http://www.wikicfp.com/cfp/servlet/event.showcfp?eventid=23766&copyow
 nerid=39417
UID:cfp277658-E@wikicfp.com
END:VEVENT
BEGIN:VEVENT
DTSTAMP:20260423T034808Z
DTSTART;VALUE=DATE:20120720
SUMMARY:NETCOM 2012 Deadline
DESCRIPTION:The Fourth International Conference on Networks & Communicati
 ons
URL:http://www.wikicfp.com/cfp/servlet/event.showcfp?eventid=23766&copyow
 nerid=39417
UID:cfp277658-D@wikicfp.com
END:VEVENT
BEGIN:VEVENT
DTSTAMP:20260423T034808Z
DTSTART;VALUE=DATE:20120910
SUMMARY:NETCOM 2012 Notification Due
DESCRIPTION:The Fourth International Conference on Networks & Communicati
 ons
URL:http://www.wikicfp.com/cfp/servlet/event.showcfp?eventid=23766&copyow
 nerid=39417
UID:cfp277658-N@wikicfp.com
END:VEVENT
BEGIN:VEVENT
DTSTAMP:20260423T034808Z
DTSTART;VALUE=DATE:20121007
SUMMARY:NETCOM 2012 Final Version Due
DESCRIPTION:The Fourth International Conference on Networks & Communicati
 ons
URL:http://www.wikicfp.com/cfp/servlet/event.showcfp?eventid=23766&copyow
 nerid=39417
UID:cfp277658-N@wikicfp.com
END:VEVENT
BEGIN:VEVENT
DTSTAMP:20260423T034808Z
DTSTART;VALUE=DATE:20121111
DTEND;VALUE=DATE:20121112
SUMMARY:OM 2012
DESCRIPTION:The Seventh International Workshop on Ontology Matching
URL:http://www.wikicfp.com/cfp/servlet/event.showcfp?eventid=23958&copyow
 nerid=39417
UID:cfp277659-E@wikicfp.com
END:VEVENT
BEGIN:VEVENT
DTSTAMP:20260423T034808Z
DTSTART;VALUE=DATE:20120731
SUMMARY:OM 2012 Deadline
DESCRIPTION:The Seventh International Workshop on Ontology Matching
URL:http://www.wikicfp.com/cfp/servlet/event.showcfp?eventid=23958&copyow
 nerid=39417
UID:cfp277659-D@wikicfp.com
END:VEVENT
BEGIN:VEVENT
DTSTAMP:20260423T034808Z
DTSTART;VALUE=DATE:20120820
SUMMARY:IJWMN 2012 Deadline
DESCRIPTION:International Journal of Wireless & Mobile Networks
URL:http://www.wikicfp.com/cfp/servlet/event.showcfp?eventid=23486&copyow
 nerid=39417
UID:cfp277657-D@wikicfp.com
END:VEVENT
BEGIN:VEVENT
DTSTAMP:20260423T034808Z
DTSTART;VALUE=DATE:20120920
SUMMARY:IJWMN 2012 Notification Due
DESCRIPTION:International Journal of Wireless & Mobile Networks
URL:http://www.wikicfp.com/cfp/servlet/event.showcfp?eventid=23486&copyow
 nerid=39417
UID:cfp277657-N@wikicfp.com
END:VEVENT
BEGIN:VEVENT
DTSTAMP:20260423T034808Z
DTSTART;VALUE=DATE:20120925
SUMMARY:IJWMN 2012 Final Version Due
DESCRIPTION:International Journal of Wireless & Mobile Networks
URL:http://www.wikicfp.com/cfp/servlet/event.showcfp?eventid=23486&copyow
 nerid=39417
UID:cfp277657-N@wikicfp.com
END:VEVENT
BEGIN:VEVENT
DTSTAMP:20260423T034808Z
DTSTART;VALUE=DATE:20121205
DTEND;VALUE=DATE:20121208
SUMMARY:WANC 2012
DESCRIPTION:3rd International Workshop on Advances in Networking and Comp
 uting
URL:http://www.wikicfp.com/cfp/servlet/event.showcfp?eventid=23975&copyow
 nerid=39417
UID:cfp277670-E@wikicfp.com
END:VEVENT
BEGIN:VEVENT
DTSTAMP:20260423T034808Z
DTSTART;VALUE=DATE:20120820
SUMMARY:WANC 2012 Deadline
DESCRIPTION:3rd International Workshop on Advances in Networking and Comp
 uting
URL:http://www.wikicfp.com/cfp/servlet/event.showcfp?eventid=23975&copyow
 nerid=39417
UID:cfp277670-D@wikicfp.com
END:VEVENT
BEGIN:VEVENT
DTSTAMP:20260423T034808Z
DTSTART;VALUE=DATE:20120901
SUMMARY:WANC 2012 Notification Due
DESCRIPTION:3rd International Workshop on Advances in Networking and Comp
 uting
URL:http://www.wikicfp.com/cfp/servlet/event.showcfp?eventid=23975&copyow
 nerid=39417
UID:cfp277670-N@wikicfp.com
END:VEVENT
BEGIN:VEVENT
DTSTAMP:20260423T034808Z
DTSTART;VALUE=DATE:20120921
SUMMARY:WANC 2012 Final Version Due
DESCRIPTION:3rd International Workshop on Advances in Networking and Comp
 uting
URL:http://www.wikicfp.com/cfp/servlet/event.showcfp?eventid=23975&copyow
 nerid=39417
UID:cfp277670-N@wikicfp.com
END:VEVENT
BEGIN:VEVENT
DTSTAMP:20260423T034808Z
DTSTART;VALUE=DATE:20121103
DTEND;VALUE=DATE:20121105
SUMMARY:ICMENS 2012
DESCRIPTION:2012 8th International Conference on MEMS NANO\, and Smart Sy
 stems
URL:http://www.wikicfp.com/cfp/servlet/event.showcfp?eventid=23988&copyow
 nerid=39417
UID:cfp277678-E@wikicfp.com
END:VEVENT
BEGIN:VEVENT
DTSTAMP:20260423T034808Z
DTSTART;VALUE=DATE:20120825
SUMMARY:ICMENS 2012 Deadline
DESCRIPTION:2012 8th International Conference on MEMS NANO\, and Smart Sy
 stems
URL:http://www.wikicfp.com/cfp/servlet/event.showcfp?eventid=23988&copyow
 nerid=39417
UID:cfp277678-D@wikicfp.com
END:VEVENT
BEGIN:VEVENT
DTSTAMP:20260423T034808Z
DTSTART;VALUE=DATE:20120910
SUMMARY:ICMENS 2012 Notification Due
DESCRIPTION:2012 8th International Conference on MEMS NANO\, and Smart Sy
 stems
URL:http://www.wikicfp.com/cfp/servlet/event.showcfp?eventid=23988&copyow
 nerid=39417
UID:cfp277678-N@wikicfp.com
END:VEVENT
BEGIN:VEVENT
DTSTAMP:20260423T034808Z
DTSTART;VALUE=DATE:20120925
SUMMARY:ICMENS 2012 Final Version Due
DESCRIPTION:2012 8th International Conference on MEMS NANO\, and Smart Sy
 stems
URL:http://www.wikicfp.com/cfp/servlet/event.showcfp?eventid=23988&copyow
 nerid=39417
UID:cfp277678-N@wikicfp.com
END:VEVENT
BEGIN:VEVENT
DTSTAMP:20260423T034808Z
DTSTART;VALUE=DATE:20121103
DTEND;VALUE=DATE:20121105
SUMMARY:ICNMS 2012
DESCRIPTION:2012 International Conference on Nano and Materials Science
URL:http://www.wikicfp.com/cfp/servlet/event.showcfp?eventid=23986&copyow
 nerid=39417
UID:cfp277677-E@wikicfp.com
END:VEVENT
BEGIN:VEVENT
DTSTAMP:20260423T034808Z
DTSTART;VALUE=DATE:20120830
SUMMARY:ICNMS 2012 Deadline
DESCRIPTION:2012 International Conference on Nano and Materials Science
URL:http://www.wikicfp.com/cfp/servlet/event.showcfp?eventid=23986&copyow
 nerid=39417
UID:cfp277677-D@wikicfp.com
END:VEVENT
BEGIN:VEVENT
DTSTAMP:20260423T034808Z
DTSTART;VALUE=DATE:20120915
SUMMARY:ICNMS 2012 Notification Due
DESCRIPTION:2012 International Conference on Nano and Materials Science
URL:http://www.wikicfp.com/cfp/servlet/event.showcfp?eventid=23986&copyow
 nerid=39417
UID:cfp277677-N@wikicfp.com
END:VEVENT
BEGIN:VEVENT
DTSTAMP:20260423T034808Z
DTSTART;VALUE=DATE:20120930
SUMMARY:ICNMS 2012 Final Version Due
DESCRIPTION:2012 International Conference on Nano and Materials Science
URL:http://www.wikicfp.com/cfp/servlet/event.showcfp?eventid=23986&copyow
 nerid=39417
UID:cfp277677-N@wikicfp.com
END:VEVENT
BEGIN:VEVENT
DTSTAMP:20260423T034808Z
DTSTART;VALUE=DATE:20121103
DTEND;VALUE=DATE:20121105
SUMMARY:ICESM 2012
DESCRIPTION:2012 International Conference on Embedded System and Micropro
 cessors
URL:http://www.wikicfp.com/cfp/servlet/event.showcfp?eventid=23983&copyow
 nerid=39417
UID:cfp277676-E@wikicfp.com
END:VEVENT
BEGIN:VEVENT
DTSTAMP:20260423T034808Z
DTSTART;VALUE=DATE:20120901
SUMMARY:ICESM 2012 Deadline
DESCRIPTION:2012 International Conference on Embedded System and Micropro
 cessors
URL:http://www.wikicfp.com/cfp/servlet/event.showcfp?eventid=23983&copyow
 nerid=39417
UID:cfp277676-D@wikicfp.com
END:VEVENT
BEGIN:VEVENT
DTSTAMP:20260423T034808Z
DTSTART;VALUE=DATE:20120920
SUMMARY:ICESM 2012 Notification Due
DESCRIPTION:2012 International Conference on Embedded System and Micropro
 cessors
URL:http://www.wikicfp.com/cfp/servlet/event.showcfp?eventid=23983&copyow
 nerid=39417
UID:cfp277676-N@wikicfp.com
END:VEVENT
BEGIN:VEVENT
DTSTAMP:20260423T034808Z
DTSTART;VALUE=DATE:20121005
SUMMARY:ICESM 2012 Final Version Due
DESCRIPTION:2012 International Conference on Embedded System and Micropro
 cessors
URL:http://www.wikicfp.com/cfp/servlet/event.showcfp?eventid=23983&copyow
 nerid=39417
UID:cfp277676-N@wikicfp.com
END:VEVENT
BEGIN:VEVENT
DTSTAMP:20260423T034808Z
DTSTART;VALUE=DATE:20121124
DTEND;VALUE=DATE:20121126
SUMMARY:ICCTD 2012
DESCRIPTION:2012 4th International Conference on Computer Technology and 
 Development
URL:http://www.wikicfp.com/cfp/servlet/event.showcfp?eventid=23978&copyow
 nerid=39417
UID:cfp277672-E@wikicfp.com
END:VEVENT
BEGIN:VEVENT
DTSTAMP:20260423T034808Z
DTSTART;VALUE=DATE:20120905
SUMMARY:ICCTD 2012 Deadline
DESCRIPTION:2012 4th International Conference on Computer Technology and 
 Development
URL:http://www.wikicfp.com/cfp/servlet/event.showcfp?eventid=23978&copyow
 nerid=39417
UID:cfp277672-D@wikicfp.com
END:VEVENT
BEGIN:VEVENT
DTSTAMP:20260423T034808Z
DTSTART;VALUE=DATE:20120915
SUMMARY:ICCTD 2012 Notification Due
DESCRIPTION:2012 4th International Conference on Computer Technology and 
 Development
URL:http://www.wikicfp.com/cfp/servlet/event.showcfp?eventid=23978&copyow
 nerid=39417
UID:cfp277672-N@wikicfp.com
END:VEVENT
BEGIN:VEVENT
DTSTAMP:20260423T034808Z
DTSTART;VALUE=DATE:20120925
SUMMARY:ICCTD 2012 Final Version Due
DESCRIPTION:2012 4th International Conference on Computer Technology and 
 Development
URL:http://www.wikicfp.com/cfp/servlet/event.showcfp?eventid=23978&copyow
 nerid=39417
UID:cfp277672-N@wikicfp.com
END:VEVENT
BEGIN:VEVENT
DTSTAMP:20260423T034808Z
DTSTART;VALUE=DATE:20121120
DTEND;VALUE=DATE:20121123
SUMMARY:TELFOR 2012
DESCRIPTION:20th Telecommunications Forum Telfor
URL:http://www.wikicfp.com/cfp/servlet/event.showcfp?eventid=23965&copyow
 nerid=39417
UID:cfp277666-E@wikicfp.com
END:VEVENT
BEGIN:VEVENT
DTSTAMP:20260423T034808Z
DTSTART;VALUE=DATE:20120917
SUMMARY:TELFOR 2012 Deadline
DESCRIPTION:20th Telecommunications Forum Telfor
URL:http://www.wikicfp.com/cfp/servlet/event.showcfp?eventid=23965&copyow
 nerid=39417
UID:cfp277666-D@wikicfp.com
END:VEVENT
BEGIN:VEVENT
DTSTAMP:20260423T034808Z
DTSTART;VALUE=DATE:20121029
SUMMARY:TELFOR 2012 Notification Due
DESCRIPTION:20th Telecommunications Forum Telfor
URL:http://www.wikicfp.com/cfp/servlet/event.showcfp?eventid=23965&copyow
 nerid=39417
UID:cfp277666-N@wikicfp.com
END:VEVENT
BEGIN:VEVENT
DTSTAMP:20260423T034808Z
DTSTART;VALUE=DATE:20121124
DTEND;VALUE=DATE:20121126
SUMMARY:ICNI 2012
DESCRIPTION:2012 International Conference on Networks and Information
URL:http://www.wikicfp.com/cfp/servlet/event.showcfp?eventid=23976&copyow
 nerid=39417
UID:cfp277671-E@wikicfp.com
END:VEVENT
BEGIN:VEVENT
DTSTAMP:20260423T034808Z
DTSTART;VALUE=DATE:20120920
SUMMARY:ICNI 2012 Deadline
DESCRIPTION:2012 International Conference on Networks and Information
URL:http://www.wikicfp.com/cfp/servlet/event.showcfp?eventid=23976&copyow
 nerid=39417
UID:cfp277671-D@wikicfp.com
END:VEVENT
BEGIN:VEVENT
DTSTAMP:20260423T034808Z
DTSTART;VALUE=DATE:20121010
SUMMARY:ICNI 2012 Notification Due
DESCRIPTION:2012 International Conference on Networks and Information
URL:http://www.wikicfp.com/cfp/servlet/event.showcfp?eventid=23976&copyow
 nerid=39417
UID:cfp277671-N@wikicfp.com
END:VEVENT
BEGIN:VEVENT
DTSTAMP:20260423T034808Z
DTSTART;VALUE=DATE:20121025
SUMMARY:ICNI 2012 Final Version Due
DESCRIPTION:2012 International Conference on Networks and Information
URL:http://www.wikicfp.com/cfp/servlet/event.showcfp?eventid=23976&copyow
 nerid=39417
UID:cfp277671-N@wikicfp.com
END:VEVENT
BEGIN:VEVENT
DTSTAMP:20260423T034808Z
DTSTART;VALUE=DATE:20121117
DTEND;VALUE=DATE:20121119
SUMMARY:ISAI 2012
DESCRIPTION:2012 3rd International Conference on Information Security and
  Artificial Intelligence
URL:http://www.wikicfp.com/cfp/servlet/event.showcfp?eventid=23980&copyow
 nerid=39417
UID:cfp277673-E@wikicfp.com
END:VEVENT
BEGIN:VEVENT
DTSTAMP:20260423T034808Z
DTSTART;VALUE=DATE:20120920
SUMMARY:ISAI 2012 Deadline
DESCRIPTION:2012 3rd International Conference on Information Security and
  Artificial Intelligence
URL:http://www.wikicfp.com/cfp/servlet/event.showcfp?eventid=23980&copyow
 nerid=39417
UID:cfp277673-D@wikicfp.com
END:VEVENT
BEGIN:VEVENT
DTSTAMP:20260423T034808Z
DTSTART;VALUE=DATE:20121010
SUMMARY:ISAI 2012 Notification Due
DESCRIPTION:2012 3rd International Conference on Information Security and
  Artificial Intelligence
URL:http://www.wikicfp.com/cfp/servlet/event.showcfp?eventid=23980&copyow
 nerid=39417
UID:cfp277673-N@wikicfp.com
END:VEVENT
BEGIN:VEVENT
DTSTAMP:20260423T034808Z
DTSTART;VALUE=DATE:20121025
SUMMARY:ISAI 2012 Final Version Due
DESCRIPTION:2012 3rd International Conference on Information Security and
  Artificial Intelligence
URL:http://www.wikicfp.com/cfp/servlet/event.showcfp?eventid=23980&copyow
 nerid=39417
UID:cfp277673-N@wikicfp.com
END:VEVENT
BEGIN:VEVENT
DTSTAMP:20260423T034808Z
DTSTART;VALUE=DATE:20121117
DTEND;VALUE=DATE:20121119
SUMMARY:ICNIT 2012
DESCRIPTION:2012 3rd International Conference on Networking and Informati
 on Technology 
URL:http://www.wikicfp.com/cfp/servlet/event.showcfp?eventid=23981&copyow
 nerid=39417
UID:cfp277674-E@wikicfp.com
END:VEVENT
BEGIN:VEVENT
DTSTAMP:20260423T034808Z
DTSTART;VALUE=DATE:20120920
SUMMARY:ICNIT 2012 Deadline
DESCRIPTION:2012 3rd International Conference on Networking and Informati
 on Technology 
URL:http://www.wikicfp.com/cfp/servlet/event.showcfp?eventid=23981&copyow
 nerid=39417
UID:cfp277674-D@wikicfp.com
END:VEVENT
BEGIN:VEVENT
DTSTAMP:20260423T034808Z
DTSTART;VALUE=DATE:20121005
SUMMARY:ICNIT 2012 Notification Due
DESCRIPTION:2012 3rd International Conference on Networking and Informati
 on Technology 
URL:http://www.wikicfp.com/cfp/servlet/event.showcfp?eventid=23981&copyow
 nerid=39417
UID:cfp277674-N@wikicfp.com
END:VEVENT
BEGIN:VEVENT
DTSTAMP:20260423T034808Z
DTSTART;VALUE=DATE:20121020
SUMMARY:ICNIT 2012 Final Version Due
DESCRIPTION:2012 3rd International Conference on Networking and Informati
 on Technology 
URL:http://www.wikicfp.com/cfp/servlet/event.showcfp?eventid=23981&copyow
 nerid=39417
UID:cfp277674-N@wikicfp.com
END:VEVENT
BEGIN:VEVENT
DTSTAMP:20260423T034808Z
DTSTART;VALUE=DATE:20121117
DTEND;VALUE=DATE:20121119
SUMMARY:ICPES 2012
DESCRIPTION:2012 International Conference on Power and Energy Systems
URL:http://www.wikicfp.com/cfp/servlet/event.showcfp?eventid=23982&copyow
 nerid=39417
UID:cfp277675-E@wikicfp.com
END:VEVENT
BEGIN:VEVENT
DTSTAMP:20260423T034808Z
DTSTART;VALUE=DATE:20120920
SUMMARY:ICPES 2012 Deadline
DESCRIPTION:2012 International Conference on Power and Energy Systems
URL:http://www.wikicfp.com/cfp/servlet/event.showcfp?eventid=23982&copyow
 nerid=39417
UID:cfp277675-D@wikicfp.com
END:VEVENT
BEGIN:VEVENT
DTSTAMP:20260423T034808Z
DTSTART;VALUE=DATE:20121005
SUMMARY:ICPES 2012 Notification Due
DESCRIPTION:2012 International Conference on Power and Energy Systems
URL:http://www.wikicfp.com/cfp/servlet/event.showcfp?eventid=23982&copyow
 nerid=39417
UID:cfp277675-N@wikicfp.com
END:VEVENT
BEGIN:VEVENT
DTSTAMP:20260423T034808Z
DTSTART;VALUE=DATE:20121020
SUMMARY:ICPES 2012 Final Version Due
DESCRIPTION:2012 International Conference on Power and Energy Systems
URL:http://www.wikicfp.com/cfp/servlet/event.showcfp?eventid=23982&copyow
 nerid=39417
UID:cfp277675-N@wikicfp.com
END:VEVENT
BEGIN:VEVENT
DTSTAMP:20260423T034808Z
DTSTART;VALUE=DATE:20121203
DTEND;VALUE=DATE:20121206
SUMMARY:secau 2012
DESCRIPTION:secau Security Congress 2012
URL:http://www.wikicfp.com/cfp/servlet/event.showcfp?eventid=23967&copyow
 nerid=39417
UID:cfp277667-E@wikicfp.com
END:VEVENT
BEGIN:VEVENT
DTSTAMP:20260423T034808Z
DTSTART;VALUE=DATE:20120930
SUMMARY:secau 2012 Deadline
DESCRIPTION:secau Security Congress 2012
URL:http://www.wikicfp.com/cfp/servlet/event.showcfp?eventid=23967&copyow
 nerid=39417
UID:cfp277667-D@wikicfp.com
END:VEVENT
BEGIN:VEVENT
DTSTAMP:20260423T034808Z
DTSTART;VALUE=DATE:20121028
SUMMARY:secau 2012 Notification Due
DESCRIPTION:secau Security Congress 2012
URL:http://www.wikicfp.com/cfp/servlet/event.showcfp?eventid=23967&copyow
 nerid=39417
UID:cfp277667-N@wikicfp.com
END:VEVENT
BEGIN:VEVENT
DTSTAMP:20260423T034808Z
DTSTART;VALUE=DATE:20121111
SUMMARY:secau 2012 Final Version Due
DESCRIPTION:secau Security Congress 2012
URL:http://www.wikicfp.com/cfp/servlet/event.showcfp?eventid=23967&copyow
 nerid=39417
UID:cfp277667-N@wikicfp.com
END:VEVENT
BEGIN:VEVENT
DTSTAMP:20260423T034808Z
DTSTART;VALUE=DATE:20121124
DTEND;VALUE=DATE:20121126
SUMMARY:ICSIM 2012
DESCRIPTION:2012 International Conference on Software and Information Man
 agement
URL:http://www.wikicfp.com/cfp/servlet/event.showcfp?eventid=23974&copyow
 nerid=39417
UID:cfp277669-E@wikicfp.com
END:VEVENT
BEGIN:VEVENT
DTSTAMP:20260423T034808Z
DTSTART;VALUE=DATE:20121001
SUMMARY:ICSIM 2012 Deadline
DESCRIPTION:2012 International Conference on Software and Information Man
 agement
URL:http://www.wikicfp.com/cfp/servlet/event.showcfp?eventid=23974&copyow
 nerid=39417
UID:cfp277669-D@wikicfp.com
END:VEVENT
BEGIN:VEVENT
DTSTAMP:20260423T034808Z
DTSTART;VALUE=DATE:20121010
SUMMARY:ICSIM 2012 Notification Due
DESCRIPTION:2012 International Conference on Software and Information Man
 agement
URL:http://www.wikicfp.com/cfp/servlet/event.showcfp?eventid=23974&copyow
 nerid=39417
UID:cfp277669-N@wikicfp.com
END:VEVENT
BEGIN:VEVENT
DTSTAMP:20260423T034808Z
DTSTART;VALUE=DATE:20121025
SUMMARY:ICSIM 2012 Final Version Due
DESCRIPTION:2012 International Conference on Software and Information Man
 agement
URL:http://www.wikicfp.com/cfp/servlet/event.showcfp?eventid=23974&copyow
 nerid=39417
UID:cfp277669-N@wikicfp.com
END:VEVENT
BEGIN:VEVENT
DTSTAMP:20260423T034808Z
DTSTART;VALUE=DATE:20130429
DTEND;VALUE=DATE:20130503
SUMMARY:VTS 2013
DESCRIPTION:IEEE 31st VLSI Test Symposium
URL:http://www.wikicfp.com/cfp/servlet/event.showcfp?eventid=23964&copyow
 nerid=39417
UID:cfp277665-E@wikicfp.com
END:VEVENT
BEGIN:VEVENT
DTSTAMP:20260423T034808Z
DTSTART;VALUE=DATE:20121019
SUMMARY:VTS 2013 Deadline
DESCRIPTION:IEEE 31st VLSI Test Symposium
URL:http://www.wikicfp.com/cfp/servlet/event.showcfp?eventid=23964&copyow
 nerid=39417
UID:cfp277665-D@wikicfp.com
END:VEVENT
BEGIN:VEVENT
DTSTAMP:20260423T034808Z
DTSTART;VALUE=DATE:20121221
SUMMARY:VTS 2013 Notification Due
DESCRIPTION:IEEE 31st VLSI Test Symposium
URL:http://www.wikicfp.com/cfp/servlet/event.showcfp?eventid=23964&copyow
 nerid=39417
UID:cfp277665-N@wikicfp.com
END:VEVENT
BEGIN:VEVENT
DTSTAMP:20260423T034808Z
DTSTART;VALUE=DATE:20130221
SUMMARY:VTS 2013 Final Version Due
DESCRIPTION:IEEE 31st VLSI Test Symposium
URL:http://www.wikicfp.com/cfp/servlet/event.showcfp?eventid=23964&copyow
 nerid=39417
UID:cfp277665-N@wikicfp.com
END:VEVENT
BEGIN:VEVENT
DTSTAMP:20260423T034808Z
DTSTART;VALUE=DATE:20130715
DTEND;VALUE=DATE:20130721
SUMMARY:ISSTA 2013
DESCRIPTION:International Symposium on Software Testing and Analysis
URL:http://www.wikicfp.com/cfp/servlet/event.showcfp?eventid=23963&copyow
 nerid=39417
UID:cfp277664-E@wikicfp.com
END:VEVENT
BEGIN:VEVENT
DTSTAMP:20260423T034808Z
DTSTART;VALUE=DATE:20130125
SUMMARY:ISSTA 2013 Deadline
DESCRIPTION:International Symposium on Software Testing and Analysis
URL:http://www.wikicfp.com/cfp/servlet/event.showcfp?eventid=23963&copyow
 nerid=39417
UID:cfp277664-D@wikicfp.com
END:VEVENT
BEGIN:VEVENT
DTSTAMP:20260423T034808Z
DTSTART;VALUE=DATE:20130506
SUMMARY:ISSTA 2013 Notification Due
DESCRIPTION:International Symposium on Software Testing and Analysis
URL:http://www.wikicfp.com/cfp/servlet/event.showcfp?eventid=23963&copyow
 nerid=39417
UID:cfp277664-N@wikicfp.com
END:VEVENT
BEGIN:VEVENT
DTSTAMP:20260423T034808Z
DTSTART;VALUE=DATE:20130531
SUMMARY:ISSTA 2013 Final Version Due
DESCRIPTION:International Symposium on Software Testing and Analysis
URL:http://www.wikicfp.com/cfp/servlet/event.showcfp?eventid=23963&copyow
 nerid=39417
UID:cfp277664-N@wikicfp.com
END:VEVENT
END:VCALENDAR
