BEGIN:VCALENDAR
PRODID:-//WikiCFP//mariaamalfi80 1.0//EN
VERSION:2.0
CALSCALE:GREGORIAN
BEGIN:VEVENT
DTSTAMP:20260419T180948Z
DTSTART;VALUE=DATE:20130318
DTEND;VALUE=DATE:20130323
SUMMARY:ICDT 2013
DESCRIPTION:16th International Conference on Database Theory
URL:http://www.wikicfp.com/cfp/servlet/event.showcfp?eventid=23136&copyow
 nerid=39207
UID:cfp339328-E@wikicfp.com
END:VEVENT
BEGIN:VEVENT
DTSTAMP:20260419T180948Z
DTSTART;VALUE=DATE:20120817
SUMMARY:ICDT 2013 Abstract Due
DESCRIPTION:16th International Conference on Database Theory
URL:http://www.wikicfp.com/cfp/servlet/event.showcfp?eventid=23136&copyow
 nerid=39207
UID:cfp339328-A@wikicfp.com
END:VEVENT
BEGIN:VEVENT
DTSTAMP:20260419T180948Z
DTSTART;VALUE=DATE:20120824
SUMMARY:ICDT 2013 Deadline
DESCRIPTION:16th International Conference on Database Theory
URL:http://www.wikicfp.com/cfp/servlet/event.showcfp?eventid=23136&copyow
 nerid=39207
UID:cfp339328-D@wikicfp.com
END:VEVENT
BEGIN:VEVENT
DTSTAMP:20260419T180948Z
DTSTART;VALUE=DATE:20121102
SUMMARY:ICDT 2013 Notification Due
DESCRIPTION:16th International Conference on Database Theory
URL:http://www.wikicfp.com/cfp/servlet/event.showcfp?eventid=23136&copyow
 nerid=39207
UID:cfp339328-N@wikicfp.com
END:VEVENT
BEGIN:VEVENT
DTSTAMP:20260419T180948Z
DTSTART;VALUE=DATE:20130318
DTEND;VALUE=DATE:20130323
SUMMARY:EDBT 2013
DESCRIPTION:International Conference on Extending Database Technology
URL:http://www.wikicfp.com/cfp/servlet/event.showcfp?eventid=23036&copyow
 nerid=39207
UID:cfp339327-E@wikicfp.com
END:VEVENT
BEGIN:VEVENT
DTSTAMP:20260419T180948Z
DTSTART;VALUE=DATE:20121019
SUMMARY:EDBT 2013 Abstract Due
DESCRIPTION:International Conference on Extending Database Technology
URL:http://www.wikicfp.com/cfp/servlet/event.showcfp?eventid=23036&copyow
 nerid=39207
UID:cfp339327-A@wikicfp.com
END:VEVENT
BEGIN:VEVENT
DTSTAMP:20260419T180948Z
DTSTART;VALUE=DATE:20121026
SUMMARY:EDBT 2013 Deadline
DESCRIPTION:International Conference on Extending Database Technology
URL:http://www.wikicfp.com/cfp/servlet/event.showcfp?eventid=23036&copyow
 nerid=39207
UID:cfp339327-D@wikicfp.com
END:VEVENT
BEGIN:VEVENT
DTSTAMP:20260419T180948Z
DTSTART;VALUE=DATE:20121222
SUMMARY:EDBT 2013 Notification Due
DESCRIPTION:International Conference on Extending Database Technology
URL:http://www.wikicfp.com/cfp/servlet/event.showcfp?eventid=23036&copyow
 nerid=39207
UID:cfp339327-N@wikicfp.com
END:VEVENT
BEGIN:VEVENT
DTSTAMP:20260419T180948Z
DTSTART;VALUE=DATE:20130623
DTEND;VALUE=DATE:20130629
SUMMARY:SIGMOD 2013
DESCRIPTION:ACM SIGMOD International Conference on Management of Data
URL:http://www.wikicfp.com/cfp/servlet/event.showcfp?eventid=24911&copyow
 nerid=39207
UID:cfp339322-E@wikicfp.com
END:VEVENT
BEGIN:VEVENT
DTSTAMP:20260419T180948Z
DTSTART;VALUE=DATE:20121113
SUMMARY:SIGMOD 2013 Deadline
DESCRIPTION:ACM SIGMOD International Conference on Management of Data
URL:http://www.wikicfp.com/cfp/servlet/event.showcfp?eventid=24911&copyow
 nerid=39207
UID:cfp339322-D@wikicfp.com
END:VEVENT
BEGIN:VEVENT
DTSTAMP:20260419T180948Z
DTSTART;VALUE=DATE:20130205
SUMMARY:SIGMOD 2013 Notification Due
DESCRIPTION:ACM SIGMOD International Conference on Management of Data
URL:http://www.wikicfp.com/cfp/servlet/event.showcfp?eventid=24911&copyow
 nerid=39207
UID:cfp339322-N@wikicfp.com
END:VEVENT
BEGIN:VEVENT
DTSTAMP:20260419T180948Z
DTSTART;VALUE=DATE:20130305
SUMMARY:SIGMOD 2013 Final Version Due
DESCRIPTION:ACM SIGMOD International Conference on Management of Data
URL:http://www.wikicfp.com/cfp/servlet/event.showcfp?eventid=24911&copyow
 nerid=39207
UID:cfp339322-N@wikicfp.com
END:VEVENT
BEGIN:VEVENT
DTSTAMP:20260419T180948Z
DTSTART;VALUE=DATE:20130624
DTEND;VALUE=DATE:20130627
SUMMARY:PODS 2013
DESCRIPTION:32nd ACM SIGMOD-SIGACT-SIGART Symposium on Principles Of Data
 base Systems
URL:http://www.wikicfp.com/cfp/servlet/event.showcfp?eventid=25177&copyow
 nerid=39207
UID:cfp339323-E@wikicfp.com
END:VEVENT
BEGIN:VEVENT
DTSTAMP:20260419T180948Z
DTSTART;VALUE=DATE:20121128
SUMMARY:PODS 2013 Deadline
DESCRIPTION:32nd ACM SIGMOD-SIGACT-SIGART Symposium on Principles Of Data
 base Systems
URL:http://www.wikicfp.com/cfp/servlet/event.showcfp?eventid=25177&copyow
 nerid=39207
UID:cfp339323-D@wikicfp.com
END:VEVENT
BEGIN:VEVENT
DTSTAMP:20260419T180948Z
DTSTART;VALUE=DATE:20130826
DTEND;VALUE=DATE:20130901
SUMMARY:VLDB 2013
DESCRIPTION:International Conference on Very Large Data Bases
URL:http://www.wikicfp.com/cfp/servlet/event.showcfp?eventid=22371&copyow
 nerid=39207
UID:cfp283998-E@wikicfp.com
END:VEVENT
BEGIN:VEVENT
DTSTAMP:20260419T180948Z
DTSTART;VALUE=DATE:20130301
SUMMARY:VLDB 2013 Deadline
DESCRIPTION:International Conference on Very Large Data Bases
URL:http://www.wikicfp.com/cfp/servlet/event.showcfp?eventid=22371&copyow
 nerid=39207
UID:cfp283998-D@wikicfp.com
END:VEVENT
BEGIN:VEVENT
DTSTAMP:20260419T180948Z
DTSTART;VALUE=DATE:20130826
DTEND;VALUE=DATE:20130831
SUMMARY:DEXA 2013
DESCRIPTION:24th International Conference on Database and Expert Systems 
 Applications
URL:http://www.wikicfp.com/cfp/servlet/event.showcfp?eventid=27259&copyow
 nerid=39207
UID:cfp339329-E@wikicfp.com
END:VEVENT
BEGIN:VEVENT
DTSTAMP:20260419T180948Z
DTSTART;VALUE=DATE:20130322
SUMMARY:DEXA 2013 Abstract Due
DESCRIPTION:24th International Conference on Database and Expert Systems 
 Applications
URL:http://www.wikicfp.com/cfp/servlet/event.showcfp?eventid=27259&copyow
 nerid=39207
UID:cfp339329-A@wikicfp.com
END:VEVENT
BEGIN:VEVENT
DTSTAMP:20260419T180948Z
DTSTART;VALUE=DATE:20130329
SUMMARY:DEXA 2013 Deadline
DESCRIPTION:24th International Conference on Database and Expert Systems 
 Applications
URL:http://www.wikicfp.com/cfp/servlet/event.showcfp?eventid=27259&copyow
 nerid=39207
UID:cfp339329-D@wikicfp.com
END:VEVENT
BEGIN:VEVENT
DTSTAMP:20260419T180948Z
DTSTART;VALUE=DATE:20130520
SUMMARY:DEXA 2013 Notification Due
DESCRIPTION:24th International Conference on Database and Expert Systems 
 Applications
URL:http://www.wikicfp.com/cfp/servlet/event.showcfp?eventid=27259&copyow
 nerid=39207
UID:cfp339329-N@wikicfp.com
END:VEVENT
BEGIN:VEVENT
DTSTAMP:20260419T180948Z
DTSTART;VALUE=DATE:20130610
SUMMARY:DEXA 2013 Final Version Due
DESCRIPTION:24th International Conference on Database and Expert Systems 
 Applications
URL:http://www.wikicfp.com/cfp/servlet/event.showcfp?eventid=27259&copyow
 nerid=39207
UID:cfp339329-N@wikicfp.com
END:VEVENT
BEGIN:VEVENT
DTSTAMP:20260419T180948Z
DTSTART;VALUE=DATE:20130909
DTEND;VALUE=DATE:20130913
SUMMARY:ISWC 2013
DESCRIPTION:The 17th International Symposium on Wearable Computers
URL:http://www.wikicfp.com/cfp/servlet/event.showcfp?eventid=23951&copyow
 nerid=39207
UID:cfp339325-E@wikicfp.com
END:VEVENT
BEGIN:VEVENT
DTSTAMP:20260419T180948Z
DTSTART;VALUE=DATE:20130407
SUMMARY:ISWC 2013 Abstract Due
DESCRIPTION:The 17th International Symposium on Wearable Computers
URL:http://www.wikicfp.com/cfp/servlet/event.showcfp?eventid=23951&copyow
 nerid=39207
UID:cfp339325-A@wikicfp.com
END:VEVENT
BEGIN:VEVENT
DTSTAMP:20260419T180948Z
DTSTART;VALUE=DATE:20130412
SUMMARY:ISWC 2013 Deadline
DESCRIPTION:The 17th International Symposium on Wearable Computers
URL:http://www.wikicfp.com/cfp/servlet/event.showcfp?eventid=23951&copyow
 nerid=39207
UID:cfp339325-D@wikicfp.com
END:VEVENT
BEGIN:VEVENT
DTSTAMP:20260419T180948Z
DTSTART;VALUE=DATE:20130520
SUMMARY:ISWC 2013 Notification Due
DESCRIPTION:The 17th International Symposium on Wearable Computers
URL:http://www.wikicfp.com/cfp/servlet/event.showcfp?eventid=23951&copyow
 nerid=39207
UID:cfp339325-N@wikicfp.com
END:VEVENT
BEGIN:VEVENT
DTSTAMP:20260419T180948Z
DTSTART;VALUE=DATE:20130617
SUMMARY:ISWC 2013 Final Version Due
DESCRIPTION:The 17th International Symposium on Wearable Computers
URL:http://www.wikicfp.com/cfp/servlet/event.showcfp?eventid=23951&copyow
 nerid=39207
UID:cfp339325-N@wikicfp.com
END:VEVENT
BEGIN:VEVENT
DTSTAMP:20260419T180948Z
DTSTART;VALUE=DATE:20131111
DTEND;VALUE=DATE:20131114
SUMMARY: ER 2013
DESCRIPTION:32nd International Conference on Conceptual Modeling
URL:http://www.wikicfp.com/cfp/servlet/event.showcfp?eventid=28582&copyow
 nerid=39207
UID:cfp339330-E@wikicfp.com
END:VEVENT
BEGIN:VEVENT
DTSTAMP:20260419T180948Z
DTSTART;VALUE=DATE:20130408
SUMMARY: ER 2013 Abstract Due
DESCRIPTION:32nd International Conference on Conceptual Modeling
URL:http://www.wikicfp.com/cfp/servlet/event.showcfp?eventid=28582&copyow
 nerid=39207
UID:cfp339330-A@wikicfp.com
END:VEVENT
BEGIN:VEVENT
DTSTAMP:20260419T180948Z
DTSTART;VALUE=DATE:20130416
SUMMARY: ER 2013 Deadline
DESCRIPTION:32nd International Conference on Conceptual Modeling
URL:http://www.wikicfp.com/cfp/servlet/event.showcfp?eventid=28582&copyow
 nerid=39207
UID:cfp339330-D@wikicfp.com
END:VEVENT
BEGIN:VEVENT
DTSTAMP:20260419T180948Z
DTSTART;VALUE=DATE:20130617
SUMMARY: ER 2013 Notification Due
DESCRIPTION:32nd International Conference on Conceptual Modeling
URL:http://www.wikicfp.com/cfp/servlet/event.showcfp?eventid=28582&copyow
 nerid=39207
UID:cfp339330-N@wikicfp.com
END:VEVENT
BEGIN:VEVENT
DTSTAMP:20260419T180948Z
DTSTART;VALUE=DATE:20130715
SUMMARY: ER 2013 Final Version Due
DESCRIPTION:32nd International Conference on Conceptual Modeling
URL:http://www.wikicfp.com/cfp/servlet/event.showcfp?eventid=28582&copyow
 nerid=39207
UID:cfp339330-N@wikicfp.com
END:VEVENT
BEGIN:VEVENT
DTSTAMP:20260419T180948Z
DTSTART;VALUE=DATE:20131021
DTEND;VALUE=DATE:20131026
SUMMARY:ISWC 2013
DESCRIPTION:The 12th International Semantic Web Conference
URL:http://www.wikicfp.com/cfp/servlet/event.showcfp?eventid=28320&copyow
 nerid=39207
UID:cfp339324-E@wikicfp.com
END:VEVENT
BEGIN:VEVENT
DTSTAMP:20260419T180948Z
DTSTART;VALUE=DATE:20130501
SUMMARY:ISWC 2013 Abstract Due
DESCRIPTION:The 12th International Semantic Web Conference
URL:http://www.wikicfp.com/cfp/servlet/event.showcfp?eventid=28320&copyow
 nerid=39207
UID:cfp339324-A@wikicfp.com
END:VEVENT
BEGIN:VEVENT
DTSTAMP:20260419T180948Z
DTSTART;VALUE=DATE:20130510
SUMMARY:ISWC 2013 Deadline
DESCRIPTION:The 12th International Semantic Web Conference
URL:http://www.wikicfp.com/cfp/servlet/event.showcfp?eventid=28320&copyow
 nerid=39207
UID:cfp339324-D@wikicfp.com
END:VEVENT
BEGIN:VEVENT
DTSTAMP:20260419T180948Z
DTSTART;VALUE=DATE:20130703
SUMMARY:ISWC 2013 Notification Due
DESCRIPTION:The 12th International Semantic Web Conference
URL:http://www.wikicfp.com/cfp/servlet/event.showcfp?eventid=28320&copyow
 nerid=39207
UID:cfp339324-N@wikicfp.com
END:VEVENT
BEGIN:VEVENT
DTSTAMP:20260419T180948Z
DTSTART;VALUE=DATE:20130805
SUMMARY:ISWC 2013 Final Version Due
DESCRIPTION:The 12th International Semantic Web Conference
URL:http://www.wikicfp.com/cfp/servlet/event.showcfp?eventid=28320&copyow
 nerid=39207
UID:cfp339324-N@wikicfp.com
END:VEVENT
BEGIN:VEVENT
DTSTAMP:20260419T180948Z
DTSTART;VALUE=DATE:20130910
DTEND;VALUE=DATE:20130912
SUMMARY:ODBASE 2013
DESCRIPTION:The 12th International Conference on Ontologies\, DataBases\,
  and Applications of Semantics
URL:http://www.wikicfp.com/cfp/servlet/event.showcfp?eventid=28838&copyow
 nerid=39207
UID:cfp344248-E@wikicfp.com
END:VEVENT
BEGIN:VEVENT
DTSTAMP:20260419T180948Z
DTSTART;VALUE=DATE:20130511
SUMMARY:ODBASE 2013 Deadline
DESCRIPTION:The 12th International Conference on Ontologies\, DataBases\,
  and Applications of Semantics
URL:http://www.wikicfp.com/cfp/servlet/event.showcfp?eventid=28838&copyow
 nerid=39207
UID:cfp344248-D@wikicfp.com
END:VEVENT
BEGIN:VEVENT
DTSTAMP:20260419T180948Z
DTSTART;VALUE=DATE:20131027
DTEND;VALUE=DATE:20131102
SUMMARY:CIKM 2013
DESCRIPTION:ACM Conference of Information and Knowledge Management
URL:http://www.wikicfp.com/cfp/servlet/event.showcfp?eventid=25339&copyow
 nerid=39207
UID:cfp339326-E@wikicfp.com
END:VEVENT
BEGIN:VEVENT
DTSTAMP:20260419T180948Z
DTSTART;VALUE=DATE:20130510
SUMMARY:CIKM 2013 Abstract Due
DESCRIPTION:ACM Conference of Information and Knowledge Management
URL:http://www.wikicfp.com/cfp/servlet/event.showcfp?eventid=25339&copyow
 nerid=39207
UID:cfp339326-A@wikicfp.com
END:VEVENT
BEGIN:VEVENT
DTSTAMP:20260419T180948Z
DTSTART;VALUE=DATE:20130517
SUMMARY:CIKM 2013 Deadline
DESCRIPTION:ACM Conference of Information and Knowledge Management
URL:http://www.wikicfp.com/cfp/servlet/event.showcfp?eventid=25339&copyow
 nerid=39207
UID:cfp339326-D@wikicfp.com
END:VEVENT
BEGIN:VEVENT
DTSTAMP:20260419T180948Z
DTSTART;VALUE=DATE:20130715
SUMMARY:CIKM 2013 Notification Due
DESCRIPTION:ACM Conference of Information and Knowledge Management
URL:http://www.wikicfp.com/cfp/servlet/event.showcfp?eventid=25339&copyow
 nerid=39207
UID:cfp339326-N@wikicfp.com
END:VEVENT
BEGIN:VEVENT
DTSTAMP:20260419T180948Z
DTSTART;VALUE=DATE:20130811
SUMMARY:CIKM 2013 Final Version Due
DESCRIPTION:ACM Conference of Information and Knowledge Management
URL:http://www.wikicfp.com/cfp/servlet/event.showcfp?eventid=25339&copyow
 nerid=39207
UID:cfp339326-N@wikicfp.com
END:VEVENT
BEGIN:VEVENT
DTSTAMP:20260419T180948Z
DTSTART;VALUE=DATE:20130129
DTEND;VALUE=DATE:20130202
SUMMARY:APCCM 2013
DESCRIPTION:The Ninth Asia-Pacific Conference on Conceptual Modelling
URL:http://www.wikicfp.com/cfp/servlet/event.showcfp?eventid=24314&copyow
 nerid=39207
UID:cfp283999-E@wikicfp.com
END:VEVENT
BEGIN:VEVENT
DTSTAMP:20260419T180948Z
DTSTART;VALUE=DATE:20130806
SUMMARY:APCCM 2013 Abstract Due
DESCRIPTION:The Ninth Asia-Pacific Conference on Conceptual Modelling
URL:http://www.wikicfp.com/cfp/servlet/event.showcfp?eventid=24314&copyow
 nerid=39207
UID:cfp283999-A@wikicfp.com
END:VEVENT
BEGIN:VEVENT
DTSTAMP:20260419T180948Z
DTSTART;VALUE=DATE:20130813
SUMMARY:APCCM 2013 Deadline
DESCRIPTION:The Ninth Asia-Pacific Conference on Conceptual Modelling
URL:http://www.wikicfp.com/cfp/servlet/event.showcfp?eventid=24314&copyow
 nerid=39207
UID:cfp283999-D@wikicfp.com
END:VEVENT
BEGIN:VEVENT
DTSTAMP:20260419T180948Z
DTSTART;VALUE=DATE:20121008
SUMMARY:APCCM 2013 Notification Due
DESCRIPTION:The Ninth Asia-Pacific Conference on Conceptual Modelling
URL:http://www.wikicfp.com/cfp/servlet/event.showcfp?eventid=24314&copyow
 nerid=39207
UID:cfp283999-N@wikicfp.com
END:VEVENT
BEGIN:VEVENT
DTSTAMP:20260419T180948Z
DTSTART;VALUE=DATE:20121029
SUMMARY:APCCM 2013 Final Version Due
DESCRIPTION:The Ninth Asia-Pacific Conference on Conceptual Modelling
URL:http://www.wikicfp.com/cfp/servlet/event.showcfp?eventid=24314&copyow
 nerid=39207
UID:cfp283999-N@wikicfp.com
END:VEVENT
END:VCALENDAR
