BEGIN:VCALENDAR
PRODID:-//WikiCFP//alicia_diaz 1.0//EN
VERSION:2.0
CALSCALE:GREGORIAN
BEGIN:VEVENT
DTSTAMP:20260419T231411Z
DTSTART;VALUE=DATE:20091005
DTEND;VALUE=DATE:20091008
SUMMARY:ICCCI 2009
DESCRIPTION:1st International Conference on Computational Collective Inte
 lligence - Semantic Web\, Social Networks & Multiagent Systems
URL:http://www.wikicfp.com/cfp/servlet/event.showcfp?eventid=4855&copyown
 erid=3907
UID:cfp31414-E@wikicfp.com
END:VEVENT
BEGIN:VEVENT
DTSTAMP:20260419T231411Z
DTSTART;VALUE=DATE:20090331
SUMMARY:ICCCI 2009 Deadline
DESCRIPTION:1st International Conference on Computational Collective Inte
 lligence - Semantic Web\, Social Networks & Multiagent Systems
URL:http://www.wikicfp.com/cfp/servlet/event.showcfp?eventid=4855&copyown
 erid=3907
UID:cfp31414-D@wikicfp.com
END:VEVENT
BEGIN:VEVENT
DTSTAMP:20260419T231411Z
DTSTART;VALUE=DATE:20091109
DTEND;VALUE=DATE:20091113
SUMMARY:ER 2009
DESCRIPTION:28th International Conference on Conceptual Modeling
URL:http://www.wikicfp.com/cfp/servlet/event.showcfp?eventid=4688&copyown
 erid=3907
UID:cfp31417-E@wikicfp.com
END:VEVENT
BEGIN:VEVENT
DTSTAMP:20260419T231411Z
DTSTART;VALUE=DATE:20090406
SUMMARY:ER 2009 Abstract Due
DESCRIPTION:28th International Conference on Conceptual Modeling
URL:http://www.wikicfp.com/cfp/servlet/event.showcfp?eventid=4688&copyown
 erid=3907
UID:cfp31417-A@wikicfp.com
END:VEVENT
BEGIN:VEVENT
DTSTAMP:20260419T231411Z
DTSTART;VALUE=DATE:20090413
SUMMARY:ER 2009 Deadline
DESCRIPTION:28th International Conference on Conceptual Modeling
URL:http://www.wikicfp.com/cfp/servlet/event.showcfp?eventid=4688&copyown
 erid=3907
UID:cfp31417-D@wikicfp.com
END:VEVENT
BEGIN:VEVENT
DTSTAMP:20260419T231411Z
DTSTART;VALUE=DATE:20090615
SUMMARY:ER 2009 Notification Due
DESCRIPTION:28th International Conference on Conceptual Modeling
URL:http://www.wikicfp.com/cfp/servlet/event.showcfp?eventid=4688&copyown
 erid=3907
UID:cfp31417-N@wikicfp.com
END:VEVENT
BEGIN:VEVENT
DTSTAMP:20260419T231411Z
DTSTART;VALUE=DATE:20090706
SUMMARY:ER 2009 Final Version Due
DESCRIPTION:28th International Conference on Conceptual Modeling
URL:http://www.wikicfp.com/cfp/servlet/event.showcfp?eventid=4688&copyown
 erid=3907
UID:cfp31417-N@wikicfp.com
END:VEVENT
BEGIN:VEVENT
DTSTAMP:20260419T231411Z
DTSTART;VALUE=DATE:20090907
DTEND;VALUE=DATE:20090908
SUMMARY:DAMIEN 2009
DESCRIPTION:DAta MIning for the EvolviNg Web
URL:http://www.wikicfp.com/cfp/servlet/event.showcfp?eventid=5099&copyown
 erid=3907
UID:cfp31411-E@wikicfp.com
END:VEVENT
BEGIN:VEVENT
DTSTAMP:20260419T231411Z
DTSTART;VALUE=DATE:20090427
SUMMARY:DAMIEN 2009 Deadline
DESCRIPTION:DAta MIning for the EvolviNg Web
URL:http://www.wikicfp.com/cfp/servlet/event.showcfp?eventid=5099&copyown
 erid=3907
UID:cfp31411-D@wikicfp.com
END:VEVENT
BEGIN:VEVENT
DTSTAMP:20260419T231411Z
DTSTART;VALUE=DATE:20090601
SUMMARY:DAMIEN 2009 Notification Due
DESCRIPTION:DAta MIning for the EvolviNg Web
URL:http://www.wikicfp.com/cfp/servlet/event.showcfp?eventid=5099&copyown
 erid=3907
UID:cfp31411-N@wikicfp.com
END:VEVENT
BEGIN:VEVENT
DTSTAMP:20260419T231411Z
DTSTART;VALUE=DATE:20090615
SUMMARY:DAMIEN 2009 Final Version Due
DESCRIPTION:DAta MIning for the EvolviNg Web
URL:http://www.wikicfp.com/cfp/servlet/event.showcfp?eventid=5099&copyown
 erid=3907
UID:cfp31411-N@wikicfp.com
END:VEVENT
BEGIN:VEVENT
DTSTAMP:20260419T231411Z
DTSTART;VALUE=DATE:20091109
DTEND;VALUE=DATE:20091110
SUMMARY:MOST-ONISW 2009
DESCRIPTION:The Joint International Workshop on Metamodels\, Ontologies\,
  Semantic Technologies\, and Information Systems for the Semantic Web
URL:http://www.wikicfp.com/cfp/servlet/event.showcfp?eventid=5077&copyown
 erid=3907
UID:cfp31415-E@wikicfp.com
END:VEVENT
BEGIN:VEVENT
DTSTAMP:20260419T231411Z
DTSTART;VALUE=DATE:20090504
SUMMARY:MOST-ONISW 2009 Deadline
DESCRIPTION:The Joint International Workshop on Metamodels\, Ontologies\,
  Semantic Technologies\, and Information Systems for the Semantic Web
URL:http://www.wikicfp.com/cfp/servlet/event.showcfp?eventid=5077&copyown
 erid=3907
UID:cfp31415-D@wikicfp.com
END:VEVENT
BEGIN:VEVENT
DTSTAMP:20260419T231411Z
DTSTART;VALUE=DATE:20090601
SUMMARY:MOST-ONISW 2009 Notification Due
DESCRIPTION:The Joint International Workshop on Metamodels\, Ontologies\,
  Semantic Technologies\, and Information Systems for the Semantic Web
URL:http://www.wikicfp.com/cfp/servlet/event.showcfp?eventid=5077&copyown
 erid=3907
UID:cfp31415-N@wikicfp.com
END:VEVENT
BEGIN:VEVENT
DTSTAMP:20260419T231411Z
DTSTART;VALUE=DATE:20090622
SUMMARY:MOST-ONISW 2009 Final Version Due
DESCRIPTION:The Joint International Workshop on Metamodels\, Ontologies\,
  Semantic Technologies\, and Information Systems for the Semantic Web
URL:http://www.wikicfp.com/cfp/servlet/event.showcfp?eventid=5077&copyown
 erid=3907
UID:cfp31415-N@wikicfp.com
END:VEVENT
BEGIN:VEVENT
DTSTAMP:20260419T231411Z
DTSTART;VALUE=DATE:20091014
DTEND;VALUE=DATE:20091016
SUMMARY:KSE 2009
DESCRIPTION:The First International Conference on Knowledge and Systems E
 ngineering
URL:http://www.wikicfp.com/cfp/servlet/event.showcfp?eventid=4903&copyown
 erid=3907
UID:cfp31412-E@wikicfp.com
END:VEVENT
BEGIN:VEVENT
DTSTAMP:20260419T231411Z
DTSTART;VALUE=DATE:20090520
SUMMARY:KSE 2009 Deadline
DESCRIPTION:The First International Conference on Knowledge and Systems E
 ngineering
URL:http://www.wikicfp.com/cfp/servlet/event.showcfp?eventid=4903&copyown
 erid=3907
UID:cfp31412-D@wikicfp.com
END:VEVENT
BEGIN:VEVENT
DTSTAMP:20260419T231411Z
DTSTART;VALUE=DATE:20090625
SUMMARY:KSE 2009 Notification Due
DESCRIPTION:The First International Conference on Knowledge and Systems E
 ngineering
URL:http://www.wikicfp.com/cfp/servlet/event.showcfp?eventid=4903&copyown
 erid=3907
UID:cfp31412-N@wikicfp.com
END:VEVENT
BEGIN:VEVENT
DTSTAMP:20260419T231411Z
DTSTART;VALUE=DATE:20090705
SUMMARY:KSE 2009 Final Version Due
DESCRIPTION:The First International Conference on Knowledge and Systems E
 ngineering
URL:http://www.wikicfp.com/cfp/servlet/event.showcfp?eventid=4903&copyown
 erid=3907
UID:cfp31412-N@wikicfp.com
END:VEVENT
BEGIN:VEVENT
DTSTAMP:20260419T231411Z
DTSTART;VALUE=DATE:20091102
DTEND;VALUE=DATE:20091107
SUMMARY:CIKM 2009
DESCRIPTION:ACM Conference on Information and Knowledge Management
URL:http://www.wikicfp.com/cfp/servlet/event.showcfp?eventid=4285&copyown
 erid=3907
UID:cfp31416-E@wikicfp.com
END:VEVENT
BEGIN:VEVENT
DTSTAMP:20260419T231411Z
DTSTART;VALUE=DATE:20090601
SUMMARY:CIKM 2009 Abstract Due
DESCRIPTION:ACM Conference on Information and Knowledge Management
URL:http://www.wikicfp.com/cfp/servlet/event.showcfp?eventid=4285&copyown
 erid=3907
UID:cfp31416-A@wikicfp.com
END:VEVENT
BEGIN:VEVENT
DTSTAMP:20260419T231411Z
DTSTART;VALUE=DATE:20090608
SUMMARY:CIKM 2009 Deadline
DESCRIPTION:ACM Conference on Information and Knowledge Management
URL:http://www.wikicfp.com/cfp/servlet/event.showcfp?eventid=4285&copyown
 erid=3907
UID:cfp31416-D@wikicfp.com
END:VEVENT
BEGIN:VEVENT
DTSTAMP:20260419T231411Z
DTSTART;VALUE=DATE:20090725
SUMMARY:CIKM 2009 Notification Due
DESCRIPTION:ACM Conference on Information and Knowledge Management
URL:http://www.wikicfp.com/cfp/servlet/event.showcfp?eventid=4285&copyown
 erid=3907
UID:cfp31416-N@wikicfp.com
END:VEVENT
BEGIN:VEVENT
DTSTAMP:20260419T231411Z
DTSTART;VALUE=DATE:20090815
SUMMARY:CIKM 2009 Final Version Due
DESCRIPTION:ACM Conference on Information and Knowledge Management
URL:http://www.wikicfp.com/cfp/servlet/event.showcfp?eventid=4285&copyown
 erid=3907
UID:cfp31416-N@wikicfp.com
END:VEVENT
BEGIN:VEVENT
DTSTAMP:20260419T231411Z
DTSTART;VALUE=DATE:20091025
DTEND;VALUE=DATE:20091030
SUMMARY:ISWC 2009
DESCRIPTION:8th International Semantic Web Conference
URL:http://www.wikicfp.com/cfp/servlet/event.showcfp?eventid=4466&copyown
 erid=3907
UID:cfp31413-E@wikicfp.com
END:VEVENT
BEGIN:VEVENT
DTSTAMP:20260419T231411Z
DTSTART;VALUE=DATE:20090608
SUMMARY:ISWC 2009 Abstract Due
DESCRIPTION:8th International Semantic Web Conference
URL:http://www.wikicfp.com/cfp/servlet/event.showcfp?eventid=4466&copyown
 erid=3907
UID:cfp31413-A@wikicfp.com
END:VEVENT
BEGIN:VEVENT
DTSTAMP:20260419T231411Z
DTSTART;VALUE=DATE:20090615
SUMMARY:ISWC 2009 Deadline
DESCRIPTION:8th International Semantic Web Conference
URL:http://www.wikicfp.com/cfp/servlet/event.showcfp?eventid=4466&copyown
 erid=3907
UID:cfp31413-D@wikicfp.com
END:VEVENT
END:VCALENDAR
