BEGIN:VCALENDAR
PRODID:-//WikiCFP//zhengxiuqing 1.0//EN
VERSION:2.0
CALSCALE:GREGORIAN
BEGIN:VEVENT
DTSTAMP:20260421T215218Z
DTSTART;VALUE=DATE:20120825
DTEND;VALUE=DATE:20120827
SUMMARY:ICIVC 2012
DESCRIPTION:2012 International Conference on Image\, Vision and Computing
 
URL:http://www.wikicfp.com/cfp/servlet/event.showcfp?eventid=22901&copyow
 nerid=38987
UID:cfp273553-E@wikicfp.com
END:VEVENT
BEGIN:VEVENT
DTSTAMP:20260421T215218Z
DTSTART;VALUE=DATE:20120630
SUMMARY:ICIVC 2012 Deadline
DESCRIPTION:2012 International Conference on Image\, Vision and Computing
 
URL:http://www.wikicfp.com/cfp/servlet/event.showcfp?eventid=22901&copyow
 nerid=38987
UID:cfp273553-D@wikicfp.com
END:VEVENT
BEGIN:VEVENT
DTSTAMP:20260421T215218Z
DTSTART;VALUE=DATE:20120720
SUMMARY:ICIVC 2012 Notification Due
DESCRIPTION:2012 International Conference on Image\, Vision and Computing
 
URL:http://www.wikicfp.com/cfp/servlet/event.showcfp?eventid=22901&copyow
 nerid=38987
UID:cfp273553-N@wikicfp.com
END:VEVENT
BEGIN:VEVENT
DTSTAMP:20260421T215218Z
DTSTART;VALUE=DATE:20120805
SUMMARY:ICIVC 2012 Final Version Due
DESCRIPTION:2012 International Conference on Image\, Vision and Computing
 
URL:http://www.wikicfp.com/cfp/servlet/event.showcfp?eventid=22901&copyow
 nerid=38987
UID:cfp273553-N@wikicfp.com
END:VEVENT
BEGIN:VEVENT
DTSTAMP:20260421T215218Z
DTSTART;VALUE=DATE:20121005
DTEND;VALUE=DATE:20121008
SUMMARY:ICGIP 2012
DESCRIPTION:2012 4th International Conference on Graphic and Image Proces
 sing
URL:http://www.wikicfp.com/cfp/servlet/event.showcfp?eventid=23734&copyow
 nerid=38987
UID:cfp273559-E@wikicfp.com
END:VEVENT
BEGIN:VEVENT
DTSTAMP:20260421T215218Z
DTSTART;VALUE=DATE:20120720
SUMMARY:ICGIP 2012 Deadline
DESCRIPTION:2012 4th International Conference on Graphic and Image Proces
 sing
URL:http://www.wikicfp.com/cfp/servlet/event.showcfp?eventid=23734&copyow
 nerid=38987
UID:cfp273559-D@wikicfp.com
END:VEVENT
BEGIN:VEVENT
DTSTAMP:20260421T215218Z
DTSTART;VALUE=DATE:20120820
SUMMARY:ICGIP 2012 Notification Due
DESCRIPTION:2012 4th International Conference on Graphic and Image Proces
 sing
URL:http://www.wikicfp.com/cfp/servlet/event.showcfp?eventid=23734&copyow
 nerid=38987
UID:cfp273559-N@wikicfp.com
END:VEVENT
BEGIN:VEVENT
DTSTAMP:20260421T215218Z
DTSTART;VALUE=DATE:20120905
SUMMARY:ICGIP 2012 Final Version Due
DESCRIPTION:2012 4th International Conference on Graphic and Image Proces
 sing
URL:http://www.wikicfp.com/cfp/servlet/event.showcfp?eventid=23734&copyow
 nerid=38987
UID:cfp273559-N@wikicfp.com
END:VEVENT
BEGIN:VEVENT
DTSTAMP:20260421T215218Z
DTSTART;VALUE=DATE:20130915
DTEND;VALUE=DATE:20130919
SUMMARY:ICIP 2013
DESCRIPTION:IEEE International Conference on Image Processing
URL:http://www.wikicfp.com/cfp/servlet/event.showcfp?eventid=22393&copyow
 nerid=38987
UID:cfp273537-E@wikicfp.com
END:VEVENT
BEGIN:VEVENT
DTSTAMP:20260421T215218Z
DTSTART;VALUE=DATE:20130205
SUMMARY:ICIP 2013 Deadline
DESCRIPTION:IEEE International Conference on Image Processing
URL:http://www.wikicfp.com/cfp/servlet/event.showcfp?eventid=22393&copyow
 nerid=38987
UID:cfp273537-D@wikicfp.com
END:VEVENT
BEGIN:VEVENT
DTSTAMP:20260421T215218Z
DTSTART;VALUE=DATE:20130412
SUMMARY:ICIP 2013 Notification Due
DESCRIPTION:IEEE International Conference on Image Processing
URL:http://www.wikicfp.com/cfp/servlet/event.showcfp?eventid=22393&copyow
 nerid=38987
UID:cfp273537-N@wikicfp.com
END:VEVENT
END:VCALENDAR
