BEGIN:VCALENDAR
PRODID:-//WikiCFP//NOOREZAHRA 1.0//EN
VERSION:2.0
CALSCALE:GREGORIAN
BEGIN:VEVENT
DTSTAMP:20260424T070235Z
DTSTART;VALUE=DATE:20121003
DTEND;VALUE=DATE:20121006
SUMMARY:ISSSE 2012
DESCRIPTION:International Symposium on Signals\, Systems and Electronics
URL:http://www.wikicfp.com/cfp/servlet/event.showcfp?eventid=21931&copyow
 nerid=38923
UID:cfp273275-E@wikicfp.com
END:VEVENT
BEGIN:VEVENT
DTSTAMP:20260424T070235Z
DTSTART;VALUE=DATE:20120601
SUMMARY:ISSSE 2012 Deadline
DESCRIPTION:International Symposium on Signals\, Systems and Electronics
URL:http://www.wikicfp.com/cfp/servlet/event.showcfp?eventid=21931&copyow
 nerid=38923
UID:cfp273275-D@wikicfp.com
END:VEVENT
BEGIN:VEVENT
DTSTAMP:20260424T070235Z
DTSTART;VALUE=DATE:20120731
SUMMARY:ISSSE 2012 Notification Due
DESCRIPTION:International Symposium on Signals\, Systems and Electronics
URL:http://www.wikicfp.com/cfp/servlet/event.showcfp?eventid=21931&copyow
 nerid=38923
UID:cfp273275-N@wikicfp.com
END:VEVENT
BEGIN:VEVENT
DTSTAMP:20260424T070235Z
DTSTART;VALUE=DATE:20120831
SUMMARY:ISSSE 2012 Final Version Due
DESCRIPTION:International Symposium on Signals\, Systems and Electronics
URL:http://www.wikicfp.com/cfp/servlet/event.showcfp?eventid=21931&copyow
 nerid=38923
UID:cfp273275-N@wikicfp.com
END:VEVENT
BEGIN:VEVENT
DTSTAMP:20260424T070235Z
DTSTART;VALUE=DATE:20120803
DTEND;VALUE=DATE:20120805
SUMMARY:ICSIA 2012
DESCRIPTION:2012 2nd International Conference on Signal\, Image Processin
 g and Applications
URL:http://www.wikicfp.com/cfp/servlet/event.showcfp?eventid=23069&copyow
 nerid=38923
UID:cfp273274-E@wikicfp.com
END:VEVENT
BEGIN:VEVENT
DTSTAMP:20260424T070235Z
DTSTART;VALUE=DATE:20120601
SUMMARY:ICSIA 2012 Deadline
DESCRIPTION:2012 2nd International Conference on Signal\, Image Processin
 g and Applications
URL:http://www.wikicfp.com/cfp/servlet/event.showcfp?eventid=23069&copyow
 nerid=38923
UID:cfp273274-D@wikicfp.com
END:VEVENT
BEGIN:VEVENT
DTSTAMP:20260424T070235Z
DTSTART;VALUE=DATE:20120630
SUMMARY:ICSIA 2012 Notification Due
DESCRIPTION:2012 2nd International Conference on Signal\, Image Processin
 g and Applications
URL:http://www.wikicfp.com/cfp/servlet/event.showcfp?eventid=23069&copyow
 nerid=38923
UID:cfp273274-N@wikicfp.com
END:VEVENT
BEGIN:VEVENT
DTSTAMP:20260424T070235Z
DTSTART;VALUE=DATE:20120715
SUMMARY:ICSIA 2012 Final Version Due
DESCRIPTION:2012 2nd International Conference on Signal\, Image Processin
 g and Applications
URL:http://www.wikicfp.com/cfp/servlet/event.showcfp?eventid=23069&copyow
 nerid=38923
UID:cfp273274-N@wikicfp.com
END:VEVENT
BEGIN:VEVENT
DTSTAMP:20260424T070235Z
DTSTART;VALUE=DATE:20120820
DTEND;VALUE=DATE:20120823
SUMMARY:SIP 2012
DESCRIPTION:14th International Conference on Signal and Image Processing
URL:http://www.wikicfp.com/cfp/servlet/event.showcfp?eventid=22218&copyow
 nerid=38923
UID:cfp273268-E@wikicfp.com
END:VEVENT
BEGIN:VEVENT
DTSTAMP:20260424T070235Z
DTSTART;VALUE=DATE:20120607
SUMMARY:SIP 2012 Deadline
DESCRIPTION:14th International Conference on Signal and Image Processing
URL:http://www.wikicfp.com/cfp/servlet/event.showcfp?eventid=22218&copyow
 nerid=38923
UID:cfp273268-D@wikicfp.com
END:VEVENT
BEGIN:VEVENT
DTSTAMP:20260424T070235Z
DTSTART;VALUE=DATE:20121021
DTEND;VALUE=DATE:20121026
SUMMARY:ICSP 2012
DESCRIPTION:IEEE 11th International Conference on Signal Processing
URL:http://www.wikicfp.com/cfp/servlet/event.showcfp?eventid=19343&copyow
 nerid=38923
UID:cfp273273-E@wikicfp.com
END:VEVENT
BEGIN:VEVENT
DTSTAMP:20260424T070235Z
DTSTART;VALUE=DATE:20120615
SUMMARY:ICSP 2012 Deadline
DESCRIPTION:IEEE 11th International Conference on Signal Processing
URL:http://www.wikicfp.com/cfp/servlet/event.showcfp?eventid=19343&copyow
 nerid=38923
UID:cfp273273-D@wikicfp.com
END:VEVENT
BEGIN:VEVENT
DTSTAMP:20260424T070235Z
DTSTART;VALUE=DATE:20120715
SUMMARY:ICSP 2012 Notification Due
DESCRIPTION:IEEE 11th International Conference on Signal Processing
URL:http://www.wikicfp.com/cfp/servlet/event.showcfp?eventid=19343&copyow
 nerid=38923
UID:cfp273273-N@wikicfp.com
END:VEVENT
BEGIN:VEVENT
DTSTAMP:20260424T070235Z
DTSTART;VALUE=DATE:20120815
SUMMARY:ICSP 2012 Final Version Due
DESCRIPTION:IEEE 11th International Conference on Signal Processing
URL:http://www.wikicfp.com/cfp/servlet/event.showcfp?eventid=19343&copyow
 nerid=38923
UID:cfp273273-N@wikicfp.com
END:VEVENT
BEGIN:VEVENT
DTSTAMP:20260424T070235Z
DTSTART;VALUE=DATE:20121003
DTEND;VALUE=DATE:20121006
SUMMARY:SoVIP 2012
DESCRIPTION:INNS Symposium on Vision and Image Processing
URL:http://www.wikicfp.com/cfp/servlet/event.showcfp?eventid=23260&copyow
 nerid=38923
UID:cfp277416-E@wikicfp.com
END:VEVENT
BEGIN:VEVENT
DTSTAMP:20260424T070235Z
DTSTART;VALUE=DATE:20120615
SUMMARY:SoVIP 2012 Deadline
DESCRIPTION:INNS Symposium on Vision and Image Processing
URL:http://www.wikicfp.com/cfp/servlet/event.showcfp?eventid=23260&copyow
 nerid=38923
UID:cfp277416-D@wikicfp.com
END:VEVENT
BEGIN:VEVENT
DTSTAMP:20260424T070235Z
DTSTART;VALUE=DATE:20120715
SUMMARY:SoVIP 2012 Notification Due
DESCRIPTION:INNS Symposium on Vision and Image Processing
URL:http://www.wikicfp.com/cfp/servlet/event.showcfp?eventid=23260&copyow
 nerid=38923
UID:cfp277416-N@wikicfp.com
END:VEVENT
BEGIN:VEVENT
DTSTAMP:20260424T070235Z
DTSTART;VALUE=DATE:20120801
SUMMARY:SoVIP 2012 Final Version Due
DESCRIPTION:INNS Symposium on Vision and Image Processing
URL:http://www.wikicfp.com/cfp/servlet/event.showcfp?eventid=23260&copyow
 nerid=38923
UID:cfp277416-N@wikicfp.com
END:VEVENT
BEGIN:VEVENT
DTSTAMP:20260424T070235Z
DTSTART;VALUE=DATE:20120630
DTEND;VALUE=DATE:20121031
SUMMARY:Frontiers in Biometric Systems 2012
DESCRIPTION:Call for Book Chapters for E-book - Frontiers in Biometric Sy
 stems
URL:http://www.wikicfp.com/cfp/servlet/event.showcfp?eventid=17263&copyow
 nerid=38923
UID:cfp277422-E@wikicfp.com
END:VEVENT
BEGIN:VEVENT
DTSTAMP:20260424T070235Z
DTSTART;VALUE=DATE:20120630
SUMMARY:Frontiers in Biometric Systems 2012 Abstract Due
DESCRIPTION:Call for Book Chapters for E-book - Frontiers in Biometric Sy
 stems
URL:http://www.wikicfp.com/cfp/servlet/event.showcfp?eventid=17263&copyow
 nerid=38923
UID:cfp277422-A@wikicfp.com
END:VEVENT
BEGIN:VEVENT
DTSTAMP:20260424T070235Z
DTSTART;VALUE=DATE:20120630
SUMMARY:Frontiers in Biometric Systems 2012 Deadline
DESCRIPTION:Call for Book Chapters for E-book - Frontiers in Biometric Sy
 stems
URL:http://www.wikicfp.com/cfp/servlet/event.showcfp?eventid=17263&copyow
 nerid=38923
UID:cfp277422-D@wikicfp.com
END:VEVENT
BEGIN:VEVENT
DTSTAMP:20260424T070235Z
DTSTART;VALUE=DATE:20120805
SUMMARY:Frontiers in Biometric Systems 2012 Notification Due
DESCRIPTION:Call for Book Chapters for E-book - Frontiers in Biometric Sy
 stems
URL:http://www.wikicfp.com/cfp/servlet/event.showcfp?eventid=17263&copyow
 nerid=38923
UID:cfp277422-N@wikicfp.com
END:VEVENT
BEGIN:VEVENT
DTSTAMP:20260424T070235Z
DTSTART;VALUE=DATE:20120830
SUMMARY:Frontiers in Biometric Systems 2012 Final Version Due
DESCRIPTION:Call for Book Chapters for E-book - Frontiers in Biometric Sy
 stems
URL:http://www.wikicfp.com/cfp/servlet/event.showcfp?eventid=17263&copyow
 nerid=38923
UID:cfp277422-N@wikicfp.com
END:VEVENT
BEGIN:VEVENT
DTSTAMP:20260424T070235Z
DTSTART;VALUE=DATE:20130101
DTEND;VALUE=DATE:20140101
SUMMARY:IJCB 2013
DESCRIPTION:International Journal of Computational Bioscience
URL:http://www.wikicfp.com/cfp/servlet/event.showcfp?eventid=14558&copyow
 nerid=38923
UID:cfp277410-E@wikicfp.com
END:VEVENT
BEGIN:VEVENT
DTSTAMP:20260424T070235Z
DTSTART;VALUE=DATE:20131231
SUMMARY:IJCB 2013 Deadline
DESCRIPTION:International Journal of Computational Bioscience
URL:http://www.wikicfp.com/cfp/servlet/event.showcfp?eventid=14558&copyow
 nerid=38923
UID:cfp277410-D@wikicfp.com
END:VEVENT
END:VCALENDAR
