BEGIN:VCALENDAR
PRODID:-//WikiCFP//Mamma 1.0//EN
VERSION:2.0
CALSCALE:GREGORIAN
BEGIN:VEVENT
DTSTAMP:20260425T213007Z
DTSTART;VALUE=DATE:20121126
DTEND;VALUE=DATE:20121130
SUMMARY:ICCAIS 2012
DESCRIPTION:International Conference on Control\, Automation and Informat
 ion Sciences
URL:http://www.wikicfp.com/cfp/servlet/event.showcfp?eventid=19891&copyow
 nerid=38879
UID:cfp273112-E@wikicfp.com
END:VEVENT
BEGIN:VEVENT
DTSTAMP:20260425T213007Z
DTSTART;VALUE=DATE:20120330
SUMMARY:ICCAIS 2012 Deadline
DESCRIPTION:International Conference on Control\, Automation and Informat
 ion Sciences
URL:http://www.wikicfp.com/cfp/servlet/event.showcfp?eventid=19891&copyow
 nerid=38879
UID:cfp273112-D@wikicfp.com
END:VEVENT
BEGIN:VEVENT
DTSTAMP:20260425T213007Z
DTSTART;VALUE=DATE:20120530
SUMMARY:ICCAIS 2012 Notification Due
DESCRIPTION:International Conference on Control\, Automation and Informat
 ion Sciences
URL:http://www.wikicfp.com/cfp/servlet/event.showcfp?eventid=19891&copyow
 nerid=38879
UID:cfp273112-N@wikicfp.com
END:VEVENT
BEGIN:VEVENT
DTSTAMP:20260425T213007Z
DTSTART;VALUE=DATE:20120720
SUMMARY:ICCAIS 2012 Final Version Due
DESCRIPTION:International Conference on Control\, Automation and Informat
 ion Sciences
URL:http://www.wikicfp.com/cfp/servlet/event.showcfp?eventid=19891&copyow
 nerid=38879
UID:cfp273112-N@wikicfp.com
END:VEVENT
BEGIN:VEVENT
DTSTAMP:20260425T213007Z
DTSTART;VALUE=DATE:20120923
DTEND;VALUE=DATE:20120927
SUMMARY:ICCSII  2012
DESCRIPTION:2012 IEEE Conference on  Control\, Systems & Industrial Infor
 matics
URL:http://www.wikicfp.com/cfp/servlet/event.showcfp?eventid=23584&copyow
 nerid=38879
UID:cfp273151-E@wikicfp.com
END:VEVENT
BEGIN:VEVENT
DTSTAMP:20260425T213007Z
DTSTART;VALUE=DATE:20120615
SUMMARY:ICCSII  2012 Deadline
DESCRIPTION:2012 IEEE Conference on  Control\, Systems & Industrial Infor
 matics
URL:http://www.wikicfp.com/cfp/servlet/event.showcfp?eventid=23584&copyow
 nerid=38879
UID:cfp273151-D@wikicfp.com
END:VEVENT
BEGIN:VEVENT
DTSTAMP:20260425T213007Z
DTSTART;VALUE=DATE:20120701
SUMMARY:ICCSII  2012 Notification Due
DESCRIPTION:2012 IEEE Conference on  Control\, Systems & Industrial Infor
 matics
URL:http://www.wikicfp.com/cfp/servlet/event.showcfp?eventid=23584&copyow
 nerid=38879
UID:cfp273151-N@wikicfp.com
END:VEVENT
BEGIN:VEVENT
DTSTAMP:20260425T213007Z
DTSTART;VALUE=DATE:20120801
SUMMARY:ICCSII  2012 Final Version Due
DESCRIPTION:2012 IEEE Conference on  Control\, Systems & Industrial Infor
 matics
URL:http://www.wikicfp.com/cfp/servlet/event.showcfp?eventid=23584&copyow
 nerid=38879
UID:cfp273151-N@wikicfp.com
END:VEVENT
BEGIN:VEVENT
DTSTAMP:20260425T213007Z
DTSTART;VALUE=DATE:20121219
DTEND;VALUE=DATE:20121222
SUMMARY:ISAAC 2012
DESCRIPTION:The 23rd International Symposium on Algorithms and Computatio
 n
URL:http://www.wikicfp.com/cfp/servlet/event.showcfp?eventid=21872&copyow
 nerid=38879
UID:cfp273148-E@wikicfp.com
END:VEVENT
BEGIN:VEVENT
DTSTAMP:20260425T213007Z
DTSTART;VALUE=DATE:20120622
SUMMARY:ISAAC 2012 Deadline
DESCRIPTION:The 23rd International Symposium on Algorithms and Computatio
 n
URL:http://www.wikicfp.com/cfp/servlet/event.showcfp?eventid=21872&copyow
 nerid=38879
UID:cfp273148-D@wikicfp.com
END:VEVENT
BEGIN:VEVENT
DTSTAMP:20260425T213007Z
DTSTART;VALUE=DATE:20120824
SUMMARY:ISAAC 2012 Notification Due
DESCRIPTION:The 23rd International Symposium on Algorithms and Computatio
 n
URL:http://www.wikicfp.com/cfp/servlet/event.showcfp?eventid=21872&copyow
 nerid=38879
UID:cfp273148-N@wikicfp.com
END:VEVENT
BEGIN:VEVENT
DTSTAMP:20260425T213007Z
DTSTART;VALUE=DATE:20120921
SUMMARY:ISAAC 2012 Final Version Due
DESCRIPTION:The 23rd International Symposium on Algorithms and Computatio
 n
URL:http://www.wikicfp.com/cfp/servlet/event.showcfp?eventid=21872&copyow
 nerid=38879
UID:cfp273148-N@wikicfp.com
END:VEVENT
END:VCALENDAR
