BEGIN:VCALENDAR
PRODID:-//WikiCFP//m_poorghasemian 1.0//EN
VERSION:2.0
CALSCALE:GREGORIAN
BEGIN:VEVENT
DTSTAMP:20260422T130707Z
DTSTART;VALUE=DATE:20121211
DTEND;VALUE=DATE:20121215
SUMMARY:ROBIO 2012
DESCRIPTION:IEEE International Conference on Robotics and Biomimetics
URL:http://www.wikicfp.com/cfp/servlet/event.showcfp?eventid=21211&copyow
 nerid=38523
UID:cfp269701-E@wikicfp.com
END:VEVENT
BEGIN:VEVENT
DTSTAMP:20260422T130707Z
DTSTART;VALUE=DATE:20120715
SUMMARY:ROBIO 2012 Deadline
DESCRIPTION:IEEE International Conference on Robotics and Biomimetics
URL:http://www.wikicfp.com/cfp/servlet/event.showcfp?eventid=21211&copyow
 nerid=38523
UID:cfp269701-D@wikicfp.com
END:VEVENT
BEGIN:VEVENT
DTSTAMP:20260422T130707Z
DTSTART;VALUE=DATE:20121015
SUMMARY:ROBIO 2012 Notification Due
DESCRIPTION:IEEE International Conference on Robotics and Biomimetics
URL:http://www.wikicfp.com/cfp/servlet/event.showcfp?eventid=21211&copyow
 nerid=38523
UID:cfp269701-N@wikicfp.com
END:VEVENT
BEGIN:VEVENT
DTSTAMP:20260422T130707Z
DTSTART;VALUE=DATE:20121101
SUMMARY:ROBIO 2012 Final Version Due
DESCRIPTION:IEEE International Conference on Robotics and Biomimetics
URL:http://www.wikicfp.com/cfp/servlet/event.showcfp?eventid=21211&copyow
 nerid=38523
UID:cfp269701-N@wikicfp.com
END:VEVENT
BEGIN:VEVENT
DTSTAMP:20260422T130707Z
DTSTART;VALUE=DATE:20120927
DTEND;VALUE=DATE:20120929
SUMMARY:PEMRA 2012
DESCRIPTION:1st International Workshop on Perception for  Mobile Robots A
 utonomy
URL:http://www.wikicfp.com/cfp/servlet/event.showcfp?eventid=23163&copyow
 nerid=38523
UID:cfp269702-E@wikicfp.com
END:VEVENT
BEGIN:VEVENT
DTSTAMP:20260422T130707Z
DTSTART;VALUE=DATE:20120803
SUMMARY:PEMRA 2012 Deadline
DESCRIPTION:1st International Workshop on Perception for  Mobile Robots A
 utonomy
URL:http://www.wikicfp.com/cfp/servlet/event.showcfp?eventid=23163&copyow
 nerid=38523
UID:cfp269702-D@wikicfp.com
END:VEVENT
BEGIN:VEVENT
DTSTAMP:20260422T130707Z
DTSTART;VALUE=DATE:20120827
SUMMARY:PEMRA 2012 Notification Due
DESCRIPTION:1st International Workshop on Perception for  Mobile Robots A
 utonomy
URL:http://www.wikicfp.com/cfp/servlet/event.showcfp?eventid=23163&copyow
 nerid=38523
UID:cfp269702-N@wikicfp.com
END:VEVENT
BEGIN:VEVENT
DTSTAMP:20260422T130707Z
DTSTART;VALUE=DATE:20120917
SUMMARY:PEMRA 2012 Final Version Due
DESCRIPTION:1st International Workshop on Perception for  Mobile Robots A
 utonomy
URL:http://www.wikicfp.com/cfp/servlet/event.showcfp?eventid=23163&copyow
 nerid=38523
UID:cfp269702-N@wikicfp.com
END:VEVENT
BEGIN:VEVENT
DTSTAMP:20260422T130707Z
DTSTART;VALUE=DATE:20121128
DTEND;VALUE=DATE:20121201
SUMMARY:M2VIP 2012
DESCRIPTION:19th International Conference on Mechatronics and Machine Vis
 ion in Practice
URL:http://www.wikicfp.com/cfp/servlet/event.showcfp?eventid=22109&copyow
 nerid=38523
UID:cfp269710-E@wikicfp.com
END:VEVENT
BEGIN:VEVENT
DTSTAMP:20260422T130707Z
DTSTART;VALUE=DATE:20120831
SUMMARY:M2VIP 2012 Deadline
DESCRIPTION:19th International Conference on Mechatronics and Machine Vis
 ion in Practice
URL:http://www.wikicfp.com/cfp/servlet/event.showcfp?eventid=22109&copyow
 nerid=38523
UID:cfp269710-D@wikicfp.com
END:VEVENT
BEGIN:VEVENT
DTSTAMP:20260422T130707Z
DTSTART;VALUE=DATE:20120930
SUMMARY:M2VIP 2012 Notification Due
DESCRIPTION:19th International Conference on Mechatronics and Machine Vis
 ion in Practice
URL:http://www.wikicfp.com/cfp/servlet/event.showcfp?eventid=22109&copyow
 nerid=38523
UID:cfp269710-N@wikicfp.com
END:VEVENT
BEGIN:VEVENT
DTSTAMP:20260422T130707Z
DTSTART;VALUE=DATE:20121015
SUMMARY:M2VIP 2012 Final Version Due
DESCRIPTION:19th International Conference on Mechatronics and Machine Vis
 ion in Practice
URL:http://www.wikicfp.com/cfp/servlet/event.showcfp?eventid=22109&copyow
 nerid=38523
UID:cfp269710-N@wikicfp.com
END:VEVENT
BEGIN:VEVENT
DTSTAMP:20260422T130707Z
DTSTART;VALUE=DATE:20121128
DTEND;VALUE=DATE:20121201
SUMMARY:Netgcoop 2012
DESCRIPTION:International Conference on Network Games\, Control and Optim
 ization
URL:http://www.wikicfp.com/cfp/servlet/event.showcfp?eventid=22988&copyow
 nerid=38523
UID:cfp269706-E@wikicfp.com
END:VEVENT
BEGIN:VEVENT
DTSTAMP:20260422T130707Z
DTSTART;VALUE=DATE:20120903
SUMMARY:Netgcoop 2012 Deadline
DESCRIPTION:International Conference on Network Games\, Control and Optim
 ization
URL:http://www.wikicfp.com/cfp/servlet/event.showcfp?eventid=22988&copyow
 nerid=38523
UID:cfp269706-D@wikicfp.com
END:VEVENT
BEGIN:VEVENT
DTSTAMP:20260422T130707Z
DTSTART;VALUE=DATE:20121003
SUMMARY:Netgcoop 2012 Notification Due
DESCRIPTION:International Conference on Network Games\, Control and Optim
 ization
URL:http://www.wikicfp.com/cfp/servlet/event.showcfp?eventid=22988&copyow
 nerid=38523
UID:cfp269706-N@wikicfp.com
END:VEVENT
BEGIN:VEVENT
DTSTAMP:20260422T130707Z
DTSTART;VALUE=DATE:20121012
SUMMARY:Netgcoop 2012 Final Version Due
DESCRIPTION:International Conference on Network Games\, Control and Optim
 ization
URL:http://www.wikicfp.com/cfp/servlet/event.showcfp?eventid=22988&copyow
 nerid=38523
UID:cfp269706-N@wikicfp.com
END:VEVENT
BEGIN:VEVENT
DTSTAMP:20260422T130707Z
DTSTART;VALUE=DATE:20130506
DTEND;VALUE=DATE:20130511
SUMMARY:ICRA 2013
DESCRIPTION:The 2013 IEEE International Conference on Robotics and Automa
 tion 
URL:http://www.wikicfp.com/cfp/servlet/event.showcfp?eventid=18929&copyow
 nerid=38523
UID:cfp269700-E@wikicfp.com
END:VEVENT
BEGIN:VEVENT
DTSTAMP:20260422T130707Z
DTSTART;VALUE=DATE:20120917
SUMMARY:ICRA 2013 Deadline
DESCRIPTION:The 2013 IEEE International Conference on Robotics and Automa
 tion 
URL:http://www.wikicfp.com/cfp/servlet/event.showcfp?eventid=18929&copyow
 nerid=38523
UID:cfp269700-D@wikicfp.com
END:VEVENT
BEGIN:VEVENT
DTSTAMP:20260422T130707Z
DTSTART;VALUE=DATE:20130107
SUMMARY:ICRA 2013 Notification Due
DESCRIPTION:The 2013 IEEE International Conference on Robotics and Automa
 tion 
URL:http://www.wikicfp.com/cfp/servlet/event.showcfp?eventid=18929&copyow
 nerid=38523
UID:cfp269700-N@wikicfp.com
END:VEVENT
BEGIN:VEVENT
DTSTAMP:20260422T130707Z
DTSTART;VALUE=DATE:20130211
SUMMARY:ICRA 2013 Final Version Due
DESCRIPTION:The 2013 IEEE International Conference on Robotics and Automa
 tion 
URL:http://www.wikicfp.com/cfp/servlet/event.showcfp?eventid=18929&copyow
 nerid=38523
UID:cfp269700-N@wikicfp.com
END:VEVENT
BEGIN:VEVENT
DTSTAMP:20260422T130707Z
DTSTART;VALUE=DATE:20130617
DTEND;VALUE=DATE:20130620
SUMMARY:ACC 2013
DESCRIPTION:The 2013 American Control Conference
URL:http://www.wikicfp.com/cfp/servlet/event.showcfp?eventid=22378&copyow
 nerid=38523
UID:cfp269699-E@wikicfp.com
END:VEVENT
BEGIN:VEVENT
DTSTAMP:20260422T130707Z
DTSTART;VALUE=DATE:20120917
SUMMARY:ACC 2013 Deadline
DESCRIPTION:The 2013 American Control Conference
URL:http://www.wikicfp.com/cfp/servlet/event.showcfp?eventid=22378&copyow
 nerid=38523
UID:cfp269699-D@wikicfp.com
END:VEVENT
BEGIN:VEVENT
DTSTAMP:20260422T130707Z
DTSTART;VALUE=DATE:20130131
SUMMARY:ACC 2013 Notification Due
DESCRIPTION:The 2013 American Control Conference
URL:http://www.wikicfp.com/cfp/servlet/event.showcfp?eventid=22378&copyow
 nerid=38523
UID:cfp269699-N@wikicfp.com
END:VEVENT
BEGIN:VEVENT
DTSTAMP:20260422T130707Z
DTSTART;VALUE=DATE:20130315
SUMMARY:ACC 2013 Final Version Due
DESCRIPTION:The 2013 American Control Conference
URL:http://www.wikicfp.com/cfp/servlet/event.showcfp?eventid=22378&copyow
 nerid=38523
UID:cfp269699-N@wikicfp.com
END:VEVENT
BEGIN:VEVENT
DTSTAMP:20260422T130707Z
DTSTART;VALUE=DATE:20121227
DTEND;VALUE=DATE:20121230
SUMMARY:EAS 2012
DESCRIPTION:International Conference on Engineering and Applied Science
URL:http://www.wikicfp.com/cfp/servlet/event.showcfp?eventid=21397&copyow
 nerid=38523
UID:cfp269704-E@wikicfp.com
END:VEVENT
BEGIN:VEVENT
DTSTAMP:20260422T130707Z
DTSTART;VALUE=DATE:20120930
SUMMARY:EAS 2012 Deadline
DESCRIPTION:International Conference on Engineering and Applied Science
URL:http://www.wikicfp.com/cfp/servlet/event.showcfp?eventid=21397&copyow
 nerid=38523
UID:cfp269704-D@wikicfp.com
END:VEVENT
BEGIN:VEVENT
DTSTAMP:20260422T130707Z
DTSTART;VALUE=DATE:20121015
SUMMARY:EAS 2012 Notification Due
DESCRIPTION:International Conference on Engineering and Applied Science
URL:http://www.wikicfp.com/cfp/servlet/event.showcfp?eventid=21397&copyow
 nerid=38523
UID:cfp269704-N@wikicfp.com
END:VEVENT
BEGIN:VEVENT
DTSTAMP:20260422T130707Z
DTSTART;VALUE=DATE:20130410
DTEND;VALUE=DATE:20130413
SUMMARY:ICNSC 2013
DESCRIPTION:IEEE 10th International Conference on Networking\, Sensing an
 d Control
URL:http://www.wikicfp.com/cfp/servlet/event.showcfp?eventid=22408&copyow
 nerid=38523
UID:cfp269705-E@wikicfp.com
END:VEVENT
BEGIN:VEVENT
DTSTAMP:20260422T130707Z
DTSTART;VALUE=DATE:20120930
SUMMARY:ICNSC 2013 Deadline
DESCRIPTION:IEEE 10th International Conference on Networking\, Sensing an
 d Control
URL:http://www.wikicfp.com/cfp/servlet/event.showcfp?eventid=22408&copyow
 nerid=38523
UID:cfp269705-D@wikicfp.com
END:VEVENT
BEGIN:VEVENT
DTSTAMP:20260422T130707Z
DTSTART;VALUE=DATE:20121215
SUMMARY:ICNSC 2013 Notification Due
DESCRIPTION:IEEE 10th International Conference on Networking\, Sensing an
 d Control
URL:http://www.wikicfp.com/cfp/servlet/event.showcfp?eventid=22408&copyow
 nerid=38523
UID:cfp269705-N@wikicfp.com
END:VEVENT
BEGIN:VEVENT
DTSTAMP:20260422T130707Z
DTSTART;VALUE=DATE:20130115
SUMMARY:ICNSC 2013 Final Version Due
DESCRIPTION:IEEE 10th International Conference on Networking\, Sensing an
 d Control
URL:http://www.wikicfp.com/cfp/servlet/event.showcfp?eventid=22408&copyow
 nerid=38523
UID:cfp269705-N@wikicfp.com
END:VEVENT
BEGIN:VEVENT
DTSTAMP:20260422T130707Z
DTSTART;VALUE=DATE:20130213
DTEND;VALUE=DATE:20130216
SUMMARY:ICRoM 2013
DESCRIPTION:First RSI/ISM International Conference on Robotics and Mechat
 ronics
URL:http://www.wikicfp.com/cfp/servlet/event.showcfp?eventid=22976&copyow
 nerid=38523
UID:cfp269712-E@wikicfp.com
END:VEVENT
BEGIN:VEVENT
DTSTAMP:20260422T130707Z
DTSTART;VALUE=DATE:20121016
SUMMARY:ICRoM 2013 Deadline
DESCRIPTION:First RSI/ISM International Conference on Robotics and Mechat
 ronics
URL:http://www.wikicfp.com/cfp/servlet/event.showcfp?eventid=22976&copyow
 nerid=38523
UID:cfp269712-D@wikicfp.com
END:VEVENT
BEGIN:VEVENT
DTSTAMP:20260422T130707Z
DTSTART;VALUE=DATE:20121210
SUMMARY:ICRoM 2013 Notification Due
DESCRIPTION:First RSI/ISM International Conference on Robotics and Mechat
 ronics
URL:http://www.wikicfp.com/cfp/servlet/event.showcfp?eventid=22976&copyow
 nerid=38523
UID:cfp269712-N@wikicfp.com
END:VEVENT
BEGIN:VEVENT
DTSTAMP:20260422T130707Z
DTSTART;VALUE=DATE:20130104
SUMMARY:ICRoM 2013 Final Version Due
DESCRIPTION:First RSI/ISM International Conference on Robotics and Mechat
 ronics
URL:http://www.wikicfp.com/cfp/servlet/event.showcfp?eventid=22976&copyow
 nerid=38523
UID:cfp269712-N@wikicfp.com
END:VEVENT
BEGIN:VEVENT
DTSTAMP:20260422T130707Z
DTSTART;VALUE=DATE:20121220
DTEND;VALUE=DATE:20121222
SUMMARY:ICMCM 2012
DESCRIPTION:2012 International Conference on Mechatronics and Computation
 al Mechanicsï¼ICMCM 2012) 
URL:http://www.wikicfp.com/cfp/servlet/event.showcfp?eventid=22360&copyow
 nerid=38523
UID:cfp269711-E@wikicfp.com
END:VEVENT
BEGIN:VEVENT
DTSTAMP:20260422T130707Z
DTSTART;VALUE=DATE:20121017
SUMMARY:ICMCM 2012 Deadline
DESCRIPTION:2012 International Conference on Mechatronics and Computation
 al Mechanicsï¼ICMCM 2012) 
URL:http://www.wikicfp.com/cfp/servlet/event.showcfp?eventid=22360&copyow
 nerid=38523
UID:cfp269711-D@wikicfp.com
END:VEVENT
BEGIN:VEVENT
DTSTAMP:20260422T130707Z
DTSTART;VALUE=DATE:20130211
DTEND;VALUE=DATE:20130214
SUMMARY:MIC 2013
DESCRIPTION:Modelling\, Identification and Control
URL:http://www.wikicfp.com/cfp/servlet/event.showcfp?eventid=23120&copyow
 nerid=38523
UID:cfp269707-E@wikicfp.com
END:VEVENT
BEGIN:VEVENT
DTSTAMP:20260422T130707Z
DTSTART;VALUE=DATE:20121026
SUMMARY:MIC 2013 Deadline
DESCRIPTION:Modelling\, Identification and Control
URL:http://www.wikicfp.com/cfp/servlet/event.showcfp?eventid=23120&copyow
 nerid=38523
UID:cfp269707-D@wikicfp.com
END:VEVENT
BEGIN:VEVENT
DTSTAMP:20260422T130707Z
DTSTART;VALUE=DATE:20121115
SUMMARY:MIC 2013 Notification Due
DESCRIPTION:Modelling\, Identification and Control
URL:http://www.wikicfp.com/cfp/servlet/event.showcfp?eventid=23120&copyow
 nerid=38523
UID:cfp269707-N@wikicfp.com
END:VEVENT
BEGIN:VEVENT
DTSTAMP:20260422T130707Z
DTSTART;VALUE=DATE:20121203
SUMMARY:MIC 2013 Final Version Due
DESCRIPTION:Modelling\, Identification and Control
URL:http://www.wikicfp.com/cfp/servlet/event.showcfp?eventid=23120&copyow
 nerid=38523
UID:cfp269707-N@wikicfp.com
END:VEVENT
BEGIN:VEVENT
DTSTAMP:20260422T130707Z
DTSTART;VALUE=DATE:20130414
DTEND;VALUE=DATE:20130418
SUMMARY:IEEE WHC 2013
DESCRIPTION:IEEE World Haptics Conference
URL:http://www.wikicfp.com/cfp/servlet/event.showcfp?eventid=22375&copyow
 nerid=38523
UID:cfp269697-E@wikicfp.com
END:VEVENT
BEGIN:VEVENT
DTSTAMP:20260422T130707Z
DTSTART;VALUE=DATE:20121102
SUMMARY:IEEE WHC 2013 Deadline
DESCRIPTION:IEEE World Haptics Conference
URL:http://www.wikicfp.com/cfp/servlet/event.showcfp?eventid=22375&copyow
 nerid=38523
UID:cfp269697-D@wikicfp.com
END:VEVENT
BEGIN:VEVENT
DTSTAMP:20260422T130707Z
DTSTART;VALUE=DATE:20121221
SUMMARY:IEEE WHC 2013 Notification Due
DESCRIPTION:IEEE World Haptics Conference
URL:http://www.wikicfp.com/cfp/servlet/event.showcfp?eventid=22375&copyow
 nerid=38523
UID:cfp269697-N@wikicfp.com
END:VEVENT
BEGIN:VEVENT
DTSTAMP:20260422T130707Z
DTSTART;VALUE=DATE:20130623
DTEND;VALUE=DATE:20130629
SUMMARY:CVPR 2013
DESCRIPTION:26th IEEE Conference on Computer Vision and Pattern Recogniti
 on
URL:http://www.wikicfp.com/cfp/servlet/event.showcfp?eventid=22376&copyow
 nerid=38523
UID:cfp269698-E@wikicfp.com
END:VEVENT
BEGIN:VEVENT
DTSTAMP:20260422T130707Z
DTSTART;VALUE=DATE:20121115
SUMMARY:CVPR 2013 Deadline
DESCRIPTION:26th IEEE Conference on Computer Vision and Pattern Recogniti
 on
URL:http://www.wikicfp.com/cfp/servlet/event.showcfp?eventid=22376&copyow
 nerid=38523
UID:cfp269698-D@wikicfp.com
END:VEVENT
BEGIN:VEVENT
DTSTAMP:20260422T130707Z
DTSTART;VALUE=DATE:20130224
SUMMARY:CVPR 2013 Notification Due
DESCRIPTION:26th IEEE Conference on Computer Vision and Pattern Recogniti
 on
URL:http://www.wikicfp.com/cfp/servlet/event.showcfp?eventid=22376&copyow
 nerid=38523
UID:cfp269698-N@wikicfp.com
END:VEVENT
BEGIN:VEVENT
DTSTAMP:20260422T130707Z
DTSTART;VALUE=DATE:20130726
DTEND;VALUE=DATE:20130729
SUMMARY:CCC 2013
DESCRIPTION:32nd Chinese Control Conference
URL:http://www.wikicfp.com/cfp/servlet/event.showcfp?eventid=23328&copyow
 nerid=38523
UID:cfp269708-E@wikicfp.com
END:VEVENT
BEGIN:VEVENT
DTSTAMP:20260422T130707Z
DTSTART;VALUE=DATE:20121215
SUMMARY:CCC 2013 Deadline
DESCRIPTION:32nd Chinese Control Conference
URL:http://www.wikicfp.com/cfp/servlet/event.showcfp?eventid=23328&copyow
 nerid=38523
UID:cfp269708-D@wikicfp.com
END:VEVENT
BEGIN:VEVENT
DTSTAMP:20260422T130707Z
DTSTART;VALUE=DATE:20130401
SUMMARY:CCC 2013 Notification Due
DESCRIPTION:32nd Chinese Control Conference
URL:http://www.wikicfp.com/cfp/servlet/event.showcfp?eventid=23328&copyow
 nerid=38523
UID:cfp269708-N@wikicfp.com
END:VEVENT
BEGIN:VEVENT
DTSTAMP:20260422T130707Z
DTSTART;VALUE=DATE:20130430
SUMMARY:CCC 2013 Final Version Due
DESCRIPTION:32nd Chinese Control Conference
URL:http://www.wikicfp.com/cfp/servlet/event.showcfp?eventid=23328&copyow
 nerid=38523
UID:cfp269708-N@wikicfp.com
END:VEVENT
BEGIN:VEVENT
DTSTAMP:20260422T130707Z
DTSTART;VALUE=DATE:20130712
DTEND;VALUE=DATE:20130715
SUMMARY:ICCMEE 2013
DESCRIPTION:International Conference on Computer\, Mechanical and Electri
 cal Engineering
URL:http://www.wikicfp.com/cfp/servlet/event.showcfp?eventid=22872&copyow
 nerid=38523
UID:cfp269709-E@wikicfp.com
END:VEVENT
BEGIN:VEVENT
DTSTAMP:20260422T130707Z
DTSTART;VALUE=DATE:20130215
SUMMARY:ICCMEE 2013 Deadline
DESCRIPTION:International Conference on Computer\, Mechanical and Electri
 cal Engineering
URL:http://www.wikicfp.com/cfp/servlet/event.showcfp?eventid=22872&copyow
 nerid=38523
UID:cfp269709-D@wikicfp.com
END:VEVENT
BEGIN:VEVENT
DTSTAMP:20260422T130707Z
DTSTART;VALUE=DATE:20130315
SUMMARY:ICCMEE 2013 Notification Due
DESCRIPTION:International Conference on Computer\, Mechanical and Electri
 cal Engineering
URL:http://www.wikicfp.com/cfp/servlet/event.showcfp?eventid=22872&copyow
 nerid=38523
UID:cfp269709-N@wikicfp.com
END:VEVENT
BEGIN:VEVENT
DTSTAMP:20260422T130707Z
DTSTART;VALUE=DATE:20130401
SUMMARY:ICCMEE 2013 Final Version Due
DESCRIPTION:International Conference on Computer\, Mechanical and Electri
 cal Engineering
URL:http://www.wikicfp.com/cfp/servlet/event.showcfp?eventid=22872&copyow
 nerid=38523
UID:cfp269709-N@wikicfp.com
END:VEVENT
BEGIN:VEVENT
DTSTAMP:20260422T130707Z
DTSTART;VALUE=DATE:20130101
DTEND;VALUE=DATE:20140101
SUMMARY:CIS 2013
DESCRIPTION:Control and Intelligent Systems Journal
URL:http://www.wikicfp.com/cfp/servlet/event.showcfp?eventid=14553&copyow
 nerid=38523
UID:cfp269703-E@wikicfp.com
END:VEVENT
BEGIN:VEVENT
DTSTAMP:20260422T130707Z
DTSTART;VALUE=DATE:20131231
SUMMARY:CIS 2013 Deadline
DESCRIPTION:Control and Intelligent Systems Journal
URL:http://www.wikicfp.com/cfp/servlet/event.showcfp?eventid=14553&copyow
 nerid=38523
UID:cfp269703-D@wikicfp.com
END:VEVENT
BEGIN:VEVENT
DTSTAMP:20260422T130707Z
DTSTART;VALUE=DATE:20131231
SUMMARY:IJCA 2013 Deadline
DESCRIPTION:International Journal of Computers and Applications
URL:http://www.wikicfp.com/cfp/servlet/event.showcfp?eventid=14554&copyow
 nerid=38523
UID:cfp269695-D@wikicfp.com
END:VEVENT
BEGIN:VEVENT
DTSTAMP:20260422T130707Z
DTSTART;VALUE=DATE:20130101
DTEND;VALUE=DATE:20140101
SUMMARY:IJRA 2013
DESCRIPTION:International Journal of Robotics and Automation
URL:http://www.wikicfp.com/cfp/servlet/event.showcfp?eventid=14557&copyow
 nerid=38523
UID:cfp269696-E@wikicfp.com
END:VEVENT
BEGIN:VEVENT
DTSTAMP:20260422T130707Z
DTSTART;VALUE=DATE:20131231
SUMMARY:IJRA 2013 Deadline
DESCRIPTION:International Journal of Robotics and Automation
URL:http://www.wikicfp.com/cfp/servlet/event.showcfp?eventid=14557&copyow
 nerid=38523
UID:cfp269696-D@wikicfp.com
END:VEVENT
END:VCALENDAR
