BEGIN:VCALENDAR
PRODID:-//WikiCFP//EnricX 1.0//EN
VERSION:2.0
CALSCALE:GREGORIAN
BEGIN:VEVENT
DTSTAMP:20260425T130749Z
DTSTART;VALUE=DATE:20210903
DTEND;VALUE=DATE:20210904
SUMMARY:StoryCase 2012
DESCRIPTION:ICCBR-12 Workshop on Stories\, Episodes\, and Cases (StoryCas
 e)
URL:http://www.wikicfp.com/cfp/servlet/event.showcfp?eventid=23345&copyow
 nerid=38264
UID:cfp267859-E@wikicfp.com
END:VEVENT
BEGIN:VEVENT
DTSTAMP:20260425T130749Z
DTSTART;VALUE=DATE:20210616
SUMMARY:StoryCase 2012 Deadline
DESCRIPTION:ICCBR-12 Workshop on Stories\, Episodes\, and Cases (StoryCas
 e)
URL:http://www.wikicfp.com/cfp/servlet/event.showcfp?eventid=23345&copyow
 nerid=38264
UID:cfp267859-D@wikicfp.com
END:VEVENT
BEGIN:VEVENT
DTSTAMP:20260425T130749Z
DTSTART;VALUE=DATE:20210706
SUMMARY:StoryCase 2012 Notification Due
DESCRIPTION:ICCBR-12 Workshop on Stories\, Episodes\, and Cases (StoryCas
 e)
URL:http://www.wikicfp.com/cfp/servlet/event.showcfp?eventid=23345&copyow
 nerid=38264
UID:cfp267859-N@wikicfp.com
END:VEVENT
BEGIN:VEVENT
DTSTAMP:20260425T130749Z
DTSTART;VALUE=DATE:20210727
SUMMARY:StoryCase 2012 Final Version Due
DESCRIPTION:ICCBR-12 Workshop on Stories\, Episodes\, and Cases (StoryCas
 e)
URL:http://www.wikicfp.com/cfp/servlet/event.showcfp?eventid=23345&copyow
 nerid=38264
UID:cfp267859-N@wikicfp.com
END:VEVENT
END:VCALENDAR
