BEGIN:VCALENDAR
PRODID:-//WikiCFP//priyaradhakrishnan 1.0//EN
VERSION:2.0
CALSCALE:GREGORIAN
BEGIN:VEVENT
DTSTAMP:20260421T045735Z
DTSTART;VALUE=DATE:20120804
DTEND;VALUE=DATE:20121201
SUMMARY:SI/SC-ontologies and semantics in commun 2012
DESCRIPTION:SI/SC: Special collection on ontologies and semantics in comm
 unication systems and networks
URL:http://www.wikicfp.com/cfp/servlet/event.showcfp?eventid=25086&copyow
 nerid=38101
UID:cfp301136-E@wikicfp.com
END:VEVENT
BEGIN:VEVENT
DTSTAMP:20260421T045735Z
DTSTART;VALUE=DATE:20121031
SUMMARY:SI/SC-ontologies and semantics in commun 2012 Deadline
DESCRIPTION:SI/SC: Special collection on ontologies and semantics in comm
 unication systems and networks
URL:http://www.wikicfp.com/cfp/servlet/event.showcfp?eventid=25086&copyow
 nerid=38101
UID:cfp301136-D@wikicfp.com
END:VEVENT
BEGIN:VEVENT
DTSTAMP:20260421T045735Z
DTSTART;VALUE=DATE:20130130
SUMMARY:SI/SC-ontologies and semantics in commun 2012 Notification Due
DESCRIPTION:SI/SC: Special collection on ontologies and semantics in comm
 unication systems and networks
URL:http://www.wikicfp.com/cfp/servlet/event.showcfp?eventid=25086&copyow
 nerid=38101
UID:cfp301136-N@wikicfp.com
END:VEVENT
BEGIN:VEVENT
DTSTAMP:20260421T045735Z
DTSTART;VALUE=DATE:20130331
SUMMARY:SI/SC-ontologies and semantics in commun 2012 Final Version Due
DESCRIPTION:SI/SC: Special collection on ontologies and semantics in comm
 unication systems and networks
URL:http://www.wikicfp.com/cfp/servlet/event.showcfp?eventid=25086&copyow
 nerid=38101
UID:cfp301136-N@wikicfp.com
END:VEVENT
BEGIN:VEVENT
DTSTAMP:20260421T045735Z
DTSTART;VALUE=DATE:20130513
DTEND;VALUE=DATE:20130518
SUMMARY:WWW 2013
DESCRIPTION:International World Wide Web Conference
URL:http://www.wikicfp.com/cfp/servlet/event.showcfp?eventid=24163&copyow
 nerid=38101
UID:cfp302402-E@wikicfp.com
END:VEVENT
BEGIN:VEVENT
DTSTAMP:20260421T045735Z
DTSTART;VALUE=DATE:20121119
SUMMARY:WWW 2013 Abstract Due
DESCRIPTION:International World Wide Web Conference
URL:http://www.wikicfp.com/cfp/servlet/event.showcfp?eventid=24163&copyow
 nerid=38101
UID:cfp302402-A@wikicfp.com
END:VEVENT
BEGIN:VEVENT
DTSTAMP:20260421T045735Z
DTSTART;VALUE=DATE:20121126
SUMMARY:WWW 2013 Deadline
DESCRIPTION:International World Wide Web Conference
URL:http://www.wikicfp.com/cfp/servlet/event.showcfp?eventid=24163&copyow
 nerid=38101
UID:cfp302402-D@wikicfp.com
END:VEVENT
BEGIN:VEVENT
DTSTAMP:20260421T045735Z
DTSTART;VALUE=DATE:20130208
SUMMARY:WWW 2013 Notification Due
DESCRIPTION:International World Wide Web Conference
URL:http://www.wikicfp.com/cfp/servlet/event.showcfp?eventid=24163&copyow
 nerid=38101
UID:cfp302402-N@wikicfp.com
END:VEVENT
BEGIN:VEVENT
DTSTAMP:20260421T045735Z
DTSTART;VALUE=DATE:20130324
DTEND;VALUE=DATE:20130331
SUMMARY:CICLing 2013
DESCRIPTION:14th Conference on Intelligent Text Processing and Computatio
 nal Linguistics
URL:http://www.wikicfp.com/cfp/servlet/event.showcfp?eventid=26227&copyow
 nerid=38101
UID:cfp307025-E@wikicfp.com
END:VEVENT
BEGIN:VEVENT
DTSTAMP:20260421T045735Z
DTSTART;VALUE=DATE:20121130
SUMMARY:CICLing 2013 Abstract Due
DESCRIPTION:14th Conference on Intelligent Text Processing and Computatio
 nal Linguistics
URL:http://www.wikicfp.com/cfp/servlet/event.showcfp?eventid=26227&copyow
 nerid=38101
UID:cfp307025-A@wikicfp.com
END:VEVENT
BEGIN:VEVENT
DTSTAMP:20260421T045735Z
DTSTART;VALUE=DATE:20121207
SUMMARY:CICLing 2013 Deadline
DESCRIPTION:14th Conference on Intelligent Text Processing and Computatio
 nal Linguistics
URL:http://www.wikicfp.com/cfp/servlet/event.showcfp?eventid=26227&copyow
 nerid=38101
UID:cfp307025-D@wikicfp.com
END:VEVENT
BEGIN:VEVENT
DTSTAMP:20260421T045735Z
DTSTART;VALUE=DATE:20130609
DTEND;VALUE=DATE:20130615
SUMMARY:NAACL 2013
DESCRIPTION:The 2013 Conference of the North American Chapter of the Asso
 ciation for Computational Linguistics
URL:http://www.wikicfp.com/cfp/servlet/event.showcfp?eventid=25405&copyow
 nerid=38101
UID:cfp307026-E@wikicfp.com
END:VEVENT
BEGIN:VEVENT
DTSTAMP:20260421T045735Z
DTSTART;VALUE=DATE:20121210
SUMMARY:NAACL 2013 Deadline
DESCRIPTION:The 2013 Conference of the North American Chapter of the Asso
 ciation for Computational Linguistics
URL:http://www.wikicfp.com/cfp/servlet/event.showcfp?eventid=25405&copyow
 nerid=38101
UID:cfp307026-D@wikicfp.com
END:VEVENT
BEGIN:VEVENT
DTSTAMP:20260421T045735Z
DTSTART;VALUE=DATE:20130526
DTEND;VALUE=DATE:20130531
SUMMARY:ESWC 2013
DESCRIPTION:10th Extended Semantic Web Conference
URL:http://www.wikicfp.com/cfp/servlet/event.showcfp?eventid=25751&copyow
 nerid=38101
UID:cfp301134-E@wikicfp.com
END:VEVENT
BEGIN:VEVENT
DTSTAMP:20260421T045735Z
DTSTART;VALUE=DATE:20121205
SUMMARY:ESWC 2013 Abstract Due
DESCRIPTION:10th Extended Semantic Web Conference
URL:http://www.wikicfp.com/cfp/servlet/event.showcfp?eventid=25751&copyow
 nerid=38101
UID:cfp301134-A@wikicfp.com
END:VEVENT
BEGIN:VEVENT
DTSTAMP:20260421T045735Z
DTSTART;VALUE=DATE:20121212
SUMMARY:ESWC 2013 Deadline
DESCRIPTION:10th Extended Semantic Web Conference
URL:http://www.wikicfp.com/cfp/servlet/event.showcfp?eventid=25751&copyow
 nerid=38101
UID:cfp301134-D@wikicfp.com
END:VEVENT
BEGIN:VEVENT
DTSTAMP:20260421T045735Z
DTSTART;VALUE=DATE:20130222
SUMMARY:ESWC 2013 Notification Due
DESCRIPTION:10th Extended Semantic Web Conference
URL:http://www.wikicfp.com/cfp/servlet/event.showcfp?eventid=25751&copyow
 nerid=38101
UID:cfp301134-N@wikicfp.com
END:VEVENT
BEGIN:VEVENT
DTSTAMP:20260421T045735Z
DTSTART;VALUE=DATE:20130309
SUMMARY:ESWC 2013 Final Version Due
DESCRIPTION:10th Extended Semantic Web Conference
URL:http://www.wikicfp.com/cfp/servlet/event.showcfp?eventid=25751&copyow
 nerid=38101
UID:cfp301134-N@wikicfp.com
END:VEVENT
BEGIN:VEVENT
DTSTAMP:20260421T045735Z
DTSTART;VALUE=DATE:20130524
DTEND;VALUE=DATE:20130527
SUMMARY:WiMoA 2013
DESCRIPTION:The Fifth International Conference on Wireless\, Mobile Netwo
 rk & Applications 
URL:http://www.wikicfp.com/cfp/servlet/event.showcfp?eventid=26352&copyow
 nerid=38101
UID:cfp307024-E@wikicfp.com
END:VEVENT
BEGIN:VEVENT
DTSTAMP:20260421T045735Z
DTSTART;VALUE=DATE:20130104
SUMMARY:WiMoA 2013 Deadline
DESCRIPTION:The Fifth International Conference on Wireless\, Mobile Netwo
 rk & Applications 
URL:http://www.wikicfp.com/cfp/servlet/event.showcfp?eventid=26352&copyow
 nerid=38101
UID:cfp307024-D@wikicfp.com
END:VEVENT
BEGIN:VEVENT
DTSTAMP:20260421T045735Z
DTSTART;VALUE=DATE:20130130
SUMMARY:WiMoA 2013 Notification Due
DESCRIPTION:The Fifth International Conference on Wireless\, Mobile Netwo
 rk & Applications 
URL:http://www.wikicfp.com/cfp/servlet/event.showcfp?eventid=26352&copyow
 nerid=38101
UID:cfp307024-N@wikicfp.com
END:VEVENT
BEGIN:VEVENT
DTSTAMP:20260421T045735Z
DTSTART;VALUE=DATE:20130205
SUMMARY:WiMoA 2013 Final Version Due
DESCRIPTION:The Fifth International Conference on Wireless\, Mobile Netwo
 rk & Applications 
URL:http://www.wikicfp.com/cfp/servlet/event.showcfp?eventid=26352&copyow
 nerid=38101
UID:cfp307024-N@wikicfp.com
END:VEVENT
BEGIN:VEVENT
DTSTAMP:20260421T045735Z
DTSTART;VALUE=DATE:20130916
DTEND;VALUE=DATE:20130919
SUMMARY:ICSC  2013
DESCRIPTION:IEEE Intl. Conference on Semantic Computing Call for Workshop
  Proposals 
URL:http://www.wikicfp.com/cfp/servlet/event.showcfp?eventid=28500&copyow
 nerid=38101
UID:cfp339577-E@wikicfp.com
END:VEVENT
BEGIN:VEVENT
DTSTAMP:20260421T045735Z
DTSTART;VALUE=DATE:20130222
SUMMARY:ICSC  2013 Deadline
DESCRIPTION:IEEE Intl. Conference on Semantic Computing Call for Workshop
  Proposals 
URL:http://www.wikicfp.com/cfp/servlet/event.showcfp?eventid=28500&copyow
 nerid=38101
UID:cfp339577-D@wikicfp.com
END:VEVENT
BEGIN:VEVENT
DTSTAMP:20260421T045735Z
DTSTART;VALUE=DATE:20130315
SUMMARY:ICSC  2013 Notification Due
DESCRIPTION:IEEE Intl. Conference on Semantic Computing Call for Workshop
  Proposals 
URL:http://www.wikicfp.com/cfp/servlet/event.showcfp?eventid=28500&copyow
 nerid=38101
UID:cfp339577-N@wikicfp.com
END:VEVENT
BEGIN:VEVENT
DTSTAMP:20260421T045735Z
DTSTART;VALUE=DATE:20130519
DTEND;VALUE=DATE:20130521
SUMMARY:ICKD 2013
DESCRIPTION:2013 2nd International Conference on Knowledge Discovery (ICK
 D 2013)
URL:http://www.wikicfp.com/cfp/servlet/event.showcfp?eventid=27233&copyow
 nerid=38101
UID:cfp338065-E@wikicfp.com
END:VEVENT
BEGIN:VEVENT
DTSTAMP:20260421T045735Z
DTSTART;VALUE=DATE:20130305
SUMMARY:ICKD 2013 Deadline
DESCRIPTION:2013 2nd International Conference on Knowledge Discovery (ICK
 D 2013)
URL:http://www.wikicfp.com/cfp/servlet/event.showcfp?eventid=27233&copyow
 nerid=38101
UID:cfp338065-D@wikicfp.com
END:VEVENT
BEGIN:VEVENT
DTSTAMP:20260421T045735Z
DTSTART;VALUE=DATE:20130325
SUMMARY:ICKD 2013 Notification Due
DESCRIPTION:2013 2nd International Conference on Knowledge Discovery (ICK
 D 2013)
URL:http://www.wikicfp.com/cfp/servlet/event.showcfp?eventid=27233&copyow
 nerid=38101
UID:cfp338065-N@wikicfp.com
END:VEVENT
BEGIN:VEVENT
DTSTAMP:20260421T045735Z
DTSTART;VALUE=DATE:20130410
SUMMARY:ICKD 2013 Final Version Due
DESCRIPTION:2013 2nd International Conference on Knowledge Discovery (ICK
 D 2013)
URL:http://www.wikicfp.com/cfp/servlet/event.showcfp?eventid=27233&copyow
 nerid=38101
UID:cfp338065-N@wikicfp.com
END:VEVENT
BEGIN:VEVENT
DTSTAMP:20260421T045735Z
DTSTART;VALUE=DATE:20130828
DTEND;VALUE=DATE:20130830
SUMMARY:STAIR 2013
DESCRIPTION:The 2nd International Conference on Semantic Technology and I
 nformation Retrieval
URL:http://www.wikicfp.com/cfp/servlet/event.showcfp?eventid=26226&copyow
 nerid=38101
UID:cfp319223-E@wikicfp.com
END:VEVENT
BEGIN:VEVENT
DTSTAMP:20260421T045735Z
DTSTART;VALUE=DATE:20130401
SUMMARY:STAIR 2013 Deadline
DESCRIPTION:The 2nd International Conference on Semantic Technology and I
 nformation Retrieval
URL:http://www.wikicfp.com/cfp/servlet/event.showcfp?eventid=26226&copyow
 nerid=38101
UID:cfp319223-D@wikicfp.com
END:VEVENT
BEGIN:VEVENT
DTSTAMP:20260421T045735Z
DTSTART;VALUE=DATE:20130918
DTEND;VALUE=DATE:20130921
SUMMARY:FQAS 2013
DESCRIPTION:Tenth International Conference on Flexible Querying-Answering
  Systems
URL:http://www.wikicfp.com/cfp/servlet/event.showcfp?eventid=25787&copyow
 nerid=38101
UID:cfp301129-E@wikicfp.com
END:VEVENT
BEGIN:VEVENT
DTSTAMP:20260421T045735Z
DTSTART;VALUE=DATE:20130412
SUMMARY:FQAS 2013 Deadline
DESCRIPTION:Tenth International Conference on Flexible Querying-Answering
  Systems
URL:http://www.wikicfp.com/cfp/servlet/event.showcfp?eventid=25787&copyow
 nerid=38101
UID:cfp301129-D@wikicfp.com
END:VEVENT
BEGIN:VEVENT
DTSTAMP:20260421T045735Z
DTSTART;VALUE=DATE:20130501
SUMMARY:FQAS 2013 Notification Due
DESCRIPTION:Tenth International Conference on Flexible Querying-Answering
  Systems
URL:http://www.wikicfp.com/cfp/servlet/event.showcfp?eventid=25787&copyow
 nerid=38101
UID:cfp301129-N@wikicfp.com
END:VEVENT
BEGIN:VEVENT
DTSTAMP:20260421T045735Z
DTSTART;VALUE=DATE:20130601
SUMMARY:FQAS 2013 Final Version Due
DESCRIPTION:Tenth International Conference on Flexible Querying-Answering
  Systems
URL:http://www.wikicfp.com/cfp/servlet/event.showcfp?eventid=25787&copyow
 nerid=38101
UID:cfp301129-N@wikicfp.com
END:VEVENT
BEGIN:VEVENT
DTSTAMP:20260421T045735Z
DTSTART;VALUE=DATE:20130904
DTEND;VALUE=DATE:20130907
SUMMARY:ISEM 2013
DESCRIPTION:I-SEMANTICS 2013: 9th International Conference on Semantic Sy
 stems
URL:http://www.wikicfp.com/cfp/servlet/event.showcfp?eventid=27262&copyow
 nerid=38101
UID:cfp319216-E@wikicfp.com
END:VEVENT
BEGIN:VEVENT
DTSTAMP:20260421T045735Z
DTSTART;VALUE=DATE:20130408
SUMMARY:ISEM 2013 Abstract Due
DESCRIPTION:I-SEMANTICS 2013: 9th International Conference on Semantic Sy
 stems
URL:http://www.wikicfp.com/cfp/servlet/event.showcfp?eventid=27262&copyow
 nerid=38101
UID:cfp319216-A@wikicfp.com
END:VEVENT
BEGIN:VEVENT
DTSTAMP:20260421T045735Z
DTSTART;VALUE=DATE:20130415
SUMMARY:ISEM 2013 Deadline
DESCRIPTION:I-SEMANTICS 2013: 9th International Conference on Semantic Sy
 stems
URL:http://www.wikicfp.com/cfp/servlet/event.showcfp?eventid=27262&copyow
 nerid=38101
UID:cfp319216-D@wikicfp.com
END:VEVENT
BEGIN:VEVENT
DTSTAMP:20260421T045735Z
DTSTART;VALUE=DATE:20130520
SUMMARY:ISEM 2013 Notification Due
DESCRIPTION:I-SEMANTICS 2013: 9th International Conference on Semantic Sy
 stems
URL:http://www.wikicfp.com/cfp/servlet/event.showcfp?eventid=27262&copyow
 nerid=38101
UID:cfp319216-N@wikicfp.com
END:VEVENT
BEGIN:VEVENT
DTSTAMP:20260421T045735Z
DTSTART;VALUE=DATE:20130624
SUMMARY:ISEM 2013 Final Version Due
DESCRIPTION:I-SEMANTICS 2013: 9th International Conference on Semantic Sy
 stems
URL:http://www.wikicfp.com/cfp/servlet/event.showcfp?eventid=27262&copyow
 nerid=38101
UID:cfp319216-N@wikicfp.com
END:VEVENT
BEGIN:VEVENT
DTSTAMP:20260421T045735Z
DTSTART;VALUE=DATE:20130215
DTEND;VALUE=DATE:20130316
SUMMARY:Online Social Networks 2013
DESCRIPTION:Examining the Current State and Future Prospects of Mobile So
 cial Networks
URL:http://www.wikicfp.com/cfp/servlet/event.showcfp?eventid=27250&copyow
 nerid=38101
UID:cfp319246-E@wikicfp.com
END:VEVENT
BEGIN:VEVENT
DTSTAMP:20260421T045735Z
DTSTART;VALUE=DATE:20130215
SUMMARY:Online Social Networks 2013 Abstract Due
DESCRIPTION:Examining the Current State and Future Prospects of Mobile So
 cial Networks
URL:http://www.wikicfp.com/cfp/servlet/event.showcfp?eventid=27250&copyow
 nerid=38101
UID:cfp319246-A@wikicfp.com
END:VEVENT
BEGIN:VEVENT
DTSTAMP:20260421T045735Z
DTSTART;VALUE=DATE:20130515
SUMMARY:Online Social Networks 2013 Deadline
DESCRIPTION:Examining the Current State and Future Prospects of Mobile So
 cial Networks
URL:http://www.wikicfp.com/cfp/servlet/event.showcfp?eventid=27250&copyow
 nerid=38101
UID:cfp319246-D@wikicfp.com
END:VEVENT
BEGIN:VEVENT
DTSTAMP:20260421T045735Z
DTSTART;VALUE=DATE:20130715
SUMMARY:Online Social Networks 2013 Notification Due
DESCRIPTION:Examining the Current State and Future Prospects of Mobile So
 cial Networks
URL:http://www.wikicfp.com/cfp/servlet/event.showcfp?eventid=27250&copyow
 nerid=38101
UID:cfp319246-N@wikicfp.com
END:VEVENT
BEGIN:VEVENT
DTSTAMP:20260421T045735Z
DTSTART;VALUE=DATE:20130915
SUMMARY:Online Social Networks 2013 Final Version Due
DESCRIPTION:Examining the Current State and Future Prospects of Mobile So
 cial Networks
URL:http://www.wikicfp.com/cfp/servlet/event.showcfp?eventid=27250&copyow
 nerid=38101
UID:cfp319246-N@wikicfp.com
END:VEVENT
BEGIN:VEVENT
DTSTAMP:20260421T045735Z
DTSTART;VALUE=DATE:20131027
DTEND;VALUE=DATE:20131102
SUMMARY:CIKM 2013
DESCRIPTION:ACM Conference of Information and Knowledge Management
URL:http://www.wikicfp.com/cfp/servlet/event.showcfp?eventid=25339&copyow
 nerid=38101
UID:cfp301447-E@wikicfp.com
END:VEVENT
BEGIN:VEVENT
DTSTAMP:20260421T045735Z
DTSTART;VALUE=DATE:20130510
SUMMARY:CIKM 2013 Abstract Due
DESCRIPTION:ACM Conference of Information and Knowledge Management
URL:http://www.wikicfp.com/cfp/servlet/event.showcfp?eventid=25339&copyow
 nerid=38101
UID:cfp301447-A@wikicfp.com
END:VEVENT
BEGIN:VEVENT
DTSTAMP:20260421T045735Z
DTSTART;VALUE=DATE:20130517
SUMMARY:CIKM 2013 Deadline
DESCRIPTION:ACM Conference of Information and Knowledge Management
URL:http://www.wikicfp.com/cfp/servlet/event.showcfp?eventid=25339&copyow
 nerid=38101
UID:cfp301447-D@wikicfp.com
END:VEVENT
BEGIN:VEVENT
DTSTAMP:20260421T045735Z
DTSTART;VALUE=DATE:20130715
SUMMARY:CIKM 2013 Notification Due
DESCRIPTION:ACM Conference of Information and Knowledge Management
URL:http://www.wikicfp.com/cfp/servlet/event.showcfp?eventid=25339&copyow
 nerid=38101
UID:cfp301447-N@wikicfp.com
END:VEVENT
BEGIN:VEVENT
DTSTAMP:20260421T045735Z
DTSTART;VALUE=DATE:20130811
SUMMARY:CIKM 2013 Final Version Due
DESCRIPTION:ACM Conference of Information and Knowledge Management
URL:http://www.wikicfp.com/cfp/servlet/event.showcfp?eventid=25339&copyow
 nerid=38101
UID:cfp301447-N@wikicfp.com
END:VEVENT
END:VCALENDAR
