BEGIN:VCALENDAR
PRODID:-//WikiCFP//researchsuriya 1.0//EN
VERSION:2.0
CALSCALE:GREGORIAN
BEGIN:VEVENT
DTSTAMP:20260424T080214Z
DTSTART;VALUE=DATE:20120902
DTEND;VALUE=DATE:20120905
SUMMARY:ICWL 2012
DESCRIPTION:11th International Conference on Web-based Learning
URL:http://www.wikicfp.com/cfp/servlet/event.showcfp?eventid=21710&copyow
 nerid=37925
UID:cfp265888-E@wikicfp.com
END:VEVENT
BEGIN:VEVENT
DTSTAMP:20260424T080214Z
DTSTART;VALUE=DATE:20120425
SUMMARY:ICWL 2012 Deadline
DESCRIPTION:11th International Conference on Web-based Learning
URL:http://www.wikicfp.com/cfp/servlet/event.showcfp?eventid=21710&copyow
 nerid=37925
UID:cfp265888-D@wikicfp.com
END:VEVENT
BEGIN:VEVENT
DTSTAMP:20260424T080214Z
DTSTART;VALUE=DATE:20120610
SUMMARY:ICWL 2012 Notification Due
DESCRIPTION:11th International Conference on Web-based Learning
URL:http://www.wikicfp.com/cfp/servlet/event.showcfp?eventid=21710&copyow
 nerid=37925
UID:cfp265888-N@wikicfp.com
END:VEVENT
BEGIN:VEVENT
DTSTAMP:20260424T080214Z
DTSTART;VALUE=DATE:20120701
SUMMARY:ICWL 2012 Final Version Due
DESCRIPTION:11th International Conference on Web-based Learning
URL:http://www.wikicfp.com/cfp/servlet/event.showcfp?eventid=21710&copyow
 nerid=37925
UID:cfp265888-N@wikicfp.com
END:VEVENT
BEGIN:VEVENT
DTSTAMP:20260424T080214Z
DTSTART;VALUE=DATE:20120927
DTEND;VALUE=DATE:20121001
SUMMARY:WADTMB  2012
DESCRIPTION:1st Workshop on Algorithms for Data and Text Mining in Bioinf
 ormatics 
URL:http://www.wikicfp.com/cfp/servlet/event.showcfp?eventid=21709&copyow
 nerid=37925
UID:cfp265892-E@wikicfp.com
END:VEVENT
BEGIN:VEVENT
DTSTAMP:20260424T080214Z
DTSTART;VALUE=DATE:20120429
SUMMARY:WADTMB  2012 Deadline
DESCRIPTION:1st Workshop on Algorithms for Data and Text Mining in Bioinf
 ormatics 
URL:http://www.wikicfp.com/cfp/servlet/event.showcfp?eventid=21709&copyow
 nerid=37925
UID:cfp265892-D@wikicfp.com
END:VEVENT
BEGIN:VEVENT
DTSTAMP:20260424T080214Z
DTSTART;VALUE=DATE:20120526
SUMMARY:WADTMB  2012 Notification Due
DESCRIPTION:1st Workshop on Algorithms for Data and Text Mining in Bioinf
 ormatics 
URL:http://www.wikicfp.com/cfp/servlet/event.showcfp?eventid=21709&copyow
 nerid=37925
UID:cfp265892-N@wikicfp.com
END:VEVENT
BEGIN:VEVENT
DTSTAMP:20260424T080214Z
DTSTART;VALUE=DATE:20120604
SUMMARY:WADTMB  2012 Final Version Due
DESCRIPTION:1st Workshop on Algorithms for Data and Text Mining in Bioinf
 ormatics 
URL:http://www.wikicfp.com/cfp/servlet/event.showcfp?eventid=21709&copyow
 nerid=37925
UID:cfp265892-N@wikicfp.com
END:VEVENT
BEGIN:VEVENT
DTSTAMP:20260424T080214Z
DTSTART;VALUE=DATE:20120925
DTEND;VALUE=DATE:20120929
SUMMARY:EOSAM 2012
DESCRIPTION:EOS Annual Meeting 2012 
URL:http://www.wikicfp.com/cfp/servlet/event.showcfp?eventid=21720&copyow
 nerid=37925
UID:cfp265895-E@wikicfp.com
END:VEVENT
BEGIN:VEVENT
DTSTAMP:20260424T080214Z
DTSTART;VALUE=DATE:20120507
SUMMARY:EOSAM 2012 Deadline
DESCRIPTION:EOS Annual Meeting 2012 
URL:http://www.wikicfp.com/cfp/servlet/event.showcfp?eventid=21720&copyow
 nerid=37925
UID:cfp265895-D@wikicfp.com
END:VEVENT
BEGIN:VEVENT
DTSTAMP:20260424T080214Z
DTSTART;VALUE=DATE:20121003
DTEND;VALUE=DATE:20121006
SUMMARY:RNDM 2012
DESCRIPTION:4th International Workshop on Reliable Networks Design and Mo
 deling
URL:http://www.wikicfp.com/cfp/servlet/event.showcfp?eventid=21711&copyow
 nerid=37925
UID:cfp265893-E@wikicfp.com
END:VEVENT
BEGIN:VEVENT
DTSTAMP:20260424T080214Z
DTSTART;VALUE=DATE:20120510
SUMMARY:RNDM 2012 Deadline
DESCRIPTION:4th International Workshop on Reliable Networks Design and Mo
 deling
URL:http://www.wikicfp.com/cfp/servlet/event.showcfp?eventid=21711&copyow
 nerid=37925
UID:cfp265893-D@wikicfp.com
END:VEVENT
BEGIN:VEVENT
DTSTAMP:20260424T080214Z
DTSTART;VALUE=DATE:20120710
SUMMARY:RNDM 2012 Notification Due
DESCRIPTION:4th International Workshop on Reliable Networks Design and Mo
 deling
URL:http://www.wikicfp.com/cfp/servlet/event.showcfp?eventid=21711&copyow
 nerid=37925
UID:cfp265893-N@wikicfp.com
END:VEVENT
BEGIN:VEVENT
DTSTAMP:20260424T080214Z
DTSTART;VALUE=DATE:20120725
SUMMARY:RNDM 2012 Final Version Due
DESCRIPTION:4th International Workshop on Reliable Networks Design and Mo
 deling
URL:http://www.wikicfp.com/cfp/servlet/event.showcfp?eventid=21711&copyow
 nerid=37925
UID:cfp265893-N@wikicfp.com
END:VEVENT
BEGIN:VEVENT
DTSTAMP:20260424T080214Z
DTSTART;VALUE=DATE:20120812
DTEND;VALUE=DATE:20120813
SUMMARY:MDMKDD 2012
DESCRIPTION:The Twelfth International Workshop on Multimedia Data Mining
URL:http://www.wikicfp.com/cfp/servlet/event.showcfp?eventid=23148&copyow
 nerid=37925
UID:cfp265896-E@wikicfp.com
END:VEVENT
BEGIN:VEVENT
DTSTAMP:20260424T080214Z
DTSTART;VALUE=DATE:20120513
SUMMARY:MDMKDD 2012 Deadline
DESCRIPTION:The Twelfth International Workshop on Multimedia Data Mining
URL:http://www.wikicfp.com/cfp/servlet/event.showcfp?eventid=23148&copyow
 nerid=37925
UID:cfp265896-D@wikicfp.com
END:VEVENT
BEGIN:VEVENT
DTSTAMP:20260424T080214Z
DTSTART;VALUE=DATE:20120917
DTEND;VALUE=DATE:20120920
SUMMARY:ANNPR 2012
DESCRIPTION:IAPR Workshop on Artificial Neural Networks for Pattern Recog
 nition
URL:http://www.wikicfp.com/cfp/servlet/event.showcfp?eventid=21714&copyow
 nerid=37925
UID:cfp265894-E@wikicfp.com
END:VEVENT
BEGIN:VEVENT
DTSTAMP:20260424T080214Z
DTSTART;VALUE=DATE:20120515
SUMMARY:ANNPR 2012 Deadline
DESCRIPTION:IAPR Workshop on Artificial Neural Networks for Pattern Recog
 nition
URL:http://www.wikicfp.com/cfp/servlet/event.showcfp?eventid=21714&copyow
 nerid=37925
UID:cfp265894-D@wikicfp.com
END:VEVENT
BEGIN:VEVENT
DTSTAMP:20260424T080214Z
DTSTART;VALUE=DATE:20120603
SUMMARY:ANNPR 2012 Notification Due
DESCRIPTION:IAPR Workshop on Artificial Neural Networks for Pattern Recog
 nition
URL:http://www.wikicfp.com/cfp/servlet/event.showcfp?eventid=21714&copyow
 nerid=37925
UID:cfp265894-N@wikicfp.com
END:VEVENT
BEGIN:VEVENT
DTSTAMP:20260424T080214Z
DTSTART;VALUE=DATE:20120617
SUMMARY:ANNPR 2012 Final Version Due
DESCRIPTION:IAPR Workshop on Artificial Neural Networks for Pattern Recog
 nition
URL:http://www.wikicfp.com/cfp/servlet/event.showcfp?eventid=21714&copyow
 nerid=37925
UID:cfp265894-N@wikicfp.com
END:VEVENT
END:VCALENDAR
