BEGIN:VCALENDAR
PRODID:-//WikiCFP//mkalbertini 1.0//EN
VERSION:2.0
CALSCALE:GREGORIAN
BEGIN:VEVENT
DTSTAMP:20260424T204222Z
DTSTART;VALUE=DATE:20120917
DTEND;VALUE=DATE:20120918
SUMMARY:MCSD 2012
DESCRIPTION: Mining Complex and Stream Data\, MCSD 12
URL:http://www.wikicfp.com/cfp/servlet/event.showcfp?eventid=21585&copyow
 nerid=37302
UID:cfp261250-E@wikicfp.com
END:VEVENT
BEGIN:VEVENT
DTSTAMP:20260424T204222Z
DTSTART;VALUE=DATE:20120506
SUMMARY:MCSD 2012 Deadline
DESCRIPTION: Mining Complex and Stream Data\, MCSD 12
URL:http://www.wikicfp.com/cfp/servlet/event.showcfp?eventid=21585&copyow
 nerid=37302
UID:cfp261250-D@wikicfp.com
END:VEVENT
BEGIN:VEVENT
DTSTAMP:20260424T204222Z
DTSTART;VALUE=DATE:20120528
SUMMARY:MCSD 2012 Notification Due
DESCRIPTION: Mining Complex and Stream Data\, MCSD 12
URL:http://www.wikicfp.com/cfp/servlet/event.showcfp?eventid=21585&copyow
 nerid=37302
UID:cfp261250-N@wikicfp.com
END:VEVENT
BEGIN:VEVENT
DTSTAMP:20260424T204222Z
DTSTART;VALUE=DATE:20120611
SUMMARY:MCSD 2012 Final Version Due
DESCRIPTION: Mining Complex and Stream Data\, MCSD 12
URL:http://www.wikicfp.com/cfp/servlet/event.showcfp?eventid=21585&copyow
 nerid=37302
UID:cfp261250-N@wikicfp.com
END:VEVENT
BEGIN:VEVENT
DTSTAMP:20260424T204222Z
DTSTART;VALUE=DATE:20121203
DTEND;VALUE=DATE:20121207
SUMMARY:NIPS 2012
DESCRIPTION:Neural Information Processing Systems Conference
URL:http://www.wikicfp.com/cfp/servlet/event.showcfp?eventid=14639&copyow
 nerid=37302
UID:cfp261246-E@wikicfp.com
END:VEVENT
BEGIN:VEVENT
DTSTAMP:20260424T204222Z
DTSTART;VALUE=DATE:20120601
SUMMARY:NIPS 2012 Deadline
DESCRIPTION:Neural Information Processing Systems Conference
URL:http://www.wikicfp.com/cfp/servlet/event.showcfp?eventid=14639&copyow
 nerid=37302
UID:cfp261246-D@wikicfp.com
END:VEVENT
BEGIN:VEVENT
DTSTAMP:20260424T204222Z
DTSTART;VALUE=DATE:20120903
SUMMARY:NIPS 2012 Notification Due
DESCRIPTION:Neural Information Processing Systems Conference
URL:http://www.wikicfp.com/cfp/servlet/event.showcfp?eventid=14639&copyow
 nerid=37302
UID:cfp261246-N@wikicfp.com
END:VEVENT
BEGIN:VEVENT
DTSTAMP:20260424T204222Z
DTSTART;VALUE=DATE:20121210
DTEND;VALUE=DATE:20121214
SUMMARY:ICDM 2012
DESCRIPTION:IEEE International Conference on Data Mining
URL:http://www.wikicfp.com/cfp/servlet/event.showcfp?eventid=18103&copyow
 nerid=37302
UID:cfp261249-E@wikicfp.com
END:VEVENT
BEGIN:VEVENT
DTSTAMP:20260424T204222Z
DTSTART;VALUE=DATE:20120618
SUMMARY:ICDM 2012 Deadline
DESCRIPTION:IEEE International Conference on Data Mining
URL:http://www.wikicfp.com/cfp/servlet/event.showcfp?eventid=18103&copyow
 nerid=37302
UID:cfp261249-D@wikicfp.com
END:VEVENT
BEGIN:VEVENT
DTSTAMP:20260424T204222Z
DTSTART;VALUE=DATE:20120918
SUMMARY:ICDM 2012 Notification Due
DESCRIPTION:IEEE International Conference on Data Mining
URL:http://www.wikicfp.com/cfp/servlet/event.showcfp?eventid=18103&copyow
 nerid=37302
UID:cfp261249-N@wikicfp.com
END:VEVENT
BEGIN:VEVENT
DTSTAMP:20260424T204222Z
DTSTART;VALUE=DATE:20121015
SUMMARY:ICDM 2012 Final Version Due
DESCRIPTION:IEEE International Conference on Data Mining
URL:http://www.wikicfp.com/cfp/servlet/event.showcfp?eventid=18103&copyow
 nerid=37302
UID:cfp261249-N@wikicfp.com
END:VEVENT
BEGIN:VEVENT
DTSTAMP:20260424T204222Z
DTSTART;VALUE=DATE:20130719
DTEND;VALUE=DATE:20130726
SUMMARY:MLDM 2013
DESCRIPTION:International Conference on Machine Learning and Data Mining
URL:http://www.wikicfp.com/cfp/servlet/event.showcfp?eventid=21258&copyow
 nerid=37302
UID:cfp261248-E@wikicfp.com
END:VEVENT
BEGIN:VEVENT
DTSTAMP:20260424T204222Z
DTSTART;VALUE=DATE:20130115
SUMMARY:MLDM 2013 Deadline
DESCRIPTION:International Conference on Machine Learning and Data Mining
URL:http://www.wikicfp.com/cfp/servlet/event.showcfp?eventid=21258&copyow
 nerid=37302
UID:cfp261248-D@wikicfp.com
END:VEVENT
BEGIN:VEVENT
DTSTAMP:20260424T204222Z
DTSTART;VALUE=DATE:20130318
SUMMARY:MLDM 2013 Notification Due
DESCRIPTION:International Conference on Machine Learning and Data Mining
URL:http://www.wikicfp.com/cfp/servlet/event.showcfp?eventid=21258&copyow
 nerid=37302
UID:cfp261248-N@wikicfp.com
END:VEVENT
BEGIN:VEVENT
DTSTAMP:20260424T204222Z
DTSTART;VALUE=DATE:20130406
SUMMARY:MLDM 2013 Final Version Due
DESCRIPTION:International Conference on Machine Learning and Data Mining
URL:http://www.wikicfp.com/cfp/servlet/event.showcfp?eventid=21258&copyow
 nerid=37302
UID:cfp261248-N@wikicfp.com
END:VEVENT
END:VCALENDAR
