BEGIN:VCALENDAR
PRODID:-//WikiCFP//xjp8775 1.0//EN
VERSION:2.0
CALSCALE:GREGORIAN
BEGIN:VEVENT
DTSTAMP:20260425T141834Z
DTSTART;VALUE=DATE:20120703
DTEND;VALUE=DATE:20120706
SUMMARY:VIIP 2012
DESCRIPTION:Visualization\, Imaging and Image Processing
URL:http://www.wikicfp.com/cfp/servlet/event.showcfp?eventid=19368&copyow
 nerid=37272
UID:cfp261058-E@wikicfp.com
END:VEVENT
BEGIN:VEVENT
DTSTAMP:20260425T141834Z
DTSTART;VALUE=DATE:20120412
SUMMARY:VIIP 2012 Deadline
DESCRIPTION:Visualization\, Imaging and Image Processing
URL:http://www.wikicfp.com/cfp/servlet/event.showcfp?eventid=19368&copyow
 nerid=37272
UID:cfp261058-D@wikicfp.com
END:VEVENT
BEGIN:VEVENT
DTSTAMP:20260425T141834Z
DTSTART;VALUE=DATE:20120508
SUMMARY:VIIP 2012 Notification Due
DESCRIPTION:Visualization\, Imaging and Image Processing
URL:http://www.wikicfp.com/cfp/servlet/event.showcfp?eventid=19368&copyow
 nerid=37272
UID:cfp261058-N@wikicfp.com
END:VEVENT
BEGIN:VEVENT
DTSTAMP:20260425T141834Z
DTSTART;VALUE=DATE:20120522
SUMMARY:VIIP 2012 Final Version Due
DESCRIPTION:Visualization\, Imaging and Image Processing
URL:http://www.wikicfp.com/cfp/servlet/event.showcfp?eventid=19368&copyow
 nerid=37272
UID:cfp261058-N@wikicfp.com
END:VEVENT
BEGIN:VEVENT
DTSTAMP:20260425T141834Z
DTSTART;VALUE=DATE:20120707
DTEND;VALUE=DATE:20120709
SUMMARY:ICKET 2012
DESCRIPTION:2012 International Conference on Knowledge and Education Tech
 nology
URL:http://www.wikicfp.com/cfp/servlet/event.showcfp?eventid=21442&copyow
 nerid=37272
UID:cfp261060-E@wikicfp.com
END:VEVENT
BEGIN:VEVENT
DTSTAMP:20260425T141834Z
DTSTART;VALUE=DATE:20120505
SUMMARY:ICKET 2012 Deadline
DESCRIPTION:2012 International Conference on Knowledge and Education Tech
 nology
URL:http://www.wikicfp.com/cfp/servlet/event.showcfp?eventid=21442&copyow
 nerid=37272
UID:cfp261060-D@wikicfp.com
END:VEVENT
BEGIN:VEVENT
DTSTAMP:20260425T141834Z
DTSTART;VALUE=DATE:20120525
SUMMARY:ICKET 2012 Notification Due
DESCRIPTION:2012 International Conference on Knowledge and Education Tech
 nology
URL:http://www.wikicfp.com/cfp/servlet/event.showcfp?eventid=21442&copyow
 nerid=37272
UID:cfp261060-N@wikicfp.com
END:VEVENT
BEGIN:VEVENT
DTSTAMP:20260425T141834Z
DTSTART;VALUE=DATE:20120610
SUMMARY:ICKET 2012 Final Version Due
DESCRIPTION:2012 International Conference on Knowledge and Education Tech
 nology
URL:http://www.wikicfp.com/cfp/servlet/event.showcfp?eventid=21442&copyow
 nerid=37272
UID:cfp261060-N@wikicfp.com
END:VEVENT
BEGIN:VEVENT
DTSTAMP:20260425T141834Z
DTSTART;VALUE=DATE:20121203
DTEND;VALUE=DATE:20121208
SUMMARY:IEEE MENS 2012
DESCRIPTION:The 4th IEEE International Workshop on Management of Emerging
  Networks and Services
URL:http://www.wikicfp.com/cfp/servlet/event.showcfp?eventid=23418&copyow
 nerid=37272
UID:cfp286839-E@wikicfp.com
END:VEVENT
BEGIN:VEVENT
DTSTAMP:20260425T141834Z
DTSTART;VALUE=DATE:20120615
SUMMARY:IEEE MENS 2012 Deadline
DESCRIPTION:The 4th IEEE International Workshop on Management of Emerging
  Networks and Services
URL:http://www.wikicfp.com/cfp/servlet/event.showcfp?eventid=23418&copyow
 nerid=37272
UID:cfp286839-D@wikicfp.com
END:VEVENT
BEGIN:VEVENT
DTSTAMP:20260425T141834Z
DTSTART;VALUE=DATE:20120815
SUMMARY:IEEE MENS 2012 Notification Due
DESCRIPTION:The 4th IEEE International Workshop on Management of Emerging
  Networks and Services
URL:http://www.wikicfp.com/cfp/servlet/event.showcfp?eventid=23418&copyow
 nerid=37272
UID:cfp286839-N@wikicfp.com
END:VEVENT
BEGIN:VEVENT
DTSTAMP:20260425T141834Z
DTSTART;VALUE=DATE:20120915
SUMMARY:IEEE MENS 2012 Final Version Due
DESCRIPTION:The 4th IEEE International Workshop on Management of Emerging
  Networks and Services
URL:http://www.wikicfp.com/cfp/servlet/event.showcfp?eventid=23418&copyow
 nerid=37272
UID:cfp286839-N@wikicfp.com
END:VEVENT
BEGIN:VEVENT
DTSTAMP:20260425T141834Z
DTSTART;VALUE=DATE:20120928
DTEND;VALUE=DATE:20120930
SUMMARY:ICEBS 2012
DESCRIPTION:2012 2nd International Conference on Environment and BioScien
 ce
URL:http://www.wikicfp.com/cfp/servlet/event.showcfp?eventid=21701&copyow
 nerid=37272
UID:cfp286837-E@wikicfp.com
END:VEVENT
BEGIN:VEVENT
DTSTAMP:20260425T141834Z
DTSTART;VALUE=DATE:20120720
SUMMARY:ICEBS 2012 Deadline
DESCRIPTION:2012 2nd International Conference on Environment and BioScien
 ce
URL:http://www.wikicfp.com/cfp/servlet/event.showcfp?eventid=21701&copyow
 nerid=37272
UID:cfp286837-D@wikicfp.com
END:VEVENT
BEGIN:VEVENT
DTSTAMP:20260425T141834Z
DTSTART;VALUE=DATE:20120810
SUMMARY:ICEBS 2012 Notification Due
DESCRIPTION:2012 2nd International Conference on Environment and BioScien
 ce
URL:http://www.wikicfp.com/cfp/servlet/event.showcfp?eventid=21701&copyow
 nerid=37272
UID:cfp286837-N@wikicfp.com
END:VEVENT
BEGIN:VEVENT
DTSTAMP:20260425T141834Z
DTSTART;VALUE=DATE:20120825
SUMMARY:ICEBS 2012 Final Version Due
DESCRIPTION:2012 2nd International Conference on Environment and BioScien
 ce
URL:http://www.wikicfp.com/cfp/servlet/event.showcfp?eventid=21701&copyow
 nerid=37272
UID:cfp286837-N@wikicfp.com
END:VEVENT
BEGIN:VEVENT
DTSTAMP:20260425T141834Z
DTSTART;VALUE=DATE:20121205
DTEND;VALUE=DATE:20121208
SUMMARY:ICNC 2012
DESCRIPTION:The Third International Conference on Networking and Computin
 g
URL:http://www.wikicfp.com/cfp/servlet/event.showcfp?eventid=22622&copyow
 nerid=37272
UID:cfp287034-E@wikicfp.com
END:VEVENT
BEGIN:VEVENT
DTSTAMP:20260425T141834Z
DTSTART;VALUE=DATE:20120723
SUMMARY:ICNC 2012 Abstract Due
DESCRIPTION:The Third International Conference on Networking and Computin
 g
URL:http://www.wikicfp.com/cfp/servlet/event.showcfp?eventid=22622&copyow
 nerid=37272
UID:cfp287034-A@wikicfp.com
END:VEVENT
BEGIN:VEVENT
DTSTAMP:20260425T141834Z
DTSTART;VALUE=DATE:20120730
SUMMARY:ICNC 2012 Deadline
DESCRIPTION:The Third International Conference on Networking and Computin
 g
URL:http://www.wikicfp.com/cfp/servlet/event.showcfp?eventid=22622&copyow
 nerid=37272
UID:cfp287034-D@wikicfp.com
END:VEVENT
BEGIN:VEVENT
DTSTAMP:20260425T141834Z
DTSTART;VALUE=DATE:20120901
SUMMARY:ICNC 2012 Notification Due
DESCRIPTION:The Third International Conference on Networking and Computin
 g
URL:http://www.wikicfp.com/cfp/servlet/event.showcfp?eventid=22622&copyow
 nerid=37272
UID:cfp287034-N@wikicfp.com
END:VEVENT
BEGIN:VEVENT
DTSTAMP:20260425T141834Z
DTSTART;VALUE=DATE:20120921
SUMMARY:ICNC 2012 Final Version Due
DESCRIPTION:The Third International Conference on Networking and Computin
 g
URL:http://www.wikicfp.com/cfp/servlet/event.showcfp?eventid=22622&copyow
 nerid=37272
UID:cfp287034-N@wikicfp.com
END:VEVENT
BEGIN:VEVENT
DTSTAMP:20260425T141834Z
DTSTART;VALUE=DATE:20121126
DTEND;VALUE=DATE:20121128
SUMMARY:CloudConf 2012
DESCRIPTION:Cloud-Computing Konferenz 2012
URL:http://www.wikicfp.com/cfp/servlet/event.showcfp?eventid=24058&copyow
 nerid=37272
UID:cfp287103-E@wikicfp.com
END:VEVENT
BEGIN:VEVENT
DTSTAMP:20260425T141834Z
DTSTART;VALUE=DATE:20120731
SUMMARY:CloudConf 2012 Deadline
DESCRIPTION:Cloud-Computing Konferenz 2012
URL:http://www.wikicfp.com/cfp/servlet/event.showcfp?eventid=24058&copyow
 nerid=37272
UID:cfp287103-D@wikicfp.com
END:VEVENT
BEGIN:VEVENT
DTSTAMP:20260425T141834Z
DTSTART;VALUE=DATE:20121026
DTEND;VALUE=DATE:20121028
SUMMARY:ICCEE 2012
DESCRIPTION:2012 5th International Conference on Computer and Electrical 
 Engineering
URL:http://www.wikicfp.com/cfp/servlet/event.showcfp?eventid=23743&copyow
 nerid=37272
UID:cfp289029-E@wikicfp.com
END:VEVENT
BEGIN:VEVENT
DTSTAMP:20260425T141834Z
DTSTART;VALUE=DATE:20120805
SUMMARY:ICCEE 2012 Deadline
DESCRIPTION:2012 5th International Conference on Computer and Electrical 
 Engineering
URL:http://www.wikicfp.com/cfp/servlet/event.showcfp?eventid=23743&copyow
 nerid=37272
UID:cfp289029-D@wikicfp.com
END:VEVENT
BEGIN:VEVENT
DTSTAMP:20260425T141834Z
DTSTART;VALUE=DATE:20120815
SUMMARY:ICCEE 2012 Notification Due
DESCRIPTION:2012 5th International Conference on Computer and Electrical 
 Engineering
URL:http://www.wikicfp.com/cfp/servlet/event.showcfp?eventid=23743&copyow
 nerid=37272
UID:cfp289029-N@wikicfp.com
END:VEVENT
BEGIN:VEVENT
DTSTAMP:20260425T141834Z
DTSTART;VALUE=DATE:20120830
SUMMARY:ICCEE 2012 Final Version Due
DESCRIPTION:2012 5th International Conference on Computer and Electrical 
 Engineering
URL:http://www.wikicfp.com/cfp/servlet/event.showcfp?eventid=23743&copyow
 nerid=37272
UID:cfp289029-N@wikicfp.com
END:VEVENT
BEGIN:VEVENT
DTSTAMP:20260425T141834Z
DTSTART;VALUE=DATE:20121020
DTEND;VALUE=DATE:20121022
SUMMARY:ICMSET  2012
DESCRIPTION:2012 International Conference on Material Science and Enginee
 ring Technology 
URL:http://www.wikicfp.com/cfp/servlet/event.showcfp?eventid=21437&copyow
 nerid=37272
UID:cfp286834-E@wikicfp.com
END:VEVENT
BEGIN:VEVENT
DTSTAMP:20260425T141834Z
DTSTART;VALUE=DATE:20120810
SUMMARY:ICMSET  2012 Deadline
DESCRIPTION:2012 International Conference on Material Science and Enginee
 ring Technology 
URL:http://www.wikicfp.com/cfp/servlet/event.showcfp?eventid=21437&copyow
 nerid=37272
UID:cfp286834-D@wikicfp.com
END:VEVENT
BEGIN:VEVENT
DTSTAMP:20260425T141834Z
DTSTART;VALUE=DATE:20120830
SUMMARY:ICMSET  2012 Notification Due
DESCRIPTION:2012 International Conference on Material Science and Enginee
 ring Technology 
URL:http://www.wikicfp.com/cfp/servlet/event.showcfp?eventid=21437&copyow
 nerid=37272
UID:cfp286834-N@wikicfp.com
END:VEVENT
BEGIN:VEVENT
DTSTAMP:20260425T141834Z
DTSTART;VALUE=DATE:20120915
SUMMARY:ICMSET  2012 Final Version Due
DESCRIPTION:2012 International Conference on Material Science and Enginee
 ring Technology 
URL:http://www.wikicfp.com/cfp/servlet/event.showcfp?eventid=21437&copyow
 nerid=37272
UID:cfp286834-N@wikicfp.com
END:VEVENT
BEGIN:VEVENT
DTSTAMP:20260425T141834Z
DTSTART;VALUE=DATE:20121205
DTEND;VALUE=DATE:20121208
SUMMARY:IEEE CSE 2012
DESCRIPTION:The 15th IEEE International Conference on Computational Scien
 ce and Engineering
URL:http://www.wikicfp.com/cfp/servlet/event.showcfp?eventid=24735&copyow
 nerid=37272
UID:cfp289040-E@wikicfp.com
END:VEVENT
BEGIN:VEVENT
DTSTAMP:20260425T141834Z
DTSTART;VALUE=DATE:20120810
SUMMARY:IEEE CSE 2012 Deadline
DESCRIPTION:The 15th IEEE International Conference on Computational Scien
 ce and Engineering
URL:http://www.wikicfp.com/cfp/servlet/event.showcfp?eventid=24735&copyow
 nerid=37272
UID:cfp289040-D@wikicfp.com
END:VEVENT
BEGIN:VEVENT
DTSTAMP:20260425T141834Z
DTSTART;VALUE=DATE:20120921
SUMMARY:IEEE CSE 2012 Notification Due
DESCRIPTION:The 15th IEEE International Conference on Computational Scien
 ce and Engineering
URL:http://www.wikicfp.com/cfp/servlet/event.showcfp?eventid=24735&copyow
 nerid=37272
UID:cfp289040-N@wikicfp.com
END:VEVENT
BEGIN:VEVENT
DTSTAMP:20260425T141834Z
DTSTART;VALUE=DATE:20121005
SUMMARY:IEEE CSE 2012 Final Version Due
DESCRIPTION:The 15th IEEE International Conference on Computational Scien
 ce and Engineering
URL:http://www.wikicfp.com/cfp/servlet/event.showcfp?eventid=24735&copyow
 nerid=37272
UID:cfp289040-N@wikicfp.com
END:VEVENT
BEGIN:VEVENT
DTSTAMP:20260425T141834Z
DTSTART;VALUE=DATE:20121020
DTEND;VALUE=DATE:20121022
SUMMARY:ICCSM  2012
DESCRIPTION:2012 2nd International Conference on Computer and Software Mo
 deling
URL:http://www.wikicfp.com/cfp/servlet/event.showcfp?eventid=23741&copyow
 nerid=37272
UID:cfp287032-E@wikicfp.com
END:VEVENT
BEGIN:VEVENT
DTSTAMP:20260425T141834Z
DTSTART;VALUE=DATE:20120820
SUMMARY:ICCSM  2012 Deadline
DESCRIPTION:2012 2nd International Conference on Computer and Software Mo
 deling
URL:http://www.wikicfp.com/cfp/servlet/event.showcfp?eventid=23741&copyow
 nerid=37272
UID:cfp287032-D@wikicfp.com
END:VEVENT
BEGIN:VEVENT
DTSTAMP:20260425T141834Z
DTSTART;VALUE=DATE:20120910
SUMMARY:ICCSM  2012 Notification Due
DESCRIPTION:2012 2nd International Conference on Computer and Software Mo
 deling
URL:http://www.wikicfp.com/cfp/servlet/event.showcfp?eventid=23741&copyow
 nerid=37272
UID:cfp287032-N@wikicfp.com
END:VEVENT
BEGIN:VEVENT
DTSTAMP:20260425T141834Z
DTSTART;VALUE=DATE:20120925
SUMMARY:ICCSM  2012 Final Version Due
DESCRIPTION:2012 2nd International Conference on Computer and Software Mo
 deling
URL:http://www.wikicfp.com/cfp/servlet/event.showcfp?eventid=23741&copyow
 nerid=37272
UID:cfp287032-N@wikicfp.com
END:VEVENT
BEGIN:VEVENT
DTSTAMP:20260425T141834Z
DTSTART;VALUE=DATE:20121205
DTEND;VALUE=DATE:20121208
SUMMARY:PDAA 2012
DESCRIPTION:4th International Workshop on Parallel and Distributed Algori
 thms and Applications
URL:http://www.wikicfp.com/cfp/servlet/event.showcfp?eventid=24496&copyow
 nerid=37272
UID:cfp289146-E@wikicfp.com
END:VEVENT
BEGIN:VEVENT
DTSTAMP:20260425T141834Z
DTSTART;VALUE=DATE:20120820
SUMMARY:PDAA 2012 Deadline
DESCRIPTION:4th International Workshop on Parallel and Distributed Algori
 thms and Applications
URL:http://www.wikicfp.com/cfp/servlet/event.showcfp?eventid=24496&copyow
 nerid=37272
UID:cfp289146-D@wikicfp.com
END:VEVENT
BEGIN:VEVENT
DTSTAMP:20260425T141834Z
DTSTART;VALUE=DATE:20120910
SUMMARY:PDAA 2012 Notification Due
DESCRIPTION:4th International Workshop on Parallel and Distributed Algori
 thms and Applications
URL:http://www.wikicfp.com/cfp/servlet/event.showcfp?eventid=24496&copyow
 nerid=37272
UID:cfp289146-N@wikicfp.com
END:VEVENT
BEGIN:VEVENT
DTSTAMP:20260425T141834Z
DTSTART;VALUE=DATE:20120921
SUMMARY:PDAA 2012 Final Version Due
DESCRIPTION:4th International Workshop on Parallel and Distributed Algori
 thms and Applications
URL:http://www.wikicfp.com/cfp/servlet/event.showcfp?eventid=24496&copyow
 nerid=37272
UID:cfp289146-N@wikicfp.com
END:VEVENT
BEGIN:VEVENT
DTSTAMP:20260425T141834Z
DTSTART;VALUE=DATE:20121124
DTEND;VALUE=DATE:20121126
SUMMARY:ICCTD 2012
DESCRIPTION:2012 4th International Conference on Computer Technology and 
 Development
URL:http://www.wikicfp.com/cfp/servlet/event.showcfp?eventid=23978&copyow
 nerid=37272
UID:cfp289145-E@wikicfp.com
END:VEVENT
BEGIN:VEVENT
DTSTAMP:20260425T141834Z
DTSTART;VALUE=DATE:20120905
SUMMARY:ICCTD 2012 Deadline
DESCRIPTION:2012 4th International Conference on Computer Technology and 
 Development
URL:http://www.wikicfp.com/cfp/servlet/event.showcfp?eventid=23978&copyow
 nerid=37272
UID:cfp289145-D@wikicfp.com
END:VEVENT
BEGIN:VEVENT
DTSTAMP:20260425T141834Z
DTSTART;VALUE=DATE:20120915
SUMMARY:ICCTD 2012 Notification Due
DESCRIPTION:2012 4th International Conference on Computer Technology and 
 Development
URL:http://www.wikicfp.com/cfp/servlet/event.showcfp?eventid=23978&copyow
 nerid=37272
UID:cfp289145-N@wikicfp.com
END:VEVENT
BEGIN:VEVENT
DTSTAMP:20260425T141834Z
DTSTART;VALUE=DATE:20120925
SUMMARY:ICCTD 2012 Final Version Due
DESCRIPTION:2012 4th International Conference on Computer Technology and 
 Development
URL:http://www.wikicfp.com/cfp/servlet/event.showcfp?eventid=23978&copyow
 nerid=37272
UID:cfp289145-N@wikicfp.com
END:VEVENT
BEGIN:VEVENT
DTSTAMP:20260425T141834Z
DTSTART;VALUE=DATE:20121215
DTEND;VALUE=DATE:20121217
SUMMARY:ICCCI 2012
DESCRIPTION:2012 3rd International Conference on Computer and Computation
 al Intelligence
URL:http://www.wikicfp.com/cfp/servlet/event.showcfp?eventid=24259&copyow
 nerid=37272
UID:cfp289039-E@wikicfp.com
END:VEVENT
BEGIN:VEVENT
DTSTAMP:20260425T141834Z
DTSTART;VALUE=DATE:20121010
SUMMARY:ICCCI 2012 Deadline
DESCRIPTION:2012 3rd International Conference on Computer and Computation
 al Intelligence
URL:http://www.wikicfp.com/cfp/servlet/event.showcfp?eventid=24259&copyow
 nerid=37272
UID:cfp289039-D@wikicfp.com
END:VEVENT
BEGIN:VEVENT
DTSTAMP:20260425T141834Z
DTSTART;VALUE=DATE:20121025
SUMMARY:ICCCI 2012 Notification Due
DESCRIPTION:2012 3rd International Conference on Computer and Computation
 al Intelligence
URL:http://www.wikicfp.com/cfp/servlet/event.showcfp?eventid=24259&copyow
 nerid=37272
UID:cfp289039-N@wikicfp.com
END:VEVENT
BEGIN:VEVENT
DTSTAMP:20260425T141834Z
DTSTART;VALUE=DATE:20121115
SUMMARY:ICCCI 2012 Final Version Due
DESCRIPTION:2012 3rd International Conference on Computer and Computation
 al Intelligence
URL:http://www.wikicfp.com/cfp/servlet/event.showcfp?eventid=24259&copyow
 nerid=37272
UID:cfp289039-N@wikicfp.com
END:VEVENT
END:VCALENDAR
