BEGIN:VCALENDAR
PRODID:-//WikiCFP//rouliaan 1.0//EN
VERSION:2.0
CALSCALE:GREGORIAN
BEGIN:VEVENT
DTSTAMP:20260423T130608Z
DTSTART;VALUE=DATE:20130427
DTEND;VALUE=DATE:20130503
SUMMARY:CHI 2013
DESCRIPTION:31th Human Factors in Computing Systems
URL:http://www.wikicfp.com/cfp/servlet/event.showcfp?eventid=21059&copyow
 nerid=37162
UID:cfp260303-E@wikicfp.com
END:VEVENT
BEGIN:VEVENT
DTSTAMP:20260423T130608Z
DTSTART;VALUE=DATE:20120919
SUMMARY:CHI 2013 Deadline
DESCRIPTION:31th Human Factors in Computing Systems
URL:http://www.wikicfp.com/cfp/servlet/event.showcfp?eventid=21059&copyow
 nerid=37162
UID:cfp260303-D@wikicfp.com
END:VEVENT
END:VCALENDAR
