BEGIN:VCALENDAR
PRODID:-//WikiCFP//SlimBenMahmoud 1.0//EN
VERSION:2.0
CALSCALE:GREGORIAN
BEGIN:VEVENT
DTSTAMP:20260421T183323Z
DTSTART;VALUE=DATE:20131112
DTEND;VALUE=DATE:20131116
SUMMARY:ISPACS 2013
DESCRIPTION:International Symposium on Intelligent Signal Processing and 
 Communication Systems
URL:http://www.wikicfp.com/cfp/servlet/event.showcfp?eventid=29070&copyow
 nerid=37152
UID:cfp354397-E@wikicfp.com
END:VEVENT
BEGIN:VEVENT
DTSTAMP:20260421T183323Z
DTSTART;VALUE=DATE:20130614
SUMMARY:ISPACS 2013 Deadline
DESCRIPTION:International Symposium on Intelligent Signal Processing and 
 Communication Systems
URL:http://www.wikicfp.com/cfp/servlet/event.showcfp?eventid=29070&copyow
 nerid=37152
UID:cfp354397-D@wikicfp.com
END:VEVENT
BEGIN:VEVENT
DTSTAMP:20260421T183323Z
DTSTART;VALUE=DATE:20130823
SUMMARY:ISPACS 2013 Notification Due
DESCRIPTION:International Symposium on Intelligent Signal Processing and 
 Communication Systems
URL:http://www.wikicfp.com/cfp/servlet/event.showcfp?eventid=29070&copyow
 nerid=37152
UID:cfp354397-N@wikicfp.com
END:VEVENT
BEGIN:VEVENT
DTSTAMP:20260421T183323Z
DTSTART;VALUE=DATE:20130921
SUMMARY:ISPACS 2013 Final Version Due
DESCRIPTION:International Symposium on Intelligent Signal Processing and 
 Communication Systems
URL:http://www.wikicfp.com/cfp/servlet/event.showcfp?eventid=29070&copyow
 nerid=37152
UID:cfp354397-N@wikicfp.com
END:VEVENT
BEGIN:VEVENT
DTSTAMP:20260421T183323Z
DTSTART;VALUE=DATE:20131204
DTEND;VALUE=DATE:20131207
SUMMARY:CANDAR 2013
DESCRIPTION: The First International Symposium on Computing and Networkin
 g  â Across Practical Development and Theoretical Research â 
URL:http://www.wikicfp.com/cfp/servlet/event.showcfp?eventid=29798&copyow
 nerid=37152
UID:cfp354400-E@wikicfp.com
END:VEVENT
BEGIN:VEVENT
DTSTAMP:20260421T183323Z
DTSTART;VALUE=DATE:20130722
SUMMARY:CANDAR 2013 Abstract Due
DESCRIPTION: The First International Symposium on Computing and Networkin
 g  â Across Practical Development and Theoretical Research â 
URL:http://www.wikicfp.com/cfp/servlet/event.showcfp?eventid=29798&copyow
 nerid=37152
UID:cfp354400-A@wikicfp.com
END:VEVENT
BEGIN:VEVENT
DTSTAMP:20260421T183323Z
DTSTART;VALUE=DATE:20130726
SUMMARY:CANDAR 2013 Deadline
DESCRIPTION: The First International Symposium on Computing and Networkin
 g  â Across Practical Development and Theoretical Research â 
URL:http://www.wikicfp.com/cfp/servlet/event.showcfp?eventid=29798&copyow
 nerid=37152
UID:cfp354400-D@wikicfp.com
END:VEVENT
BEGIN:VEVENT
DTSTAMP:20260421T183323Z
DTSTART;VALUE=DATE:20130901
SUMMARY:CANDAR 2013 Notification Due
DESCRIPTION: The First International Symposium on Computing and Networkin
 g  â Across Practical Development and Theoretical Research â 
URL:http://www.wikicfp.com/cfp/servlet/event.showcfp?eventid=29798&copyow
 nerid=37152
UID:cfp354400-N@wikicfp.com
END:VEVENT
BEGIN:VEVENT
DTSTAMP:20260421T183323Z
DTSTART;VALUE=DATE:20130920
SUMMARY:CANDAR 2013 Final Version Due
DESCRIPTION: The First International Symposium on Computing and Networkin
 g  â Across Practical Development and Theoretical Research â 
URL:http://www.wikicfp.com/cfp/servlet/event.showcfp?eventid=29798&copyow
 nerid=37152
UID:cfp354400-N@wikicfp.com
END:VEVENT
BEGIN:VEVENT
DTSTAMP:20260421T183323Z
DTSTART;VALUE=DATE:20140721
DTEND;VALUE=DATE:20140726
SUMMARY:WASCOM 2014
DESCRIPTION:IEEE 2014 COMPSAC International Workshop on Adaptive Systems 
 for Communication Networks
URL:http://www.wikicfp.com/cfp/servlet/event.showcfp?eventid=35213&copyow
 nerid=37152
UID:cfp415410-E@wikicfp.com
END:VEVENT
BEGIN:VEVENT
DTSTAMP:20260421T183323Z
DTSTART;VALUE=DATE:20140323
SUMMARY:WASCOM 2014 Deadline
DESCRIPTION:IEEE 2014 COMPSAC International Workshop on Adaptive Systems 
 for Communication Networks
URL:http://www.wikicfp.com/cfp/servlet/event.showcfp?eventid=35213&copyow
 nerid=37152
UID:cfp415410-D@wikicfp.com
END:VEVENT
BEGIN:VEVENT
DTSTAMP:20260421T183323Z
DTSTART;VALUE=DATE:20140420
SUMMARY:WASCOM 2014 Notification Due
DESCRIPTION:IEEE 2014 COMPSAC International Workshop on Adaptive Systems 
 for Communication Networks
URL:http://www.wikicfp.com/cfp/servlet/event.showcfp?eventid=35213&copyow
 nerid=37152
UID:cfp415410-N@wikicfp.com
END:VEVENT
BEGIN:VEVENT
DTSTAMP:20260421T183323Z
DTSTART;VALUE=DATE:20140428
SUMMARY:WASCOM 2014 Final Version Due
DESCRIPTION:IEEE 2014 COMPSAC International Workshop on Adaptive Systems 
 for Communication Networks
URL:http://www.wikicfp.com/cfp/servlet/event.showcfp?eventid=35213&copyow
 nerid=37152
UID:cfp415410-N@wikicfp.com
END:VEVENT
END:VCALENDAR
