BEGIN:VCALENDAR
PRODID:-//WikiCFP//elshaimaanada 1.0//EN
VERSION:2.0
CALSCALE:GREGORIAN
BEGIN:VEVENT
DTSTAMP:20260422T130757Z
DTSTART;VALUE=DATE:20120815
DTEND;VALUE=DATE:20120818
SUMMARY:UAI 2012
DESCRIPTION:28th Conference on Uncertainty in Artificial Intelligence
URL:http://www.wikicfp.com/cfp/servlet/event.showcfp?eventid=18114&copyow
 nerid=36977
UID:cfp259258-E@wikicfp.com
END:VEVENT
BEGIN:VEVENT
DTSTAMP:20260422T130757Z
DTSTART;VALUE=DATE:20120330
SUMMARY:UAI 2012 Deadline
DESCRIPTION:28th Conference on Uncertainty in Artificial Intelligence
URL:http://www.wikicfp.com/cfp/servlet/event.showcfp?eventid=18114&copyow
 nerid=36977
UID:cfp259258-D@wikicfp.com
END:VEVENT
BEGIN:VEVENT
DTSTAMP:20260422T130757Z
DTSTART;VALUE=DATE:20120601
SUMMARY:UAI 2012 Notification Due
DESCRIPTION:28th Conference on Uncertainty in Artificial Intelligence
URL:http://www.wikicfp.com/cfp/servlet/event.showcfp?eventid=18114&copyow
 nerid=36977
UID:cfp259258-N@wikicfp.com
END:VEVENT
BEGIN:VEVENT
DTSTAMP:20260422T130757Z
DTSTART;VALUE=DATE:20120403
DTEND;VALUE=DATE:20120405
SUMMARY:ACTT 2012
DESCRIPTION:ADVANCED COMPUTER SCIENCE &TELECOMMUNICATION TECHNOLOGIES
URL:http://www.wikicfp.com/cfp/servlet/event.showcfp?eventid=22623&copyow
 nerid=36977
UID:cfp259253-E@wikicfp.com
END:VEVENT
BEGIN:VEVENT
DTSTAMP:20260422T130757Z
DTSTART;VALUE=DATE:20120330
SUMMARY:ACTT 2012 Deadline
DESCRIPTION:ADVANCED COMPUTER SCIENCE &TELECOMMUNICATION TECHNOLOGIES
URL:http://www.wikicfp.com/cfp/servlet/event.showcfp?eventid=22623&copyow
 nerid=36977
UID:cfp259253-D@wikicfp.com
END:VEVENT
BEGIN:VEVENT
DTSTAMP:20260422T130757Z
DTSTART;VALUE=DATE:20120331
SUMMARY:ACTT 2012 Notification Due
DESCRIPTION:ADVANCED COMPUTER SCIENCE &TELECOMMUNICATION TECHNOLOGIES
URL:http://www.wikicfp.com/cfp/servlet/event.showcfp?eventid=22623&copyow
 nerid=36977
UID:cfp259253-N@wikicfp.com
END:VEVENT
BEGIN:VEVENT
DTSTAMP:20260422T130757Z
DTSTART;VALUE=DATE:20120331
SUMMARY:ACTT 2012 Final Version Due
DESCRIPTION:ADVANCED COMPUTER SCIENCE &TELECOMMUNICATION TECHNOLOGIES
URL:http://www.wikicfp.com/cfp/servlet/event.showcfp?eventid=22623&copyow
 nerid=36977
UID:cfp259253-N@wikicfp.com
END:VEVENT
BEGIN:VEVENT
DTSTAMP:20260422T130757Z
DTSTART;VALUE=DATE:20120625
DTEND;VALUE=DATE:20120628
SUMMARY:ASC 2012
DESCRIPTION:Artificial Intelligence and Soft Computing
URL:http://www.wikicfp.com/cfp/servlet/event.showcfp?eventid=19166&copyow
 nerid=36977
UID:cfp259259-E@wikicfp.com
END:VEVENT
BEGIN:VEVENT
DTSTAMP:20260422T130757Z
DTSTART;VALUE=DATE:20120401
SUMMARY:ASC 2012 Deadline
DESCRIPTION:Artificial Intelligence and Soft Computing
URL:http://www.wikicfp.com/cfp/servlet/event.showcfp?eventid=19166&copyow
 nerid=36977
UID:cfp259259-D@wikicfp.com
END:VEVENT
BEGIN:VEVENT
DTSTAMP:20260422T130757Z
DTSTART;VALUE=DATE:20120423
SUMMARY:ASC 2012 Notification Due
DESCRIPTION:Artificial Intelligence and Soft Computing
URL:http://www.wikicfp.com/cfp/servlet/event.showcfp?eventid=19166&copyow
 nerid=36977
UID:cfp259259-N@wikicfp.com
END:VEVENT
BEGIN:VEVENT
DTSTAMP:20260422T130757Z
DTSTART;VALUE=DATE:20120508
SUMMARY:ASC 2012 Final Version Due
DESCRIPTION:Artificial Intelligence and Soft Computing
URL:http://www.wikicfp.com/cfp/servlet/event.showcfp?eventid=19166&copyow
 nerid=36977
UID:cfp259259-N@wikicfp.com
END:VEVENT
END:VCALENDAR
