BEGIN:VCALENDAR
PRODID:-//WikiCFP//imranashraf 1.0//EN
VERSION:2.0
CALSCALE:GREGORIAN
BEGIN:VEVENT
DTSTAMP:20260424T164121Z
DTSTART;VALUE=DATE:20120222
DTEND;VALUE=DATE:20120225
SUMMARY:FPGA 2012
DESCRIPTION:20th ACM/SIGDA International Symposium on Field-Programmable 
 Gate Arrays
URL:http://www.wikicfp.com/cfp/servlet/event.showcfp?eventid=18023&copyow
 nerid=36897
UID:cfp292508-E@wikicfp.com
END:VEVENT
BEGIN:VEVENT
DTSTAMP:20260424T164121Z
DTSTART;VALUE=DATE:20110921
SUMMARY:FPGA 2012 Deadline
DESCRIPTION:20th ACM/SIGDA International Symposium on Field-Programmable 
 Gate Arrays
URL:http://www.wikicfp.com/cfp/servlet/event.showcfp?eventid=18023&copyow
 nerid=36897
UID:cfp292508-D@wikicfp.com
END:VEVENT
BEGIN:VEVENT
DTSTAMP:20260424T164121Z
DTSTART;VALUE=DATE:20111114
SUMMARY:FPGA 2012 Notification Due
DESCRIPTION:20th ACM/SIGDA International Symposium on Field-Programmable 
 Gate Arrays
URL:http://www.wikicfp.com/cfp/servlet/event.showcfp?eventid=18023&copyow
 nerid=36897
UID:cfp292508-N@wikicfp.com
END:VEVENT
BEGIN:VEVENT
DTSTAMP:20260424T164121Z
DTSTART;VALUE=DATE:20111205
SUMMARY:FPGA 2012 Final Version Due
DESCRIPTION:20th ACM/SIGDA International Symposium on Field-Programmable 
 Gate Arrays
URL:http://www.wikicfp.com/cfp/servlet/event.showcfp?eventid=18023&copyow
 nerid=36897
UID:cfp292508-N@wikicfp.com
END:VEVENT
BEGIN:VEVENT
DTSTAMP:20260424T164121Z
DTSTART;VALUE=DATE:20120319
DTEND;VALUE=DATE:20120324
SUMMARY:ARC 2012
DESCRIPTION:The 8th International Symposium on Applied Reconfigurable 
URL:http://www.wikicfp.com/cfp/servlet/event.showcfp?eventid=18130&copyow
 nerid=36897
UID:cfp292516-E@wikicfp.com
END:VEVENT
BEGIN:VEVENT
DTSTAMP:20260424T164121Z
DTSTART;VALUE=DATE:20111101
SUMMARY:ARC 2012 Deadline
DESCRIPTION:The 8th International Symposium on Applied Reconfigurable 
URL:http://www.wikicfp.com/cfp/servlet/event.showcfp?eventid=18130&copyow
 nerid=36897
UID:cfp292516-D@wikicfp.com
END:VEVENT
BEGIN:VEVENT
DTSTAMP:20260424T164121Z
DTSTART;VALUE=DATE:20111201
SUMMARY:ARC 2012 Notification Due
DESCRIPTION:The 8th International Symposium on Applied Reconfigurable 
URL:http://www.wikicfp.com/cfp/servlet/event.showcfp?eventid=18130&copyow
 nerid=36897
UID:cfp292516-N@wikicfp.com
END:VEVENT
BEGIN:VEVENT
DTSTAMP:20260424T164121Z
DTSTART;VALUE=DATE:20111220
SUMMARY:ARC 2012 Final Version Due
DESCRIPTION:The 8th International Symposium on Applied Reconfigurable 
URL:http://www.wikicfp.com/cfp/servlet/event.showcfp?eventid=18130&copyow
 nerid=36897
UID:cfp292516-N@wikicfp.com
END:VEVENT
BEGIN:VEVENT
DTSTAMP:20260424T164121Z
DTSTART;VALUE=DATE:20120123
DTEND;VALUE=DATE:20120125
SUMMARY:WRC 2012
DESCRIPTION:6th HiPEAC Workshop on Reconfigurable Computing
URL:http://www.wikicfp.com/cfp/servlet/event.showcfp?eventid=18753&copyow
 nerid=36897
UID:cfp292514-E@wikicfp.com
END:VEVENT
BEGIN:VEVENT
DTSTAMP:20260424T164121Z
DTSTART;VALUE=DATE:20111107
SUMMARY:WRC 2012 Deadline
DESCRIPTION:6th HiPEAC Workshop on Reconfigurable Computing
URL:http://www.wikicfp.com/cfp/servlet/event.showcfp?eventid=18753&copyow
 nerid=36897
UID:cfp292514-D@wikicfp.com
END:VEVENT
BEGIN:VEVENT
DTSTAMP:20260424T164121Z
DTSTART;VALUE=DATE:20111130
SUMMARY:WRC 2012 Notification Due
DESCRIPTION:6th HiPEAC Workshop on Reconfigurable Computing
URL:http://www.wikicfp.com/cfp/servlet/event.showcfp?eventid=18753&copyow
 nerid=36897
UID:cfp292514-N@wikicfp.com
END:VEVENT
BEGIN:VEVENT
DTSTAMP:20260424T164121Z
DTSTART;VALUE=DATE:20111206
SUMMARY:WRC 2012 Final Version Due
DESCRIPTION:6th HiPEAC Workshop on Reconfigurable Computing
URL:http://www.wikicfp.com/cfp/servlet/event.showcfp?eventid=18753&copyow
 nerid=36897
UID:cfp292514-N@wikicfp.com
END:VEVENT
BEGIN:VEVENT
DTSTAMP:20260424T164121Z
DTSTART;VALUE=DATE:20120429
DTEND;VALUE=DATE:20120502
SUMMARY:FCCM 2012
DESCRIPTION:Field-Programmable Custom Computing Machines
URL:http://www.wikicfp.com/cfp/servlet/event.showcfp?eventid=18778&copyow
 nerid=36897
UID:cfp292507-E@wikicfp.com
END:VEVENT
BEGIN:VEVENT
DTSTAMP:20260424T164121Z
DTSTART;VALUE=DATE:20120106
SUMMARY:FCCM 2012 Deadline
DESCRIPTION:Field-Programmable Custom Computing Machines
URL:http://www.wikicfp.com/cfp/servlet/event.showcfp?eventid=18778&copyow
 nerid=36897
UID:cfp292507-D@wikicfp.com
END:VEVENT
BEGIN:VEVENT
DTSTAMP:20260424T164121Z
DTSTART;VALUE=DATE:20120227
SUMMARY:FCCM 2012 Notification Due
DESCRIPTION:Field-Programmable Custom Computing Machines
URL:http://www.wikicfp.com/cfp/servlet/event.showcfp?eventid=18778&copyow
 nerid=36897
UID:cfp292507-N@wikicfp.com
END:VEVENT
BEGIN:VEVENT
DTSTAMP:20260424T164121Z
DTSTART;VALUE=DATE:20120329
SUMMARY:FCCM 2012 Final Version Due
DESCRIPTION:Field-Programmable Custom Computing Machines
URL:http://www.wikicfp.com/cfp/servlet/event.showcfp?eventid=18778&copyow
 nerid=36897
UID:cfp292507-N@wikicfp.com
END:VEVENT
BEGIN:VEVENT
DTSTAMP:20260424T164121Z
DTSTART;VALUE=DATE:20120521
DTEND;VALUE=DATE:20120523
SUMMARY:RAW 2012
DESCRIPTION:19th Reconfigurable Architectures Workshop
URL:http://www.wikicfp.com/cfp/servlet/event.showcfp?eventid=17588&copyow
 nerid=36897
UID:cfp292510-E@wikicfp.com
END:VEVENT
BEGIN:VEVENT
DTSTAMP:20260424T164121Z
DTSTART;VALUE=DATE:20120112
SUMMARY:RAW 2012 Deadline
DESCRIPTION:19th Reconfigurable Architectures Workshop
URL:http://www.wikicfp.com/cfp/servlet/event.showcfp?eventid=17588&copyow
 nerid=36897
UID:cfp292510-D@wikicfp.com
END:VEVENT
BEGIN:VEVENT
DTSTAMP:20260424T164121Z
DTSTART;VALUE=DATE:20120716
DTEND;VALUE=DATE:20120720
SUMMARY:SAMOS 2012
DESCRIPTION:International Conference on Embedded Computer Systems:  Archi
 tectures\, Modeling\, and Simulation (SAMOS XII) 
URL:http://www.wikicfp.com/cfp/servlet/event.showcfp?eventid=20253&copyow
 nerid=36897
UID:cfp309766-E@wikicfp.com
END:VEVENT
BEGIN:VEVENT
DTSTAMP:20260424T164121Z
DTSTART;VALUE=DATE:20120224
SUMMARY:SAMOS 2012 Deadline
DESCRIPTION:International Conference on Embedded Computer Systems:  Archi
 tectures\, Modeling\, and Simulation (SAMOS XII) 
URL:http://www.wikicfp.com/cfp/servlet/event.showcfp?eventid=20253&copyow
 nerid=36897
UID:cfp309766-D@wikicfp.com
END:VEVENT
BEGIN:VEVENT
DTSTAMP:20260424T164121Z
DTSTART;VALUE=DATE:20120414
SUMMARY:SAMOS 2012 Notification Due
DESCRIPTION:International Conference on Embedded Computer Systems:  Archi
 tectures\, Modeling\, and Simulation (SAMOS XII) 
URL:http://www.wikicfp.com/cfp/servlet/event.showcfp?eventid=20253&copyow
 nerid=36897
UID:cfp309766-N@wikicfp.com
END:VEVENT
BEGIN:VEVENT
DTSTAMP:20260424T164121Z
DTSTART;VALUE=DATE:20120511
SUMMARY:SAMOS 2012 Final Version Due
DESCRIPTION:International Conference on Embedded Computer Systems:  Archi
 tectures\, Modeling\, and Simulation (SAMOS XII) 
URL:http://www.wikicfp.com/cfp/servlet/event.showcfp?eventid=20253&copyow
 nerid=36897
UID:cfp309766-N@wikicfp.com
END:VEVENT
BEGIN:VEVENT
DTSTAMP:20260424T164121Z
DTSTART;VALUE=DATE:20120531
DTEND;VALUE=DATE:20120602
SUMMARY:HEART 2012
DESCRIPTION:Highly Efficient Accelerators and Reconfigurable Technologies
 
URL:http://www.wikicfp.com/cfp/servlet/event.showcfp?eventid=18674&copyow
 nerid=36897
UID:cfp292517-E@wikicfp.com
END:VEVENT
BEGIN:VEVENT
DTSTAMP:20260424T164121Z
DTSTART;VALUE=DATE:20120307
SUMMARY:HEART 2012 Deadline
DESCRIPTION:Highly Efficient Accelerators and Reconfigurable Technologies
 
URL:http://www.wikicfp.com/cfp/servlet/event.showcfp?eventid=18674&copyow
 nerid=36897
UID:cfp292517-D@wikicfp.com
END:VEVENT
BEGIN:VEVENT
DTSTAMP:20260424T164121Z
DTSTART;VALUE=DATE:20120410
SUMMARY:HEART 2012 Notification Due
DESCRIPTION:Highly Efficient Accelerators and Reconfigurable Technologies
 
URL:http://www.wikicfp.com/cfp/servlet/event.showcfp?eventid=18674&copyow
 nerid=36897
UID:cfp292517-N@wikicfp.com
END:VEVENT
BEGIN:VEVENT
DTSTAMP:20260424T164121Z
DTSTART;VALUE=DATE:20120426
SUMMARY:HEART 2012 Final Version Due
DESCRIPTION:Highly Efficient Accelerators and Reconfigurable Technologies
 
URL:http://www.wikicfp.com/cfp/servlet/event.showcfp?eventid=18674&copyow
 nerid=36897
UID:cfp292517-N@wikicfp.com
END:VEVENT
BEGIN:VEVENT
DTSTAMP:20260424T164121Z
DTSTART;VALUE=DATE:20120829
DTEND;VALUE=DATE:20120901
SUMMARY:FPL 2012
DESCRIPTION:International Conference on Field Programmable Logic and Appl
 ications
URL:http://www.wikicfp.com/cfp/servlet/event.showcfp?eventid=21015&copyow
 nerid=36897
UID:cfp292506-E@wikicfp.com
END:VEVENT
BEGIN:VEVENT
DTSTAMP:20260424T164121Z
DTSTART;VALUE=DATE:20120331
SUMMARY:FPL 2012 Deadline
DESCRIPTION:International Conference on Field Programmable Logic and Appl
 ications
URL:http://www.wikicfp.com/cfp/servlet/event.showcfp?eventid=21015&copyow
 nerid=36897
UID:cfp292506-D@wikicfp.com
END:VEVENT
BEGIN:VEVENT
DTSTAMP:20260424T164121Z
DTSTART;VALUE=DATE:20120601
SUMMARY:FPL 2012 Notification Due
DESCRIPTION:International Conference on Field Programmable Logic and Appl
 ications
URL:http://www.wikicfp.com/cfp/servlet/event.showcfp?eventid=21015&copyow
 nerid=36897
UID:cfp292506-N@wikicfp.com
END:VEVENT
BEGIN:VEVENT
DTSTAMP:20260424T164121Z
DTSTART;VALUE=DATE:20120615
SUMMARY:FPL 2012 Final Version Due
DESCRIPTION:International Conference on Field Programmable Logic and Appl
 ications
URL:http://www.wikicfp.com/cfp/servlet/event.showcfp?eventid=21015&copyow
 nerid=36897
UID:cfp292506-N@wikicfp.com
END:VEVENT
BEGIN:VEVENT
DTSTAMP:20260424T164121Z
DTSTART;VALUE=DATE:20120715
DTEND;VALUE=DATE:20120716
SUMMARY:WODA 2012
DESCRIPTION:10th International Workshop on Dynamic Analysis
URL:http://www.wikicfp.com/cfp/servlet/event.showcfp?eventid=21789&copyow
 nerid=36897
UID:cfp259045-E@wikicfp.com
END:VEVENT
BEGIN:VEVENT
DTSTAMP:20260424T164121Z
DTSTART;VALUE=DATE:20120427
SUMMARY:WODA 2012 Deadline
DESCRIPTION:10th International Workshop on Dynamic Analysis
URL:http://www.wikicfp.com/cfp/servlet/event.showcfp?eventid=21789&copyow
 nerid=36897
UID:cfp259045-D@wikicfp.com
END:VEVENT
BEGIN:VEVENT
DTSTAMP:20260424T164121Z
DTSTART;VALUE=DATE:20120525
SUMMARY:WODA 2012 Notification Due
DESCRIPTION:10th International Workshop on Dynamic Analysis
URL:http://www.wikicfp.com/cfp/servlet/event.showcfp?eventid=21789&copyow
 nerid=36897
UID:cfp259045-N@wikicfp.com
END:VEVENT
BEGIN:VEVENT
DTSTAMP:20260424T164121Z
DTSTART;VALUE=DATE:20120601
SUMMARY:WODA 2012 Final Version Due
DESCRIPTION:10th International Workshop on Dynamic Analysis
URL:http://www.wikicfp.com/cfp/servlet/event.showcfp?eventid=21789&copyow
 nerid=36897
UID:cfp259045-N@wikicfp.com
END:VEVENT
BEGIN:VEVENT
DTSTAMP:20260424T164121Z
DTSTART;VALUE=DATE:20130121
DTEND;VALUE=DATE:20130124
SUMMARY:HiPEAC 2013
DESCRIPTION:8th International Conference on High-Performance and Embedded
  Architectures and Compilers
URL:http://www.wikicfp.com/cfp/servlet/event.showcfp?eventid=22708&copyow
 nerid=36897
UID:cfp292513-E@wikicfp.com
END:VEVENT
BEGIN:VEVENT
DTSTAMP:20260424T164121Z
DTSTART;VALUE=DATE:20120618
SUMMARY:HiPEAC 2013 Deadline
DESCRIPTION:8th International Conference on High-Performance and Embedded
  Architectures and Compilers
URL:http://www.wikicfp.com/cfp/servlet/event.showcfp?eventid=22708&copyow
 nerid=36897
UID:cfp292513-D@wikicfp.com
END:VEVENT
BEGIN:VEVENT
DTSTAMP:20260424T164121Z
DTSTART;VALUE=DATE:20121210
DTEND;VALUE=DATE:20121213
SUMMARY:FPT 2012
DESCRIPTION:International Conference on Field-Programmable Technology
URL:http://www.wikicfp.com/cfp/servlet/event.showcfp?eventid=22407&copyow
 nerid=36897
UID:cfp292512-E@wikicfp.com
END:VEVENT
BEGIN:VEVENT
DTSTAMP:20260424T164121Z
DTSTART;VALUE=DATE:20120622
SUMMARY:FPT 2012 Deadline
DESCRIPTION:International Conference on Field-Programmable Technology
URL:http://www.wikicfp.com/cfp/servlet/event.showcfp?eventid=22407&copyow
 nerid=36897
UID:cfp292512-D@wikicfp.com
END:VEVENT
BEGIN:VEVENT
DTSTAMP:20260424T164121Z
DTSTART;VALUE=DATE:20121205
DTEND;VALUE=DATE:20121208
SUMMARY:ReConFig 2012
DESCRIPTION:International Conference on Reconfigurable Computing and FPGA
 s
URL:http://www.wikicfp.com/cfp/servlet/event.showcfp?eventid=21758&copyow
 nerid=36897
UID:cfp292515-E@wikicfp.com
END:VEVENT
BEGIN:VEVENT
DTSTAMP:20260424T164121Z
DTSTART;VALUE=DATE:20120713
SUMMARY:ReConFig 2012 Deadline
DESCRIPTION:International Conference on Reconfigurable Computing and FPGA
 s
URL:http://www.wikicfp.com/cfp/servlet/event.showcfp?eventid=21758&copyow
 nerid=36897
UID:cfp292515-D@wikicfp.com
END:VEVENT
BEGIN:VEVENT
DTSTAMP:20260424T164121Z
DTSTART;VALUE=DATE:20120921
SUMMARY:ReConFig 2012 Notification Due
DESCRIPTION:International Conference on Reconfigurable Computing and FPGA
 s
URL:http://www.wikicfp.com/cfp/servlet/event.showcfp?eventid=21758&copyow
 nerid=36897
UID:cfp292515-N@wikicfp.com
END:VEVENT
BEGIN:VEVENT
DTSTAMP:20260424T164121Z
DTSTART;VALUE=DATE:20121012
SUMMARY:ReConFig 2012 Final Version Due
DESCRIPTION:International Conference on Reconfigurable Computing and FPGA
 s
URL:http://www.wikicfp.com/cfp/servlet/event.showcfp?eventid=21758&copyow
 nerid=36897
UID:cfp292515-N@wikicfp.com
END:VEVENT
BEGIN:VEVENT
DTSTAMP:20260424T164121Z
DTSTART;VALUE=DATE:20130319
DTEND;VALUE=DATE:20130323
SUMMARY:DATE 2013
DESCRIPTION:Design Automation and Test in Europe
URL:http://www.wikicfp.com/cfp/servlet/event.showcfp?eventid=24811&copyow
 nerid=36897
UID:cfp292511-E@wikicfp.com
END:VEVENT
BEGIN:VEVENT
DTSTAMP:20260424T164121Z
DTSTART;VALUE=DATE:20120909
SUMMARY:DATE 2013 Abstract Due
DESCRIPTION:Design Automation and Test in Europe
URL:http://www.wikicfp.com/cfp/servlet/event.showcfp?eventid=24811&copyow
 nerid=36897
UID:cfp292511-A@wikicfp.com
END:VEVENT
BEGIN:VEVENT
DTSTAMP:20260424T164121Z
DTSTART;VALUE=DATE:20120914
SUMMARY:DATE 2013 Deadline
DESCRIPTION:Design Automation and Test in Europe
URL:http://www.wikicfp.com/cfp/servlet/event.showcfp?eventid=24811&copyow
 nerid=36897
UID:cfp292511-D@wikicfp.com
END:VEVENT
BEGIN:VEVENT
DTSTAMP:20260424T164121Z
DTSTART;VALUE=DATE:20121116
SUMMARY:DATE 2013 Notification Due
DESCRIPTION:Design Automation and Test in Europe
URL:http://www.wikicfp.com/cfp/servlet/event.showcfp?eventid=24811&copyow
 nerid=36897
UID:cfp292511-N@wikicfp.com
END:VEVENT
BEGIN:VEVENT
DTSTAMP:20260424T164121Z
DTSTART;VALUE=DATE:20121216
SUMMARY:DATE 2013 Final Version Due
DESCRIPTION:Design Automation and Test in Europe
URL:http://www.wikicfp.com/cfp/servlet/event.showcfp?eventid=24811&copyow
 nerid=36897
UID:cfp292511-N@wikicfp.com
END:VEVENT
BEGIN:VEVENT
DTSTAMP:20260424T164121Z
DTSTART;VALUE=DATE:20130602
DTEND;VALUE=DATE:20130607
SUMMARY:DAC 2013
DESCRIPTION:50th ACM/EDAC/IEEE Design Automation Conference (DAC)
URL:http://www.wikicfp.com/cfp/servlet/event.showcfp?eventid=20817&copyow
 nerid=36897
UID:cfp292509-E@wikicfp.com
END:VEVENT
BEGIN:VEVENT
DTSTAMP:20260424T164121Z
DTSTART;VALUE=DATE:20121127
SUMMARY:DAC 2013 Abstract Due
DESCRIPTION:50th ACM/EDAC/IEEE Design Automation Conference (DAC)
URL:http://www.wikicfp.com/cfp/servlet/event.showcfp?eventid=20817&copyow
 nerid=36897
UID:cfp292509-A@wikicfp.com
END:VEVENT
BEGIN:VEVENT
DTSTAMP:20260424T164121Z
DTSTART;VALUE=DATE:20121203
SUMMARY:DAC 2013 Deadline
DESCRIPTION:50th ACM/EDAC/IEEE Design Automation Conference (DAC)
URL:http://www.wikicfp.com/cfp/servlet/event.showcfp?eventid=20817&copyow
 nerid=36897
UID:cfp292509-D@wikicfp.com
END:VEVENT
BEGIN:VEVENT
DTSTAMP:20260424T164121Z
DTSTART;VALUE=DATE:20130605
DTEND;VALUE=DATE:20130608
SUMMARY:ICCS 2013
DESCRIPTION:International Conference on Computational Science
URL:http://www.wikicfp.com/cfp/servlet/event.showcfp?eventid=25979&copyow
 nerid=36897
UID:cfp312604-E@wikicfp.com
END:VEVENT
BEGIN:VEVENT
DTSTAMP:20260424T164121Z
DTSTART;VALUE=DATE:20130115
SUMMARY:ICCS 2013 Deadline
DESCRIPTION:International Conference on Computational Science
URL:http://www.wikicfp.com/cfp/servlet/event.showcfp?eventid=25979&copyow
 nerid=36897
UID:cfp312604-D@wikicfp.com
END:VEVENT
BEGIN:VEVENT
DTSTAMP:20260424T164121Z
DTSTART;VALUE=DATE:20130215
SUMMARY:ICCS 2013 Notification Due
DESCRIPTION:International Conference on Computational Science
URL:http://www.wikicfp.com/cfp/servlet/event.showcfp?eventid=25979&copyow
 nerid=36897
UID:cfp312604-N@wikicfp.com
END:VEVENT
BEGIN:VEVENT
DTSTAMP:20260424T164121Z
DTSTART;VALUE=DATE:20130305
SUMMARY:ICCS 2013 Final Version Due
DESCRIPTION:International Conference on Computational Science
URL:http://www.wikicfp.com/cfp/servlet/event.showcfp?eventid=25979&copyow
 nerid=36897
UID:cfp312604-N@wikicfp.com
END:VEVENT
BEGIN:VEVENT
DTSTAMP:20260424T164121Z
DTSTART;VALUE=DATE:20130421
DTEND;VALUE=DATE:20130422
SUMMARY:FastPath 2013
DESCRIPTION:Second International Workshop on Performance Analysis of Work
 load Optimized Systems
URL:http://www.wikicfp.com/cfp/servlet/event.showcfp?eventid=28361&copyow
 nerid=36897
UID:cfp347218-E@wikicfp.com
END:VEVENT
BEGIN:VEVENT
DTSTAMP:20260424T164121Z
DTSTART;VALUE=DATE:20130310
SUMMARY:FastPath 2013 Deadline
DESCRIPTION:Second International Workshop on Performance Analysis of Work
 load Optimized Systems
URL:http://www.wikicfp.com/cfp/servlet/event.showcfp?eventid=28361&copyow
 nerid=36897
UID:cfp347218-D@wikicfp.com
END:VEVENT
BEGIN:VEVENT
DTSTAMP:20260424T164121Z
DTSTART;VALUE=DATE:20130401
SUMMARY:FastPath 2013 Notification Due
DESCRIPTION:Second International Workshop on Performance Analysis of Work
 load Optimized Systems
URL:http://www.wikicfp.com/cfp/servlet/event.showcfp?eventid=28361&copyow
 nerid=36897
UID:cfp347218-N@wikicfp.com
END:VEVENT
BEGIN:VEVENT
DTSTAMP:20260424T164121Z
DTSTART;VALUE=DATE:20130411
SUMMARY:FastPath 2013 Final Version Due
DESCRIPTION:Second International Workshop on Performance Analysis of Work
 load Optimized Systems
URL:http://www.wikicfp.com/cfp/servlet/event.showcfp?eventid=28361&copyow
 nerid=36897
UID:cfp347218-N@wikicfp.com
END:VEVENT
BEGIN:VEVENT
DTSTAMP:20260424T164121Z
DTSTART;VALUE=DATE:20130922
DTEND;VALUE=DATE:20130925
SUMMARY:IISWC 2013
DESCRIPTION:IEEE International Symposium on Workload Characterization
URL:http://www.wikicfp.com/cfp/servlet/event.showcfp?eventid=28008&copyow
 nerid=36897
UID:cfp347217-E@wikicfp.com
END:VEVENT
BEGIN:VEVENT
DTSTAMP:20260424T164121Z
DTSTART;VALUE=DATE:20130329
SUMMARY:IISWC 2013 Abstract Due
DESCRIPTION:IEEE International Symposium on Workload Characterization
URL:http://www.wikicfp.com/cfp/servlet/event.showcfp?eventid=28008&copyow
 nerid=36897
UID:cfp347217-A@wikicfp.com
END:VEVENT
BEGIN:VEVENT
DTSTAMP:20260424T164121Z
DTSTART;VALUE=DATE:20130405
SUMMARY:IISWC 2013 Deadline
DESCRIPTION:IEEE International Symposium on Workload Characterization
URL:http://www.wikicfp.com/cfp/servlet/event.showcfp?eventid=28008&copyow
 nerid=36897
UID:cfp347217-D@wikicfp.com
END:VEVENT
BEGIN:VEVENT
DTSTAMP:20260424T164121Z
DTSTART;VALUE=DATE:20130614
SUMMARY:IISWC 2013 Notification Due
DESCRIPTION:IEEE International Symposium on Workload Characterization
URL:http://www.wikicfp.com/cfp/servlet/event.showcfp?eventid=28008&copyow
 nerid=36897
UID:cfp347217-N@wikicfp.com
END:VEVENT
BEGIN:VEVENT
DTSTAMP:20260424T164121Z
DTSTART;VALUE=DATE:20150414
DTEND;VALUE=DATE:20150418
SUMMARY:ARC 2015
DESCRIPTION:11th International Symposium on Applied Reconfigurable Comput
 ing
URL:http://www.wikicfp.com/cfp/servlet/event.showcfp?eventid=39766&copyow
 nerid=36897
UID:cfp487538-E@wikicfp.com
END:VEVENT
BEGIN:VEVENT
DTSTAMP:20260424T164121Z
DTSTART;VALUE=DATE:20141025
SUMMARY:ARC 2015 Deadline
DESCRIPTION:11th International Symposium on Applied Reconfigurable Comput
 ing
URL:http://www.wikicfp.com/cfp/servlet/event.showcfp?eventid=39766&copyow
 nerid=36897
UID:cfp487538-D@wikicfp.com
END:VEVENT
BEGIN:VEVENT
DTSTAMP:20260424T164121Z
DTSTART;VALUE=DATE:20141206
SUMMARY:ARC 2015 Notification Due
DESCRIPTION:11th International Symposium on Applied Reconfigurable Comput
 ing
URL:http://www.wikicfp.com/cfp/servlet/event.showcfp?eventid=39766&copyow
 nerid=36897
UID:cfp487538-N@wikicfp.com
END:VEVENT
BEGIN:VEVENT
DTSTAMP:20260424T164121Z
DTSTART;VALUE=DATE:20150103
SUMMARY:ARC 2015 Final Version Due
DESCRIPTION:11th International Symposium on Applied Reconfigurable Comput
 ing
URL:http://www.wikicfp.com/cfp/servlet/event.showcfp?eventid=39766&copyow
 nerid=36897
UID:cfp487538-N@wikicfp.com
END:VEVENT
BEGIN:VEVENT
DTSTAMP:20260424T164121Z
DTSTART;VALUE=DATE:20150712
DTEND;VALUE=DATE:20150718
SUMMARY:ISSTA 2015
DESCRIPTION:International Symposium on Software Testing and Analysis ISST
 A 2015
URL:http://www.wikicfp.com/cfp/servlet/event.showcfp?eventid=41474&copyow
 nerid=36897
UID:cfp503266-E@wikicfp.com
END:VEVENT
BEGIN:VEVENT
DTSTAMP:20260424T164121Z
DTSTART;VALUE=DATE:20150123
SUMMARY:ISSTA 2015 Deadline
DESCRIPTION:International Symposium on Software Testing and Analysis ISST
 A 2015
URL:http://www.wikicfp.com/cfp/servlet/event.showcfp?eventid=41474&copyow
 nerid=36897
UID:cfp503266-D@wikicfp.com
END:VEVENT
BEGIN:VEVENT
DTSTAMP:20260424T164121Z
DTSTART;VALUE=DATE:20150401
SUMMARY:ISSTA 2015 Notification Due
DESCRIPTION:International Symposium on Software Testing and Analysis ISST
 A 2015
URL:http://www.wikicfp.com/cfp/servlet/event.showcfp?eventid=41474&copyow
 nerid=36897
UID:cfp503266-N@wikicfp.com
END:VEVENT
BEGIN:VEVENT
DTSTAMP:20260424T164121Z
DTSTART;VALUE=DATE:20150824
DTEND;VALUE=DATE:20150825
SUMMARY:Euro-Par 2015
DESCRIPTION:21st International European Conference on Parallel and Distri
 buted Computing
URL:http://www.wikicfp.com/cfp/servlet/event.showcfp?eventid=42496&copyow
 nerid=36897
UID:cfp499766-E@wikicfp.com
END:VEVENT
BEGIN:VEVENT
DTSTAMP:20260424T164121Z
DTSTART;VALUE=DATE:20150130
SUMMARY:Euro-Par 2015 Abstract Due
DESCRIPTION:21st International European Conference on Parallel and Distri
 buted Computing
URL:http://www.wikicfp.com/cfp/servlet/event.showcfp?eventid=42496&copyow
 nerid=36897
UID:cfp499766-A@wikicfp.com
END:VEVENT
BEGIN:VEVENT
DTSTAMP:20260424T164121Z
DTSTART;VALUE=DATE:20150206
SUMMARY:Euro-Par 2015 Deadline
DESCRIPTION:21st International European Conference on Parallel and Distri
 buted Computing
URL:http://www.wikicfp.com/cfp/servlet/event.showcfp?eventid=42496&copyow
 nerid=36897
UID:cfp499766-D@wikicfp.com
END:VEVENT
BEGIN:VEVENT
DTSTAMP:20260424T164121Z
DTSTART;VALUE=DATE:20150505
SUMMARY:Euro-Par 2015 Notification Due
DESCRIPTION:21st International European Conference on Parallel and Distri
 buted Computing
URL:http://www.wikicfp.com/cfp/servlet/event.showcfp?eventid=42496&copyow
 nerid=36897
UID:cfp499766-N@wikicfp.com
END:VEVENT
BEGIN:VEVENT
DTSTAMP:20260424T164121Z
DTSTART;VALUE=DATE:20150605
SUMMARY:Euro-Par 2015 Final Version Due
DESCRIPTION:21st International European Conference on Parallel and Distri
 buted Computing
URL:http://www.wikicfp.com/cfp/servlet/event.showcfp?eventid=42496&copyow
 nerid=36897
UID:cfp499766-N@wikicfp.com
END:VEVENT
BEGIN:VEVENT
DTSTAMP:20260424T164121Z
DTSTART;VALUE=DATE:20150727
DTEND;VALUE=DATE:20150730
SUMMARY:ASAP 2015
DESCRIPTION:IEEE International Conference on Application-Specific Archite
 ctures\, Systems and Processors
URL:http://www.wikicfp.com/cfp/servlet/event.showcfp?eventid=42707&copyow
 nerid=36897
UID:cfp499767-E@wikicfp.com
END:VEVENT
BEGIN:VEVENT
DTSTAMP:20260424T164121Z
DTSTART;VALUE=DATE:20150227
SUMMARY:ASAP 2015 Abstract Due
DESCRIPTION:IEEE International Conference on Application-Specific Archite
 ctures\, Systems and Processors
URL:http://www.wikicfp.com/cfp/servlet/event.showcfp?eventid=42707&copyow
 nerid=36897
UID:cfp499767-A@wikicfp.com
END:VEVENT
BEGIN:VEVENT
DTSTAMP:20260424T164121Z
DTSTART;VALUE=DATE:20150303
SUMMARY:ASAP 2015 Deadline
DESCRIPTION:IEEE International Conference on Application-Specific Archite
 ctures\, Systems and Processors
URL:http://www.wikicfp.com/cfp/servlet/event.showcfp?eventid=42707&copyow
 nerid=36897
UID:cfp499767-D@wikicfp.com
END:VEVENT
BEGIN:VEVENT
DTSTAMP:20260424T164121Z
DTSTART;VALUE=DATE:20150515
SUMMARY:ASAP 2015 Notification Due
DESCRIPTION:IEEE International Conference on Application-Specific Archite
 ctures\, Systems and Processors
URL:http://www.wikicfp.com/cfp/servlet/event.showcfp?eventid=42707&copyow
 nerid=36897
UID:cfp499767-N@wikicfp.com
END:VEVENT
BEGIN:VEVENT
DTSTAMP:20260424T164121Z
DTSTART;VALUE=DATE:20150702
DTEND;VALUE=DATE:20150704
SUMMARY:HLPP 2015
DESCRIPTION:The 8th International Symposium on High-level Parallel Progra
 mming and Applications
URL:http://www.wikicfp.com/cfp/servlet/event.showcfp?eventid=43757&copyow
 nerid=36897
UID:cfp509708-E@wikicfp.com
END:VEVENT
BEGIN:VEVENT
DTSTAMP:20260424T164121Z
DTSTART;VALUE=DATE:20150412
SUMMARY:HLPP 2015 Deadline
DESCRIPTION:The 8th International Symposium on High-level Parallel Progra
 mming and Applications
URL:http://www.wikicfp.com/cfp/servlet/event.showcfp?eventid=43757&copyow
 nerid=36897
UID:cfp509708-D@wikicfp.com
END:VEVENT
BEGIN:VEVENT
DTSTAMP:20260424T164121Z
DTSTART;VALUE=DATE:20150515
SUMMARY:HLPP 2015 Notification Due
DESCRIPTION:The 8th International Symposium on High-level Parallel Progra
 mming and Applications
URL:http://www.wikicfp.com/cfp/servlet/event.showcfp?eventid=43757&copyow
 nerid=36897
UID:cfp509708-N@wikicfp.com
END:VEVENT
BEGIN:VEVENT
DTSTAMP:20260424T164121Z
DTSTART;VALUE=DATE:20150621
SUMMARY:HLPP 2015 Final Version Due
DESCRIPTION:The 8th International Symposium on High-level Parallel Progra
 mming and Applications
URL:http://www.wikicfp.com/cfp/servlet/event.showcfp?eventid=43757&copyow
 nerid=36897
UID:cfp509708-N@wikicfp.com
END:VEVENT
END:VCALENDAR
