BEGIN:VCALENDAR
PRODID:-//WikiCFP//charith 1.0//EN
VERSION:2.0
CALSCALE:GREGORIAN
BEGIN:VEVENT
DTSTAMP:20260421T165744Z
DTSTART;VALUE=DATE:20071210
DTEND;VALUE=DATE:20071213
SUMMARY:ISM 2007
DESCRIPTION:IEEE International Symposium on Multimedia
URL:http://www.wikicfp.com/cfp/servlet/event.showcfp?eventid=1364&copyown
 erid=368
UID:cfp3643-E@wikicfp.com
END:VEVENT
BEGIN:VEVENT
DTSTAMP:20260421T165744Z
DTSTART;VALUE=DATE:20070801
SUMMARY:ISM 2007 Abstract Due
DESCRIPTION:IEEE International Symposium on Multimedia
URL:http://www.wikicfp.com/cfp/servlet/event.showcfp?eventid=1364&copyown
 erid=368
UID:cfp3643-A@wikicfp.com
END:VEVENT
BEGIN:VEVENT
DTSTAMP:20260421T165744Z
DTSTART;VALUE=DATE:20070921
SUMMARY:ISM 2007 Deadline
DESCRIPTION:IEEE International Symposium on Multimedia
URL:http://www.wikicfp.com/cfp/servlet/event.showcfp?eventid=1364&copyown
 erid=368
UID:cfp3643-D@wikicfp.com
END:VEVENT
BEGIN:VEVENT
DTSTAMP:20260421T165744Z
DTSTART;VALUE=DATE:20080121
DTEND;VALUE=DATE:20080124
SUMMARY:e-Forensics 2008
DESCRIPTION:First International Conference on Forensic Applications and T
 echniques in Telecommunications\, Information and Multimedia
URL:http://www.wikicfp.com/cfp/servlet/event.showcfp?eventid=1348&copyown
 erid=368
UID:cfp3642-E@wikicfp.com
END:VEVENT
BEGIN:VEVENT
DTSTAMP:20260421T165744Z
DTSTART;VALUE=DATE:20070928
SUMMARY:e-Forensics 2008 Deadline
DESCRIPTION:First International Conference on Forensic Applications and T
 echniques in Telecommunications\, Information and Multimedia
URL:http://www.wikicfp.com/cfp/servlet/event.showcfp?eventid=1348&copyown
 erid=368
UID:cfp3642-D@wikicfp.com
END:VEVENT
BEGIN:VEVENT
DTSTAMP:20260421T165744Z
DTSTART;VALUE=DATE:20071212
DTEND;VALUE=DATE:20071213
SUMMARY:MUM 2007
DESCRIPTION:6th International Conference on Mobile and Ubiquitous Multime
 dia
URL:http://www.wikicfp.com/cfp/servlet/event.showcfp?eventid=1583&copyown
 erid=368
UID:cfp3645-E@wikicfp.com
END:VEVENT
BEGIN:VEVENT
DTSTAMP:20260421T165744Z
DTSTART;VALUE=DATE:20071008
SUMMARY:MUM 2007 Deadline
DESCRIPTION:6th International Conference on Mobile and Ubiquitous Multime
 dia
URL:http://www.wikicfp.com/cfp/servlet/event.showcfp?eventid=1583&copyown
 erid=368
UID:cfp3645-D@wikicfp.com
END:VEVENT
BEGIN:VEVENT
DTSTAMP:20260421T165744Z
DTSTART;VALUE=DATE:20071205
DTEND;VALUE=DATE:20071206
SUMMARY:KAMC 2007
DESCRIPTION:Knowledge Acquisition from Multimedia Content
URL:http://www.wikicfp.com/cfp/servlet/event.showcfp?eventid=1707&copyown
 erid=368
UID:cfp3646-E@wikicfp.com
END:VEVENT
BEGIN:VEVENT
DTSTAMP:20260421T165744Z
DTSTART;VALUE=DATE:20071014
SUMMARY:KAMC 2007 Deadline
DESCRIPTION:Knowledge Acquisition from Multimedia Content
URL:http://www.wikicfp.com/cfp/servlet/event.showcfp?eventid=1707&copyown
 erid=368
UID:cfp3646-D@wikicfp.com
END:VEVENT
BEGIN:VEVENT
DTSTAMP:20260421T165744Z
DTSTART;VALUE=DATE:20071205
DTEND;VALUE=DATE:20071208
SUMMARY:SAMT 2007
DESCRIPTION:Second International Conference on Semantics And digital Medi
 a Technology
URL:http://www.wikicfp.com/cfp/servlet/event.showcfp?eventid=1741&copyown
 erid=368
UID:cfp3649-E@wikicfp.com
END:VEVENT
BEGIN:VEVENT
DTSTAMP:20260421T165744Z
DTSTART;VALUE=DATE:20071015
SUMMARY:SAMT 2007 Deadline
DESCRIPTION:Second International Conference on Semantics And digital Medi
 a Technology
URL:http://www.wikicfp.com/cfp/servlet/event.showcfp?eventid=1741&copyown
 erid=368
UID:cfp3649-D@wikicfp.com
END:VEVENT
BEGIN:VEVENT
DTSTAMP:20260421T165744Z
DTSTART;VALUE=DATE:20080623
DTEND;VALUE=DATE:20080627
SUMMARY:ICME 2008
DESCRIPTION:IEEE International Conference on Multimedia & Expo
URL:http://www.wikicfp.com/cfp/servlet/event.showcfp?eventid=975&copyowne
 rid=368
UID:cfp3639-E@wikicfp.com
END:VEVENT
BEGIN:VEVENT
DTSTAMP:20260421T165744Z
DTSTART;VALUE=DATE:20071224
SUMMARY:ICME 2008 Deadline
DESCRIPTION:IEEE International Conference on Multimedia & Expo
URL:http://www.wikicfp.com/cfp/servlet/event.showcfp?eventid=975&copyowne
 rid=368
UID:cfp3639-D@wikicfp.com
END:VEVENT
BEGIN:VEVENT
DTSTAMP:20260421T165744Z
DTSTART;VALUE=DATE:20080229
SUMMARY:ICME 2008 Notification Due
DESCRIPTION:IEEE International Conference on Multimedia & Expo
URL:http://www.wikicfp.com/cfp/servlet/event.showcfp?eventid=975&copyowne
 rid=368
UID:cfp3639-N@wikicfp.com
END:VEVENT
BEGIN:VEVENT
DTSTAMP:20260421T165744Z
DTSTART;VALUE=DATE:20080701
DTEND;VALUE=DATE:20080704
SUMMARY:ICISP 2008
DESCRIPTION:International Conference on Image and Signal Processing
URL:http://www.wikicfp.com/cfp/servlet/event.showcfp?eventid=1087&copyown
 erid=368
UID:cfp3650-E@wikicfp.com
END:VEVENT
BEGIN:VEVENT
DTSTAMP:20260421T165744Z
DTSTART;VALUE=DATE:20080125
SUMMARY:ICISP 2008 Deadline
DESCRIPTION:International Conference on Image and Signal Processing
URL:http://www.wikicfp.com/cfp/servlet/event.showcfp?eventid=1087&copyown
 erid=368
UID:cfp3650-D@wikicfp.com
END:VEVENT
BEGIN:VEVENT
DTSTAMP:20260421T165744Z
DTSTART;VALUE=DATE:20080618
DTEND;VALUE=DATE:20080621
SUMMARY:CBMI 2008
DESCRIPTION:Sixth International Workshop on Context-based Multimedia Inde
 xing
URL:http://www.wikicfp.com/cfp/servlet/event.showcfp?eventid=1722&copyown
 erid=368
UID:cfp3647-E@wikicfp.com
END:VEVENT
BEGIN:VEVENT
DTSTAMP:20260421T165744Z
DTSTART;VALUE=DATE:20080205
SUMMARY:CBMI 2008 Deadline
DESCRIPTION:Sixth International Workshop on Context-based Multimedia Inde
 xing
URL:http://www.wikicfp.com/cfp/servlet/event.showcfp?eventid=1722&copyown
 erid=368
UID:cfp3647-D@wikicfp.com
END:VEVENT
BEGIN:VEVENT
DTSTAMP:20260421T165744Z
DTSTART;VALUE=DATE:20080729
DTEND;VALUE=DATE:20080802
SUMMARY:VIE 2008
DESCRIPTION:Fifth International Conference on Visual Information Engineer
 ing
URL:http://www.wikicfp.com/cfp/servlet/event.showcfp?eventid=1723&copyown
 erid=368
UID:cfp3648-E@wikicfp.com
END:VEVENT
BEGIN:VEVENT
DTSTAMP:20260421T165744Z
DTSTART;VALUE=DATE:20080317
SUMMARY:VIE 2008 Deadline
DESCRIPTION:Fifth International Conference on Visual Information Engineer
 ing
URL:http://www.wikicfp.com/cfp/servlet/event.showcfp?eventid=1723&copyown
 erid=368
UID:cfp3648-D@wikicfp.com
END:VEVENT
BEGIN:VEVENT
DTSTAMP:20260421T165744Z
DTSTART;VALUE=DATE:20080609
DTEND;VALUE=DATE:20080611
SUMMARY:CIP 2008
DESCRIPTION:IAPR Workshop On Cognitive Information Processing
URL:http://www.wikicfp.com/cfp/servlet/event.showcfp?eventid=1426&copyown
 erid=368
UID:cfp3651-E@wikicfp.com
END:VEVENT
BEGIN:VEVENT
DTSTAMP:20260421T165744Z
DTSTART;VALUE=DATE:20080105
SUMMARY:CIP 2008 Abstract Due
DESCRIPTION:IAPR Workshop On Cognitive Information Processing
URL:http://www.wikicfp.com/cfp/servlet/event.showcfp?eventid=1426&copyown
 erid=368
UID:cfp3651-A@wikicfp.com
END:VEVENT
BEGIN:VEVENT
DTSTAMP:20260421T165744Z
DTSTART;VALUE=DATE:20080331
SUMMARY:CIP 2008 Deadline
DESCRIPTION:IAPR Workshop On Cognitive Information Processing
URL:http://www.wikicfp.com/cfp/servlet/event.showcfp?eventid=1426&copyown
 erid=368
UID:cfp3651-D@wikicfp.com
END:VEVENT
BEGIN:VEVENT
DTSTAMP:20260421T165744Z
DTSTART;VALUE=DATE:20080726
DTEND;VALUE=DATE:20080730
SUMMARY:SIGMAP 2008
DESCRIPTION:International Conference on Signal Processing and Multimedia 
 Applications
URL:http://www.wikicfp.com/cfp/servlet/event.showcfp?eventid=977&copyowne
 rid=368
UID:cfp3640-E@wikicfp.com
END:VEVENT
BEGIN:VEVENT
DTSTAMP:20260421T165744Z
DTSTART;VALUE=DATE:20080415
SUMMARY:SIGMAP 2008 Deadline
DESCRIPTION:International Conference on Signal Processing and Multimedia 
 Applications
URL:http://www.wikicfp.com/cfp/servlet/event.showcfp?eventid=977&copyowne
 rid=368
UID:cfp3640-D@wikicfp.com
END:VEVENT
BEGIN:VEVENT
DTSTAMP:20260421T165744Z
DTSTART;VALUE=DATE:20080529
SUMMARY:SIGMAP 2008 Notification Due
DESCRIPTION:International Conference on Signal Processing and Multimedia 
 Applications
URL:http://www.wikicfp.com/cfp/servlet/event.showcfp?eventid=977&copyowne
 rid=368
UID:cfp3640-N@wikicfp.com
END:VEVENT
BEGIN:VEVENT
DTSTAMP:20260421T165744Z
DTSTART;VALUE=DATE:20081027
DTEND;VALUE=DATE:20081101
SUMMARY:MM 2008
DESCRIPTION:ACM Multimedia Conference 2008
URL:http://www.wikicfp.com/cfp/servlet/event.showcfp?eventid=1268&copyown
 erid=368
UID:cfp3641-E@wikicfp.com
END:VEVENT
BEGIN:VEVENT
DTSTAMP:20260421T165744Z
DTSTART;VALUE=DATE:20080411
SUMMARY:MM 2008 Abstract Due
DESCRIPTION:ACM Multimedia Conference 2008
URL:http://www.wikicfp.com/cfp/servlet/event.showcfp?eventid=1268&copyown
 erid=368
UID:cfp3641-A@wikicfp.com
END:VEVENT
BEGIN:VEVENT
DTSTAMP:20260421T165744Z
DTSTART;VALUE=DATE:20080418
SUMMARY:MM 2008 Deadline
DESCRIPTION:ACM Multimedia Conference 2008
URL:http://www.wikicfp.com/cfp/servlet/event.showcfp?eventid=1268&copyown
 erid=368
UID:cfp3641-D@wikicfp.com
END:VEVENT
BEGIN:VEVENT
DTSTAMP:20260421T165744Z
DTSTART;VALUE=DATE:20081008
DTEND;VALUE=DATE:20081011
SUMMARY:MMSP 2008
DESCRIPTION:IEEE 10th Workshop on Multimedia Signal Processing
URL:http://www.wikicfp.com/cfp/servlet/event.showcfp?eventid=1434&copyown
 erid=368
UID:cfp3644-E@wikicfp.com
END:VEVENT
BEGIN:VEVENT
DTSTAMP:20260421T165744Z
DTSTART;VALUE=DATE:20080418
SUMMARY:MMSP 2008 Abstract Due
DESCRIPTION:IEEE 10th Workshop on Multimedia Signal Processing
URL:http://www.wikicfp.com/cfp/servlet/event.showcfp?eventid=1434&copyown
 erid=368
UID:cfp3644-A@wikicfp.com
END:VEVENT
BEGIN:VEVENT
DTSTAMP:20260421T165744Z
DTSTART;VALUE=DATE:20080718
SUMMARY:MMSP 2008 Deadline
DESCRIPTION:IEEE 10th Workshop on Multimedia Signal Processing
URL:http://www.wikicfp.com/cfp/servlet/event.showcfp?eventid=1434&copyown
 erid=368
UID:cfp3644-D@wikicfp.com
END:VEVENT
END:VCALENDAR
