BEGIN:VCALENDAR
PRODID:-//WikiCFP//underfox 1.0//EN
VERSION:2.0
CALSCALE:GREGORIAN
BEGIN:VEVENT
DTSTAMP:20260424T024333Z
DTSTART;VALUE=DATE:20120817
SUMMARY:MLJ - CSSSC 2012 Deadline
DESCRIPTION:Machine Learning Journal Special Issue on Computational Socia
 l Science and Social Computing
URL:http://www.wikicfp.com/cfp/servlet/event.showcfp?eventid=22958&copyow
 nerid=36791
UID:cfp280040-D@wikicfp.com
END:VEVENT
BEGIN:VEVENT
DTSTAMP:20260424T024333Z
DTSTART;VALUE=DATE:20120831
SUMMARY:MDPI AG - Algorithms 2012 Deadline
DESCRIPTION:Special Issue: Machine Learning for Medical Imaging 2012 - Al
 gorithms (ISSN 1999-4893)
URL:http://www.wikicfp.com/cfp/servlet/event.showcfp?eventid=22524&copyow
 nerid=36791
UID:cfp282888-D@wikicfp.com
END:VEVENT
BEGIN:VEVENT
DTSTAMP:20260424T024333Z
DTSTART;VALUE=DATE:20120901
SUMMARY:Prediction & Simulation in Software Eng. 2012 Deadline
DESCRIPTION:Special Issue on Prediction and Simulation in Software Engine
 ering (e-Informatica Software Engineering Journal)
URL:http://www.wikicfp.com/cfp/servlet/event.showcfp?eventid=23904&copyow
 nerid=36791
UID:cfp282887-D@wikicfp.com
END:VEVENT
BEGIN:VEVENT
DTSTAMP:20260424T024333Z
DTSTART;VALUE=DATE:20140311
SUMMARY:IJAIA 2014 Deadline
DESCRIPTION:International Journal of Artificial Intelligence & Applicatio
 ns
URL:http://www.wikicfp.com/cfp/servlet/event.showcfp?eventid=24653&copyow
 nerid=36791
UID:cfp288512-D@wikicfp.com
END:VEVENT
BEGIN:VEVENT
DTSTAMP:20260424T024333Z
DTSTART;VALUE=DATE:20140411
SUMMARY:IJAIA 2014 Notification Due
DESCRIPTION:International Journal of Artificial Intelligence & Applicatio
 ns
URL:http://www.wikicfp.com/cfp/servlet/event.showcfp?eventid=24653&copyow
 nerid=36791
UID:cfp288512-N@wikicfp.com
END:VEVENT
BEGIN:VEVENT
DTSTAMP:20260424T024333Z
DTSTART;VALUE=DATE:20140418
SUMMARY:IJAIA 2014 Final Version Due
DESCRIPTION:International Journal of Artificial Intelligence & Applicatio
 ns
URL:http://www.wikicfp.com/cfp/servlet/event.showcfp?eventid=24653&copyow
 nerid=36791
UID:cfp288512-N@wikicfp.com
END:VEVENT
END:VCALENDAR
