BEGIN:VCALENDAR
PRODID:-//WikiCFP//reza_ahmadzadeh 1.0//EN
VERSION:2.0
CALSCALE:GREGORIAN
BEGIN:VEVENT
DTSTAMP:20260422T024637Z
DTSTART;VALUE=DATE:20181212
DTEND;VALUE=DATE:20181216
SUMMARY:ROBIO 2018
DESCRIPTION:IEEE International Conference on Robotics and Biomimetics
URL:http://www.wikicfp.com/cfp/servlet/event.showcfp?eventid=77719&copyow
 nerid=36456
UID:cfp753771-E@wikicfp.com
END:VEVENT
BEGIN:VEVENT
DTSTAMP:20260422T024637Z
DTSTART;VALUE=DATE:20180715
SUMMARY:ROBIO 2018 Deadline
DESCRIPTION:IEEE International Conference on Robotics and Biomimetics
URL:http://www.wikicfp.com/cfp/servlet/event.showcfp?eventid=77719&copyow
 nerid=36456
UID:cfp753771-D@wikicfp.com
END:VEVENT
BEGIN:VEVENT
DTSTAMP:20260422T024637Z
DTSTART;VALUE=DATE:20181015
SUMMARY:ROBIO 2018 Notification Due
DESCRIPTION:IEEE International Conference on Robotics and Biomimetics
URL:http://www.wikicfp.com/cfp/servlet/event.showcfp?eventid=77719&copyow
 nerid=36456
UID:cfp753771-N@wikicfp.com
END:VEVENT
BEGIN:VEVENT
DTSTAMP:20260422T024637Z
DTSTART;VALUE=DATE:20181101
SUMMARY:ROBIO 2018 Final Version Due
DESCRIPTION:IEEE International Conference on Robotics and Biomimetics
URL:http://www.wikicfp.com/cfp/servlet/event.showcfp?eventid=77719&copyow
 nerid=36456
UID:cfp753771-N@wikicfp.com
END:VEVENT
BEGIN:VEVENT
DTSTAMP:20260422T024637Z
DTSTART;VALUE=DATE:20190520
DTEND;VALUE=DATE:20190525
SUMMARY:ICRA 2019
DESCRIPTION:IEEE International Conference on Robotics and Automation
URL:http://www.wikicfp.com/cfp/servlet/event.showcfp?eventid=77586&copyow
 nerid=36456
UID:cfp753770-E@wikicfp.com
END:VEVENT
BEGIN:VEVENT
DTSTAMP:20260422T024637Z
DTSTART;VALUE=DATE:20180915
SUMMARY:ICRA 2019 Deadline
DESCRIPTION:IEEE International Conference on Robotics and Automation
URL:http://www.wikicfp.com/cfp/servlet/event.showcfp?eventid=77586&copyow
 nerid=36456
UID:cfp753770-D@wikicfp.com
END:VEVENT
BEGIN:VEVENT
DTSTAMP:20260422T024637Z
DTSTART;VALUE=DATE:20190225
DTEND;VALUE=DATE:20190228
SUMMARY:IEEE IRC 2019
DESCRIPTION:Third IEEE International Conference on Robotic Computing
URL:http://www.wikicfp.com/cfp/servlet/event.showcfp?eventid=77145&copyow
 nerid=36456
UID:cfp753769-E@wikicfp.com
END:VEVENT
BEGIN:VEVENT
DTSTAMP:20260422T024637Z
DTSTART;VALUE=DATE:20181005
SUMMARY:IEEE IRC 2019 Abstract Due
DESCRIPTION:Third IEEE International Conference on Robotic Computing
URL:http://www.wikicfp.com/cfp/servlet/event.showcfp?eventid=77145&copyow
 nerid=36456
UID:cfp753769-A@wikicfp.com
END:VEVENT
BEGIN:VEVENT
DTSTAMP:20260422T024637Z
DTSTART;VALUE=DATE:20181012
SUMMARY:IEEE IRC 2019 Deadline
DESCRIPTION:Third IEEE International Conference on Robotic Computing
URL:http://www.wikicfp.com/cfp/servlet/event.showcfp?eventid=77145&copyow
 nerid=36456
UID:cfp753769-D@wikicfp.com
END:VEVENT
BEGIN:VEVENT
DTSTAMP:20260422T024637Z
DTSTART;VALUE=DATE:20181214
SUMMARY:IEEE IRC 2019 Notification Due
DESCRIPTION:Third IEEE International Conference on Robotic Computing
URL:http://www.wikicfp.com/cfp/servlet/event.showcfp?eventid=77145&copyow
 nerid=36456
UID:cfp753769-N@wikicfp.com
END:VEVENT
BEGIN:VEVENT
DTSTAMP:20260422T024637Z
DTSTART;VALUE=DATE:20190114
SUMMARY:IEEE IRC 2019 Final Version Due
DESCRIPTION:Third IEEE International Conference on Robotic Computing
URL:http://www.wikicfp.com/cfp/servlet/event.showcfp?eventid=77145&copyow
 nerid=36456
UID:cfp753769-N@wikicfp.com
END:VEVENT
BEGIN:VEVENT
DTSTAMP:20260422T024637Z
DTSTART;VALUE=DATE:20190905
DTEND;VALUE=DATE:20190907
SUMMARY:IntelliSys 2019
DESCRIPTION:Intelligent Systems Conference (IntelliSys) 2019
URL:http://www.wikicfp.com/cfp/servlet/event.showcfp?eventid=81949&copyow
 nerid=36456
UID:cfp753765-E@wikicfp.com
END:VEVENT
BEGIN:VEVENT
DTSTAMP:20260422T024637Z
DTSTART;VALUE=DATE:20181115
SUMMARY:IntelliSys 2019 Deadline
DESCRIPTION:Intelligent Systems Conference (IntelliSys) 2019
URL:http://www.wikicfp.com/cfp/servlet/event.showcfp?eventid=81949&copyow
 nerid=36456
UID:cfp753765-D@wikicfp.com
END:VEVENT
BEGIN:VEVENT
DTSTAMP:20260422T024637Z
DTSTART;VALUE=DATE:20181215
SUMMARY:IntelliSys 2019 Notification Due
DESCRIPTION:Intelligent Systems Conference (IntelliSys) 2019
URL:http://www.wikicfp.com/cfp/servlet/event.showcfp?eventid=81949&copyow
 nerid=36456
UID:cfp753765-N@wikicfp.com
END:VEVENT
BEGIN:VEVENT
DTSTAMP:20260422T024637Z
DTSTART;VALUE=DATE:20190201
SUMMARY:IntelliSys 2019 Final Version Due
DESCRIPTION:Intelligent Systems Conference (IntelliSys) 2019
URL:http://www.wikicfp.com/cfp/servlet/event.showcfp?eventid=81949&copyow
 nerid=36456
UID:cfp753765-N@wikicfp.com
END:VEVENT
BEGIN:VEVENT
DTSTAMP:20260422T024637Z
DTSTART;VALUE=DATE:20190729
DTEND;VALUE=DATE:20190801
SUMMARY:ICINCO 2019
DESCRIPTION:16th International Conference on Informatics in Control\, Aut
 omation and Robotics
URL:http://www.wikicfp.com/cfp/servlet/event.showcfp?eventid=82202&copyow
 nerid=36456
UID:cfp753768-E@wikicfp.com
END:VEVENT
BEGIN:VEVENT
DTSTAMP:20260422T024637Z
DTSTART;VALUE=DATE:20190228
SUMMARY:ICINCO 2019 Deadline
DESCRIPTION:16th International Conference on Informatics in Control\, Aut
 omation and Robotics
URL:http://www.wikicfp.com/cfp/servlet/event.showcfp?eventid=82202&copyow
 nerid=36456
UID:cfp753768-D@wikicfp.com
END:VEVENT
BEGIN:VEVENT
DTSTAMP:20260422T024637Z
DTSTART;VALUE=DATE:20190502
SUMMARY:ICINCO 2019 Notification Due
DESCRIPTION:16th International Conference on Informatics in Control\, Aut
 omation and Robotics
URL:http://www.wikicfp.com/cfp/servlet/event.showcfp?eventid=82202&copyow
 nerid=36456
UID:cfp753768-N@wikicfp.com
END:VEVENT
BEGIN:VEVENT
DTSTAMP:20260422T024637Z
DTSTART;VALUE=DATE:20190516
SUMMARY:ICINCO 2019 Final Version Due
DESCRIPTION:16th International Conference on Informatics in Control\, Aut
 omation and Robotics
URL:http://www.wikicfp.com/cfp/servlet/event.showcfp?eventid=82202&copyow
 nerid=36456
UID:cfp753768-N@wikicfp.com
END:VEVENT
BEGIN:VEVENT
DTSTAMP:20260422T024637Z
DTSTART;VALUE=DATE:20191103
DTEND;VALUE=DATE:20191109
SUMMARY:IROS 2019
DESCRIPTION:Intelligent RObots and Systems
URL:http://www.wikicfp.com/cfp/servlet/event.showcfp?eventid=79304&copyow
 nerid=36456
UID:cfp753766-E@wikicfp.com
END:VEVENT
BEGIN:VEVENT
DTSTAMP:20260422T024637Z
DTSTART;VALUE=DATE:20190301
SUMMARY:IROS 2019 Deadline
DESCRIPTION:Intelligent RObots and Systems
URL:http://www.wikicfp.com/cfp/servlet/event.showcfp?eventid=79304&copyow
 nerid=36456
UID:cfp753766-D@wikicfp.com
END:VEVENT
BEGIN:VEVENT
DTSTAMP:20260422T024637Z
DTSTART;VALUE=DATE:20190630
SUMMARY:IROS 2019 Notification Due
DESCRIPTION:Intelligent RObots and Systems
URL:http://www.wikicfp.com/cfp/servlet/event.showcfp?eventid=79304&copyow
 nerid=36456
UID:cfp753766-N@wikicfp.com
END:VEVENT
BEGIN:VEVENT
DTSTAMP:20260422T024637Z
DTSTART;VALUE=DATE:20190731
SUMMARY:IROS 2019 Final Version Due
DESCRIPTION:Intelligent RObots and Systems
URL:http://www.wikicfp.com/cfp/servlet/event.showcfp?eventid=79304&copyow
 nerid=36456
UID:cfp753766-N@wikicfp.com
END:VEVENT
BEGIN:VEVENT
DTSTAMP:20260422T024637Z
DTSTART;VALUE=DATE:20191211
DTEND;VALUE=DATE:20191214
SUMMARY:CDC 2019
DESCRIPTION:58th Conference on Decision and Control
URL:http://www.wikicfp.com/cfp/servlet/event.showcfp?eventid=80286&copyow
 nerid=36456
UID:cfp753767-E@wikicfp.com
END:VEVENT
BEGIN:VEVENT
DTSTAMP:20260422T024637Z
DTSTART;VALUE=DATE:20190315
SUMMARY:CDC 2019 Deadline
DESCRIPTION:58th Conference on Decision and Control
URL:http://www.wikicfp.com/cfp/servlet/event.showcfp?eventid=80286&copyow
 nerid=36456
UID:cfp753767-D@wikicfp.com
END:VEVENT
BEGIN:VEVENT
DTSTAMP:20260422T024637Z
DTSTART;VALUE=DATE:20190715
SUMMARY:CDC 2019 Notification Due
DESCRIPTION:58th Conference on Decision and Control
URL:http://www.wikicfp.com/cfp/servlet/event.showcfp?eventid=80286&copyow
 nerid=36456
UID:cfp753767-N@wikicfp.com
END:VEVENT
BEGIN:VEVENT
DTSTAMP:20260422T024637Z
DTSTART;VALUE=DATE:20190910
SUMMARY:CDC 2019 Final Version Due
DESCRIPTION:58th Conference on Decision and Control
URL:http://www.wikicfp.com/cfp/servlet/event.showcfp?eventid=80286&copyow
 nerid=36456
UID:cfp753767-N@wikicfp.com
END:VEVENT
END:VCALENDAR
