BEGIN:VCALENDAR
PRODID:-//WikiCFP//clytemene 1.0//EN
VERSION:2.0
CALSCALE:GREGORIAN
BEGIN:VEVENT
DTSTAMP:20260424T054234Z
DTSTART;VALUE=DATE:20121213
DTEND;VALUE=DATE:20121215
SUMMARY: British Novelists Conference 2012
DESCRIPTION:The 20th METU British Novelists Conference: Salman Rushdie an
 d His Work  13-14 December 2012 Ankara\, Turkey  Website: http://www.bri
 tishnovelists.metu.: Salman Rushdie and His Work
URL:http://www.wikicfp.com/cfp/servlet/event.showcfp?eventid=22174&copyow
 nerid=36209
UID:cfp253784-E@wikicfp.com
END:VEVENT
BEGIN:VEVENT
DTSTAMP:20260424T054234Z
DTSTART;VALUE=DATE:20120913
SUMMARY: British Novelists Conference 2012 Deadline
DESCRIPTION:The 20th METU British Novelists Conference: Salman Rushdie an
 d His Work  13-14 December 2012 Ankara\, Turkey  Website: http://www.bri
 tishnovelists.metu.: Salman Rushdie and His Work
URL:http://www.wikicfp.com/cfp/servlet/event.showcfp?eventid=22174&copyow
 nerid=36209
UID:cfp253784-D@wikicfp.com
END:VEVENT
END:VCALENDAR
