BEGIN:VCALENDAR
PRODID:-//WikiCFP//hubin 1.0//EN
VERSION:2.0
CALSCALE:GREGORIAN
BEGIN:VEVENT
DTSTAMP:20260423T201326Z
DTSTART;VALUE=DATE:20140824
DTEND;VALUE=DATE:20140829
SUMMARY:ICPR 2014
DESCRIPTION:International Conference on Pattern Recognition
URL:http://www.wikicfp.com/cfp/servlet/event.showcfp?eventid=24167&copyow
 nerid=3607
UID:cfp318043-E@wikicfp.com
END:VEVENT
BEGIN:VEVENT
DTSTAMP:20260423T201326Z
DTSTART;VALUE=DATE:20131220
SUMMARY:ICPR 2014 Deadline
DESCRIPTION:International Conference on Pattern Recognition
URL:http://www.wikicfp.com/cfp/servlet/event.showcfp?eventid=24167&copyow
 nerid=3607
UID:cfp318043-D@wikicfp.com
END:VEVENT
BEGIN:VEVENT
DTSTAMP:20260423T201326Z
DTSTART;VALUE=DATE:20140324
SUMMARY:ICPR 2014 Notification Due
DESCRIPTION:International Conference on Pattern Recognition
URL:http://www.wikicfp.com/cfp/servlet/event.showcfp?eventid=24167&copyow
 nerid=3607
UID:cfp318043-N@wikicfp.com
END:VEVENT
BEGIN:VEVENT
DTSTAMP:20260423T201326Z
DTSTART;VALUE=DATE:20140524
SUMMARY:ICPR 2014 Final Version Due
DESCRIPTION:International Conference on Pattern Recognition
URL:http://www.wikicfp.com/cfp/servlet/event.showcfp?eventid=24167&copyow
 nerid=3607
UID:cfp318043-N@wikicfp.com
END:VEVENT
BEGIN:VEVENT
DTSTAMP:20260423T201326Z
DTSTART;VALUE=DATE:20170529
DTEND;VALUE=DATE:20170604
SUMMARY:ICRA 2017
DESCRIPTION:International Conference on Robotics and Automation
URL:http://www.wikicfp.com/cfp/servlet/event.showcfp?eventid=52343&copyow
 nerid=3607
UID:cfp635881-E@wikicfp.com
END:VEVENT
BEGIN:VEVENT
DTSTAMP:20260423T201326Z
DTSTART;VALUE=DATE:20160910
SUMMARY:ICRA 2017 Deadline
DESCRIPTION:International Conference on Robotics and Automation
URL:http://www.wikicfp.com/cfp/servlet/event.showcfp?eventid=52343&copyow
 nerid=3607
UID:cfp635881-D@wikicfp.com
END:VEVENT
BEGIN:VEVENT
DTSTAMP:20260423T201326Z
DTSTART;VALUE=DATE:20170115
SUMMARY:ICRA 2017 Notification Due
DESCRIPTION:International Conference on Robotics and Automation
URL:http://www.wikicfp.com/cfp/servlet/event.showcfp?eventid=52343&copyow
 nerid=3607
UID:cfp635881-N@wikicfp.com
END:VEVENT
BEGIN:VEVENT
DTSTAMP:20260423T201326Z
DTSTART;VALUE=DATE:20170225
SUMMARY:ICRA 2017 Final Version Due
DESCRIPTION:International Conference on Robotics and Automation
URL:http://www.wikicfp.com/cfp/servlet/event.showcfp?eventid=52343&copyow
 nerid=3607
UID:cfp635881-N@wikicfp.com
END:VEVENT
BEGIN:VEVENT
DTSTAMP:20260423T201326Z
DTSTART;VALUE=DATE:20170204
DTEND;VALUE=DATE:20170210
SUMMARY:AAAI 2017
DESCRIPTION:The Thirty-First AAAI Conference on Artificial Intelligence (
 AAAI-17)
URL:http://www.wikicfp.com/cfp/servlet/event.showcfp?eventid=54779&copyow
 nerid=3607
UID:cfp635887-E@wikicfp.com
END:VEVENT
BEGIN:VEVENT
DTSTAMP:20260423T201326Z
DTSTART;VALUE=DATE:20160909
SUMMARY:AAAI 2017 Abstract Due
DESCRIPTION:The Thirty-First AAAI Conference on Artificial Intelligence (
 AAAI-17)
URL:http://www.wikicfp.com/cfp/servlet/event.showcfp?eventid=54779&copyow
 nerid=3607
UID:cfp635887-A@wikicfp.com
END:VEVENT
BEGIN:VEVENT
DTSTAMP:20260423T201326Z
DTSTART;VALUE=DATE:20160914
SUMMARY:AAAI 2017 Deadline
DESCRIPTION:The Thirty-First AAAI Conference on Artificial Intelligence (
 AAAI-17)
URL:http://www.wikicfp.com/cfp/servlet/event.showcfp?eventid=54779&copyow
 nerid=3607
UID:cfp635887-D@wikicfp.com
END:VEVENT
BEGIN:VEVENT
DTSTAMP:20260423T201326Z
DTSTART;VALUE=DATE:20161111
SUMMARY:AAAI 2017 Notification Due
DESCRIPTION:The Thirty-First AAAI Conference on Artificial Intelligence (
 AAAI-17)
URL:http://www.wikicfp.com/cfp/servlet/event.showcfp?eventid=54779&copyow
 nerid=3607
UID:cfp635887-N@wikicfp.com
END:VEVENT
BEGIN:VEVENT
DTSTAMP:20260423T201326Z
DTSTART;VALUE=DATE:20161128
SUMMARY:AAAI 2017 Final Version Due
DESCRIPTION:The Thirty-First AAAI Conference on Artificial Intelligence (
 AAAI-17)
URL:http://www.wikicfp.com/cfp/servlet/event.showcfp?eventid=54779&copyow
 nerid=3607
UID:cfp635887-N@wikicfp.com
END:VEVENT
BEGIN:VEVENT
DTSTAMP:20260423T201326Z
DTSTART;VALUE=DATE:20170624
DTEND;VALUE=DATE:20170701
SUMMARY:CVPR 2017
DESCRIPTION:Computer Vision and Pattern Recognition
URL:http://www.wikicfp.com/cfp/servlet/event.showcfp?eventid=55850&copyow
 nerid=3607
UID:cfp635879-E@wikicfp.com
END:VEVENT
BEGIN:VEVENT
DTSTAMP:20260423T201326Z
DTSTART;VALUE=DATE:20161111
SUMMARY:CVPR 2017 Deadline
DESCRIPTION:Computer Vision and Pattern Recognition
URL:http://www.wikicfp.com/cfp/servlet/event.showcfp?eventid=55850&copyow
 nerid=3607
UID:cfp635879-D@wikicfp.com
END:VEVENT
BEGIN:VEVENT
DTSTAMP:20260423T201326Z
DTSTART;VALUE=DATE:20170303
SUMMARY:CVPR 2017 Notification Due
DESCRIPTION:Computer Vision and Pattern Recognition
URL:http://www.wikicfp.com/cfp/servlet/event.showcfp?eventid=55850&copyow
 nerid=3607
UID:cfp635879-N@wikicfp.com
END:VEVENT
BEGIN:VEVENT
DTSTAMP:20260423T201326Z
DTSTART;VALUE=DATE:20170410
SUMMARY:CVPR 2017 Final Version Due
DESCRIPTION:Computer Vision and Pattern Recognition
URL:http://www.wikicfp.com/cfp/servlet/event.showcfp?eventid=55850&copyow
 nerid=3607
UID:cfp635879-N@wikicfp.com
END:VEVENT
BEGIN:VEVENT
DTSTAMP:20260423T201326Z
DTSTART;VALUE=DATE:20170819
DTEND;VALUE=DATE:20170826
SUMMARY:IJCAI 2017
DESCRIPTION:International Joint Conference on Artificial Intelligence
URL:http://www.wikicfp.com/cfp/servlet/event.showcfp?eventid=56550&copyow
 nerid=3607
UID:cfp635885-E@wikicfp.com
END:VEVENT
BEGIN:VEVENT
DTSTAMP:20260423T201326Z
DTSTART;VALUE=DATE:20170219
SUMMARY:IJCAI 2017 Deadline
DESCRIPTION:International Joint Conference on Artificial Intelligence
URL:http://www.wikicfp.com/cfp/servlet/event.showcfp?eventid=56550&copyow
 nerid=3607
UID:cfp635885-D@wikicfp.com
END:VEVENT
BEGIN:VEVENT
DTSTAMP:20260423T201326Z
DTSTART;VALUE=DATE:20170403
SUMMARY:IJCAI 2017 Notification Due
DESCRIPTION:International Joint Conference on Artificial Intelligence
URL:http://www.wikicfp.com/cfp/servlet/event.showcfp?eventid=56550&copyow
 nerid=3607
UID:cfp635885-N@wikicfp.com
END:VEVENT
BEGIN:VEVENT
DTSTAMP:20260423T201326Z
DTSTART;VALUE=DATE:20170924
DTEND;VALUE=DATE:20170929
SUMMARY:IROS 2017
DESCRIPTION:IEEE/RSJ International Conference on Intelligent Robots and S
 ystems
URL:http://www.wikicfp.com/cfp/servlet/event.showcfp?eventid=51323&copyow
 nerid=3607
UID:cfp635880-E@wikicfp.com
END:VEVENT
BEGIN:VEVENT
DTSTAMP:20260423T201326Z
DTSTART;VALUE=DATE:20170301
SUMMARY:IROS 2017 Deadline
DESCRIPTION:IEEE/RSJ International Conference on Intelligent Robots and S
 ystems
URL:http://www.wikicfp.com/cfp/servlet/event.showcfp?eventid=51323&copyow
 nerid=3607
UID:cfp635880-D@wikicfp.com
END:VEVENT
BEGIN:VEVENT
DTSTAMP:20260423T201326Z
DTSTART;VALUE=DATE:20170615
SUMMARY:IROS 2017 Notification Due
DESCRIPTION:IEEE/RSJ International Conference on Intelligent Robots and S
 ystems
URL:http://www.wikicfp.com/cfp/servlet/event.showcfp?eventid=51323&copyow
 nerid=3607
UID:cfp635880-N@wikicfp.com
END:VEVENT
BEGIN:VEVENT
DTSTAMP:20260423T201326Z
DTSTART;VALUE=DATE:20170715
SUMMARY:IROS 2017 Final Version Due
DESCRIPTION:IEEE/RSJ International Conference on Intelligent Robots and S
 ystems
URL:http://www.wikicfp.com/cfp/servlet/event.showcfp?eventid=51323&copyow
 nerid=3607
UID:cfp635880-N@wikicfp.com
END:VEVENT
BEGIN:VEVENT
DTSTAMP:20260423T201326Z
DTSTART;VALUE=DATE:20171016
DTEND;VALUE=DATE:20171021
SUMMARY:ITSC 2017
DESCRIPTION:IEEE International Conference on Intelligent Transportation S
 ystems
URL:http://www.wikicfp.com/cfp/servlet/event.showcfp?eventid=58399&copyow
 nerid=3607
UID:cfp635883-E@wikicfp.com
END:VEVENT
BEGIN:VEVENT
DTSTAMP:20260423T201326Z
DTSTART;VALUE=DATE:20170315
SUMMARY:ITSC 2017 Deadline
DESCRIPTION:IEEE International Conference on Intelligent Transportation S
 ystems
URL:http://www.wikicfp.com/cfp/servlet/event.showcfp?eventid=58399&copyow
 nerid=3607
UID:cfp635883-D@wikicfp.com
END:VEVENT
BEGIN:VEVENT
DTSTAMP:20260423T201326Z
DTSTART;VALUE=DATE:20170601
SUMMARY:ITSC 2017 Notification Due
DESCRIPTION:IEEE International Conference on Intelligent Transportation S
 ystems
URL:http://www.wikicfp.com/cfp/servlet/event.showcfp?eventid=58399&copyow
 nerid=3607
UID:cfp635883-N@wikicfp.com
END:VEVENT
BEGIN:VEVENT
DTSTAMP:20260423T201326Z
DTSTART;VALUE=DATE:20170701
SUMMARY:ITSC 2017 Final Version Due
DESCRIPTION:IEEE International Conference on Intelligent Transportation S
 ystems
URL:http://www.wikicfp.com/cfp/servlet/event.showcfp?eventid=58399&copyow
 nerid=3607
UID:cfp635883-N@wikicfp.com
END:VEVENT
BEGIN:VEVENT
DTSTAMP:20260423T201326Z
DTSTART;VALUE=DATE:20171022
DTEND;VALUE=DATE:20171030
SUMMARY:ICCV 2017
DESCRIPTION:International Conference on Computer Vision
URL:http://www.wikicfp.com/cfp/servlet/event.showcfp?eventid=57716&copyow
 nerid=3607
UID:cfp635882-E@wikicfp.com
END:VEVENT
BEGIN:VEVENT
DTSTAMP:20260423T201326Z
DTSTART;VALUE=DATE:20170317
SUMMARY:ICCV 2017 Deadline
DESCRIPTION:International Conference on Computer Vision
URL:http://www.wikicfp.com/cfp/servlet/event.showcfp?eventid=57716&copyow
 nerid=3607
UID:cfp635882-D@wikicfp.com
END:VEVENT
BEGIN:VEVENT
DTSTAMP:20260423T201326Z
DTSTART;VALUE=DATE:20170717
SUMMARY:ICCV 2017 Notification Due
DESCRIPTION:International Conference on Computer Vision
URL:http://www.wikicfp.com/cfp/servlet/event.showcfp?eventid=57716&copyow
 nerid=3607
UID:cfp635882-N@wikicfp.com
END:VEVENT
BEGIN:VEVENT
DTSTAMP:20260423T201326Z
DTSTART;VALUE=DATE:20170731
SUMMARY:ICCV 2017 Final Version Due
DESCRIPTION:International Conference on Computer Vision
URL:http://www.wikicfp.com/cfp/servlet/event.showcfp?eventid=57716&copyow
 nerid=3607
UID:cfp635882-N@wikicfp.com
END:VEVENT
BEGIN:VEVENT
DTSTAMP:20260423T201326Z
DTSTART;VALUE=DATE:20170829
DTEND;VALUE=DATE:20170902
SUMMARY:AVSS 2017
DESCRIPTION:14-th IEEE International Conference on Advanced Video and Sig
 nal-Based Surveillance
URL:http://www.wikicfp.com/cfp/servlet/event.showcfp?eventid=58382&copyow
 nerid=3607
UID:cfp635884-E@wikicfp.com
END:VEVENT
BEGIN:VEVENT
DTSTAMP:20260423T201326Z
DTSTART;VALUE=DATE:20170405
SUMMARY:AVSS 2017 Deadline
DESCRIPTION:14-th IEEE International Conference on Advanced Video and Sig
 nal-Based Surveillance
URL:http://www.wikicfp.com/cfp/servlet/event.showcfp?eventid=58382&copyow
 nerid=3607
UID:cfp635884-D@wikicfp.com
END:VEVENT
BEGIN:VEVENT
DTSTAMP:20260423T201326Z
DTSTART;VALUE=DATE:20170515
SUMMARY:AVSS 2017 Notification Due
DESCRIPTION:14-th IEEE International Conference on Advanced Video and Sig
 nal-Based Surveillance
URL:http://www.wikicfp.com/cfp/servlet/event.showcfp?eventid=58382&copyow
 nerid=3607
UID:cfp635884-N@wikicfp.com
END:VEVENT
BEGIN:VEVENT
DTSTAMP:20260423T201326Z
DTSTART;VALUE=DATE:20170612
SUMMARY:AVSS 2017 Final Version Due
DESCRIPTION:14-th IEEE International Conference on Advanced Video and Sig
 nal-Based Surveillance
URL:http://www.wikicfp.com/cfp/servlet/event.showcfp?eventid=58382&copyow
 nerid=3607
UID:cfp635884-N@wikicfp.com
END:VEVENT
END:VCALENDAR
