BEGIN:VCALENDAR
PRODID:-//WikiCFP//donphigasplc 1.0//EN
VERSION:2.0
CALSCALE:GREGORIAN
BEGIN:VEVENT
DTSTAMP:20260419T154626Z
DTSTART;VALUE=DATE:20120725
DTEND;VALUE=DATE:20120728
SUMMARY:DATA 2012
DESCRIPTION:International Conference on Data Technologies and Application
 s
URL:http://www.wikicfp.com/cfp/servlet/event.showcfp?eventid=21988&copyow
 nerid=35964
UID:cfp251806-E@wikicfp.com
END:VEVENT
BEGIN:VEVENT
DTSTAMP:20260419T154626Z
DTSTART;VALUE=DATE:20120313
SUMMARY:DATA 2012 Deadline
DESCRIPTION:International Conference on Data Technologies and Application
 s
URL:http://www.wikicfp.com/cfp/servlet/event.showcfp?eventid=21988&copyow
 nerid=35964
UID:cfp251806-D@wikicfp.com
END:VEVENT
BEGIN:VEVENT
DTSTAMP:20260419T154626Z
DTSTART;VALUE=DATE:20120416
SUMMARY:DATA 2012 Notification Due
DESCRIPTION:International Conference on Data Technologies and Application
 s
URL:http://www.wikicfp.com/cfp/servlet/event.showcfp?eventid=21988&copyow
 nerid=35964
UID:cfp251806-N@wikicfp.com
END:VEVENT
BEGIN:VEVENT
DTSTAMP:20260419T154626Z
DTSTART;VALUE=DATE:20120427
SUMMARY:DATA 2012 Final Version Due
DESCRIPTION:International Conference on Data Technologies and Application
 s
URL:http://www.wikicfp.com/cfp/servlet/event.showcfp?eventid=21988&copyow
 nerid=35964
UID:cfp251806-N@wikicfp.com
END:VEVENT
BEGIN:VEVENT
DTSTAMP:20260419T154626Z
DTSTART;VALUE=DATE:20120626
DTEND;VALUE=DATE:20120628
SUMMARY:AITAmI 2012
DESCRIPTION:7th Workshop on Artificial Intelligence Techniques for Ambien
 t Intelligence
URL:http://www.wikicfp.com/cfp/servlet/event.showcfp?eventid=21967&copyow
 nerid=35964
UID:cfp251803-E@wikicfp.com
END:VEVENT
BEGIN:VEVENT
DTSTAMP:20260419T154626Z
DTSTART;VALUE=DATE:20120315
SUMMARY:AITAmI 2012 Deadline
DESCRIPTION:7th Workshop on Artificial Intelligence Techniques for Ambien
 t Intelligence
URL:http://www.wikicfp.com/cfp/servlet/event.showcfp?eventid=21967&copyow
 nerid=35964
UID:cfp251803-D@wikicfp.com
END:VEVENT
BEGIN:VEVENT
DTSTAMP:20260419T154626Z
DTSTART;VALUE=DATE:20120416
SUMMARY:AITAmI 2012 Notification Due
DESCRIPTION:7th Workshop on Artificial Intelligence Techniques for Ambien
 t Intelligence
URL:http://www.wikicfp.com/cfp/servlet/event.showcfp?eventid=21967&copyow
 nerid=35964
UID:cfp251803-N@wikicfp.com
END:VEVENT
BEGIN:VEVENT
DTSTAMP:20260419T154626Z
DTSTART;VALUE=DATE:20120430
SUMMARY:AITAmI 2012 Final Version Due
DESCRIPTION:7th Workshop on Artificial Intelligence Techniques for Ambien
 t Intelligence
URL:http://www.wikicfp.com/cfp/servlet/event.showcfp?eventid=21967&copyow
 nerid=35964
UID:cfp251803-N@wikicfp.com
END:VEVENT
BEGIN:VEVENT
DTSTAMP:20260419T154626Z
DTSTART;VALUE=DATE:20120716
DTEND;VALUE=DATE:20120721
SUMMARY:MVDA 2012
DESCRIPTION:The 1st IEEE Workshop on Modeling and Verifying Distributed A
 pplications
URL:http://www.wikicfp.com/cfp/servlet/event.showcfp?eventid=21976&copyow
 nerid=35964
UID:cfp251804-E@wikicfp.com
END:VEVENT
BEGIN:VEVENT
DTSTAMP:20260419T154626Z
DTSTART;VALUE=DATE:20120315
SUMMARY:MVDA 2012 Deadline
DESCRIPTION:The 1st IEEE Workshop on Modeling and Verifying Distributed A
 pplications
URL:http://www.wikicfp.com/cfp/servlet/event.showcfp?eventid=21976&copyow
 nerid=35964
UID:cfp251804-D@wikicfp.com
END:VEVENT
BEGIN:VEVENT
DTSTAMP:20260419T154626Z
DTSTART;VALUE=DATE:20120713
DTEND;VALUE=DATE:20120716
SUMMARY:ASUC 2012
DESCRIPTION:The Third International  workshop on Ad Hoc\, Sensor & Ubiqui
 tous Computing
URL:http://www.wikicfp.com/cfp/servlet/event.showcfp?eventid=20435&copyow
 nerid=35964
UID:cfp251801-E@wikicfp.com
END:VEVENT
BEGIN:VEVENT
DTSTAMP:20260419T154626Z
DTSTART;VALUE=DATE:20120320
SUMMARY:ASUC 2012 Deadline
DESCRIPTION:The Third International  workshop on Ad Hoc\, Sensor & Ubiqui
 tous Computing
URL:http://www.wikicfp.com/cfp/servlet/event.showcfp?eventid=20435&copyow
 nerid=35964
UID:cfp251801-D@wikicfp.com
END:VEVENT
BEGIN:VEVENT
DTSTAMP:20260419T154626Z
DTSTART;VALUE=DATE:20120420
SUMMARY:ASUC 2012 Notification Due
DESCRIPTION:The Third International  workshop on Ad Hoc\, Sensor & Ubiqui
 tous Computing
URL:http://www.wikicfp.com/cfp/servlet/event.showcfp?eventid=20435&copyow
 nerid=35964
UID:cfp251801-N@wikicfp.com
END:VEVENT
BEGIN:VEVENT
DTSTAMP:20260419T154626Z
DTSTART;VALUE=DATE:20120501
SUMMARY:ASUC 2012 Final Version Due
DESCRIPTION:The Third International  workshop on Ad Hoc\, Sensor & Ubiqui
 tous Computing
URL:http://www.wikicfp.com/cfp/servlet/event.showcfp?eventid=20435&copyow
 nerid=35964
UID:cfp251801-N@wikicfp.com
END:VEVENT
BEGIN:VEVENT
DTSTAMP:20260419T154626Z
DTSTART;VALUE=DATE:20120703
DTEND;VALUE=DATE:20120706
SUMMARY:WC 2012
DESCRIPTION:Wireless Communications
URL:http://www.wikicfp.com/cfp/servlet/event.showcfp?eventid=19370&copyow
 nerid=35964
UID:cfp251800-E@wikicfp.com
END:VEVENT
BEGIN:VEVENT
DTSTAMP:20260419T154626Z
DTSTART;VALUE=DATE:20120412
SUMMARY:WC 2012 Deadline
DESCRIPTION:Wireless Communications
URL:http://www.wikicfp.com/cfp/servlet/event.showcfp?eventid=19370&copyow
 nerid=35964
UID:cfp251800-D@wikicfp.com
END:VEVENT
BEGIN:VEVENT
DTSTAMP:20260419T154626Z
DTSTART;VALUE=DATE:20120508
SUMMARY:WC 2012 Notification Due
DESCRIPTION:Wireless Communications
URL:http://www.wikicfp.com/cfp/servlet/event.showcfp?eventid=19370&copyow
 nerid=35964
UID:cfp251800-N@wikicfp.com
END:VEVENT
BEGIN:VEVENT
DTSTAMP:20260419T154626Z
DTSTART;VALUE=DATE:20120618
DTEND;VALUE=DATE:20120619
SUMMARY:VCSC 2012
DESCRIPTION:1st IEEE SECON 2012 Workshop on Vehicular Communications\, Se
 nsing and Computing 
URL:http://www.wikicfp.com/cfp/servlet/event.showcfp?eventid=21992&copyow
 nerid=35964
UID:cfp251807-E@wikicfp.com
END:VEVENT
BEGIN:VEVENT
DTSTAMP:20260419T154626Z
DTSTART;VALUE=DATE:20120414
SUMMARY:VCSC 2012 Deadline
DESCRIPTION:1st IEEE SECON 2012 Workshop on Vehicular Communications\, Se
 nsing and Computing 
URL:http://www.wikicfp.com/cfp/servlet/event.showcfp?eventid=21992&copyow
 nerid=35964
UID:cfp251807-D@wikicfp.com
END:VEVENT
BEGIN:VEVENT
DTSTAMP:20260419T154626Z
DTSTART;VALUE=DATE:20120515
SUMMARY:VCSC 2012 Notification Due
DESCRIPTION:1st IEEE SECON 2012 Workshop on Vehicular Communications\, Se
 nsing and Computing 
URL:http://www.wikicfp.com/cfp/servlet/event.showcfp?eventid=21992&copyow
 nerid=35964
UID:cfp251807-N@wikicfp.com
END:VEVENT
BEGIN:VEVENT
DTSTAMP:20260419T154626Z
DTSTART;VALUE=DATE:20120525
SUMMARY:VCSC 2012 Final Version Due
DESCRIPTION:1st IEEE SECON 2012 Workshop on Vehicular Communications\, Se
 nsing and Computing 
URL:http://www.wikicfp.com/cfp/servlet/event.showcfp?eventid=21992&copyow
 nerid=35964
UID:cfp251807-N@wikicfp.com
END:VEVENT
BEGIN:VEVENT
DTSTAMP:20260419T154626Z
DTSTART;VALUE=DATE:20120913
DTEND;VALUE=DATE:20120915
SUMMARY:EMISA 2012
DESCRIPTION:Enterprise Modelling and Information Systems Architectures
URL:http://www.wikicfp.com/cfp/servlet/event.showcfp?eventid=21983&copyow
 nerid=35964
UID:cfp251805-E@wikicfp.com
END:VEVENT
BEGIN:VEVENT
DTSTAMP:20260419T154626Z
DTSTART;VALUE=DATE:20120617
SUMMARY:EMISA 2012 Deadline
DESCRIPTION:Enterprise Modelling and Information Systems Architectures
URL:http://www.wikicfp.com/cfp/servlet/event.showcfp?eventid=21983&copyow
 nerid=35964
UID:cfp251805-D@wikicfp.com
END:VEVENT
BEGIN:VEVENT
DTSTAMP:20260419T154626Z
DTSTART;VALUE=DATE:20120715
SUMMARY:EMISA 2012 Notification Due
DESCRIPTION:Enterprise Modelling and Information Systems Architectures
URL:http://www.wikicfp.com/cfp/servlet/event.showcfp?eventid=21983&copyow
 nerid=35964
UID:cfp251805-N@wikicfp.com
END:VEVENT
BEGIN:VEVENT
DTSTAMP:20260419T154626Z
DTSTART;VALUE=DATE:20120731
SUMMARY:EMISA 2012 Final Version Due
DESCRIPTION:Enterprise Modelling and Information Systems Architectures
URL:http://www.wikicfp.com/cfp/servlet/event.showcfp?eventid=21983&copyow
 nerid=35964
UID:cfp251805-N@wikicfp.com
END:VEVENT
BEGIN:VEVENT
DTSTAMP:20260419T154626Z
DTSTART;VALUE=DATE:20120904
DTEND;VALUE=DATE:20120906
SUMMARY:ICFI 2012
DESCRIPTION:11th International Conference on Feature Interactions in Tele
 communications and Software Systems 
URL:http://www.wikicfp.com/cfp/servlet/event.showcfp?eventid=21993&copyow
 nerid=35964
UID:cfp251808-E@wikicfp.com
END:VEVENT
BEGIN:VEVENT
DTSTAMP:20260419T154626Z
DTSTART;VALUE=DATE:20120626
SUMMARY:ICFI 2012 Deadline
DESCRIPTION:11th International Conference on Feature Interactions in Tele
 communications and Software Systems 
URL:http://www.wikicfp.com/cfp/servlet/event.showcfp?eventid=21993&copyow
 nerid=35964
UID:cfp251808-D@wikicfp.com
END:VEVENT
BEGIN:VEVENT
DTSTAMP:20260419T154626Z
DTSTART;VALUE=DATE:20120723
SUMMARY:ICFI 2012 Notification Due
DESCRIPTION:11th International Conference on Feature Interactions in Tele
 communications and Software Systems 
URL:http://www.wikicfp.com/cfp/servlet/event.showcfp?eventid=21993&copyow
 nerid=35964
UID:cfp251808-N@wikicfp.com
END:VEVENT
BEGIN:VEVENT
DTSTAMP:20260419T154626Z
DTSTART;VALUE=DATE:20120808
SUMMARY:ICFI 2012 Final Version Due
DESCRIPTION:11th International Conference on Feature Interactions in Tele
 communications and Software Systems 
URL:http://www.wikicfp.com/cfp/servlet/event.showcfp?eventid=21993&copyow
 nerid=35964
UID:cfp251808-N@wikicfp.com
END:VEVENT
BEGIN:VEVENT
DTSTAMP:20260419T154626Z
DTSTART;VALUE=DATE:20120720
SUMMARY:IJCNC 2012 Deadline
DESCRIPTION:International Journal of Computer Networks & Communications
URL:http://www.wikicfp.com/cfp/servlet/event.showcfp?eventid=21324&copyow
 nerid=35964
UID:cfp251802-D@wikicfp.com
END:VEVENT
BEGIN:VEVENT
DTSTAMP:20260419T154626Z
DTSTART;VALUE=DATE:20120815
SUMMARY:IJCNC 2012 Notification Due
DESCRIPTION:International Journal of Computer Networks & Communications
URL:http://www.wikicfp.com/cfp/servlet/event.showcfp?eventid=21324&copyow
 nerid=35964
UID:cfp251802-N@wikicfp.com
END:VEVENT
BEGIN:VEVENT
DTSTAMP:20260419T154626Z
DTSTART;VALUE=DATE:20120820
SUMMARY:IJCNC 2012 Final Version Due
DESCRIPTION:International Journal of Computer Networks & Communications
URL:http://www.wikicfp.com/cfp/servlet/event.showcfp?eventid=21324&copyow
 nerid=35964
UID:cfp251802-N@wikicfp.com
END:VEVENT
END:VCALENDAR
