BEGIN:VCALENDAR
PRODID:-//WikiCFP//thirukst 1.0//EN
VERSION:2.0
CALSCALE:GREGORIAN
BEGIN:VEVENT
DTSTAMP:20260425T194741Z
DTSTART;VALUE=DATE:20121029
DTEND;VALUE=DATE:20121103
SUMMARY:CIKM 2012
DESCRIPTION:21st ACM International Conference on Information and Knowledg
 e Management
URL:http://www.wikicfp.com/cfp/servlet/event.showcfp?eventid=19979&copyow
 nerid=35961
UID:cfp251775-E@wikicfp.com
END:VEVENT
BEGIN:VEVENT
DTSTAMP:20260425T194741Z
DTSTART;VALUE=DATE:20120518
SUMMARY:CIKM 2012 Abstract Due
DESCRIPTION:21st ACM International Conference on Information and Knowledg
 e Management
URL:http://www.wikicfp.com/cfp/servlet/event.showcfp?eventid=19979&copyow
 nerid=35961
UID:cfp251775-A@wikicfp.com
END:VEVENT
BEGIN:VEVENT
DTSTAMP:20260425T194741Z
DTSTART;VALUE=DATE:20120525
SUMMARY:CIKM 2012 Deadline
DESCRIPTION:21st ACM International Conference on Information and Knowledg
 e Management
URL:http://www.wikicfp.com/cfp/servlet/event.showcfp?eventid=19979&copyow
 nerid=35961
UID:cfp251775-D@wikicfp.com
END:VEVENT
BEGIN:VEVENT
DTSTAMP:20260425T194741Z
DTSTART;VALUE=DATE:20120716
SUMMARY:CIKM 2012 Notification Due
DESCRIPTION:21st ACM International Conference on Information and Knowledg
 e Management
URL:http://www.wikicfp.com/cfp/servlet/event.showcfp?eventid=19979&copyow
 nerid=35961
UID:cfp251775-N@wikicfp.com
END:VEVENT
BEGIN:VEVENT
DTSTAMP:20260425T194741Z
DTSTART;VALUE=DATE:20121029
DTEND;VALUE=DATE:20121103
SUMMARY:CIKM 2012
DESCRIPTION:21st ACM International Conference on Information and Knowledg
 e Management
URL:http://www.wikicfp.com/cfp/servlet/event.showcfp?eventid=21117&copyow
 nerid=35961
UID:cfp251778-E@wikicfp.com
END:VEVENT
BEGIN:VEVENT
DTSTAMP:20260425T194741Z
DTSTART;VALUE=DATE:20120518
SUMMARY:CIKM 2012 Abstract Due
DESCRIPTION:21st ACM International Conference on Information and Knowledg
 e Management
URL:http://www.wikicfp.com/cfp/servlet/event.showcfp?eventid=21117&copyow
 nerid=35961
UID:cfp251778-A@wikicfp.com
END:VEVENT
BEGIN:VEVENT
DTSTAMP:20260425T194741Z
DTSTART;VALUE=DATE:20120525
SUMMARY:CIKM 2012 Deadline
DESCRIPTION:21st ACM International Conference on Information and Knowledg
 e Management
URL:http://www.wikicfp.com/cfp/servlet/event.showcfp?eventid=21117&copyow
 nerid=35961
UID:cfp251778-D@wikicfp.com
END:VEVENT
BEGIN:VEVENT
DTSTAMP:20260425T194741Z
DTSTART;VALUE=DATE:20120827
DTEND;VALUE=DATE:20120901
SUMMARY:AImWD 2012
DESCRIPTION:1st International Workshop on Artificial Intelligence meets t
 he Web of Data
URL:http://www.wikicfp.com/cfp/servlet/event.showcfp?eventid=21883&copyow
 nerid=35961
UID:cfp251791-E@wikicfp.com
END:VEVENT
BEGIN:VEVENT
DTSTAMP:20260425T194741Z
DTSTART;VALUE=DATE:20120528
SUMMARY:AImWD 2012 Deadline
DESCRIPTION:1st International Workshop on Artificial Intelligence meets t
 he Web of Data
URL:http://www.wikicfp.com/cfp/servlet/event.showcfp?eventid=21883&copyow
 nerid=35961
UID:cfp251791-D@wikicfp.com
END:VEVENT
BEGIN:VEVENT
DTSTAMP:20260425T194741Z
DTSTART;VALUE=DATE:20121203
DTEND;VALUE=DATE:20121207
SUMMARY:NIPS 2012
DESCRIPTION:Neural Information Processing Systems Conference
URL:http://www.wikicfp.com/cfp/servlet/event.showcfp?eventid=14639&copyow
 nerid=35961
UID:cfp251773-E@wikicfp.com
END:VEVENT
BEGIN:VEVENT
DTSTAMP:20260425T194741Z
DTSTART;VALUE=DATE:20120601
SUMMARY:NIPS 2012 Deadline
DESCRIPTION:Neural Information Processing Systems Conference
URL:http://www.wikicfp.com/cfp/servlet/event.showcfp?eventid=14639&copyow
 nerid=35961
UID:cfp251773-D@wikicfp.com
END:VEVENT
BEGIN:VEVENT
DTSTAMP:20260425T194741Z
DTSTART;VALUE=DATE:20120903
SUMMARY:NIPS 2012 Notification Due
DESCRIPTION:Neural Information Processing Systems Conference
URL:http://www.wikicfp.com/cfp/servlet/event.showcfp?eventid=14639&copyow
 nerid=35961
UID:cfp251773-N@wikicfp.com
END:VEVENT
BEGIN:VEVENT
DTSTAMP:20260425T194741Z
DTSTART;VALUE=DATE:20121024
DTEND;VALUE=DATE:20121027
SUMMARY:CIDU 2012
DESCRIPTION:Conference on Intelligent Data Understanding
URL:http://www.wikicfp.com/cfp/servlet/event.showcfp?eventid=21520&copyow
 nerid=35961
UID:cfp251789-E@wikicfp.com
END:VEVENT
BEGIN:VEVENT
DTSTAMP:20260425T194741Z
DTSTART;VALUE=DATE:20120604
SUMMARY:CIDU 2012 Deadline
DESCRIPTION:Conference on Intelligent Data Understanding
URL:http://www.wikicfp.com/cfp/servlet/event.showcfp?eventid=21520&copyow
 nerid=35961
UID:cfp251789-D@wikicfp.com
END:VEVENT
BEGIN:VEVENT
DTSTAMP:20260425T194741Z
DTSTART;VALUE=DATE:20120803
SUMMARY:CIDU 2012 Notification Due
DESCRIPTION:Conference on Intelligent Data Understanding
URL:http://www.wikicfp.com/cfp/servlet/event.showcfp?eventid=21520&copyow
 nerid=35961
UID:cfp251789-N@wikicfp.com
END:VEVENT
BEGIN:VEVENT
DTSTAMP:20260425T194741Z
DTSTART;VALUE=DATE:20120817
SUMMARY:CIDU 2012 Final Version Due
DESCRIPTION:Conference on Intelligent Data Understanding
URL:http://www.wikicfp.com/cfp/servlet/event.showcfp?eventid=21520&copyow
 nerid=35961
UID:cfp251789-N@wikicfp.com
END:VEVENT
BEGIN:VEVENT
DTSTAMP:20260425T194741Z
DTSTART;VALUE=DATE:20120827
DTEND;VALUE=DATE:20120901
SUMMARY:UDM - ECAI 2012
DESCRIPTION:Ubiquitous Data Mining (UDM) - ECAI 2012 Workshop
URL:http://www.wikicfp.com/cfp/servlet/event.showcfp?eventid=21903&copyow
 nerid=35961
UID:cfp251792-E@wikicfp.com
END:VEVENT
BEGIN:VEVENT
DTSTAMP:20260425T194741Z
DTSTART;VALUE=DATE:20120614
SUMMARY:UDM - ECAI 2012 Deadline
DESCRIPTION:Ubiquitous Data Mining (UDM) - ECAI 2012 Workshop
URL:http://www.wikicfp.com/cfp/servlet/event.showcfp?eventid=21903&copyow
 nerid=35961
UID:cfp251792-D@wikicfp.com
END:VEVENT
BEGIN:VEVENT
DTSTAMP:20260425T194741Z
DTSTART;VALUE=DATE:20120628
SUMMARY:UDM - ECAI 2012 Notification Due
DESCRIPTION:Ubiquitous Data Mining (UDM) - ECAI 2012 Workshop
URL:http://www.wikicfp.com/cfp/servlet/event.showcfp?eventid=21903&copyow
 nerid=35961
UID:cfp251792-N@wikicfp.com
END:VEVENT
BEGIN:VEVENT
DTSTAMP:20260425T194741Z
DTSTART;VALUE=DATE:20120709
SUMMARY:UDM - ECAI 2012 Final Version Due
DESCRIPTION:Ubiquitous Data Mining (UDM) - ECAI 2012 Workshop
URL:http://www.wikicfp.com/cfp/servlet/event.showcfp?eventid=21903&copyow
 nerid=35961
UID:cfp251792-N@wikicfp.com
END:VEVENT
BEGIN:VEVENT
DTSTAMP:20260425T194741Z
DTSTART;VALUE=DATE:20121210
DTEND;VALUE=DATE:20121214
SUMMARY:ICDM 2012
DESCRIPTION:IEEE International Conference on Data Mining
URL:http://www.wikicfp.com/cfp/servlet/event.showcfp?eventid=18103&copyow
 nerid=35961
UID:cfp251774-E@wikicfp.com
END:VEVENT
BEGIN:VEVENT
DTSTAMP:20260425T194741Z
DTSTART;VALUE=DATE:20120618
SUMMARY:ICDM 2012 Deadline
DESCRIPTION:IEEE International Conference on Data Mining
URL:http://www.wikicfp.com/cfp/servlet/event.showcfp?eventid=18103&copyow
 nerid=35961
UID:cfp251774-D@wikicfp.com
END:VEVENT
BEGIN:VEVENT
DTSTAMP:20260425T194741Z
DTSTART;VALUE=DATE:20120918
SUMMARY:ICDM 2012 Notification Due
DESCRIPTION:IEEE International Conference on Data Mining
URL:http://www.wikicfp.com/cfp/servlet/event.showcfp?eventid=18103&copyow
 nerid=35961
UID:cfp251774-N@wikicfp.com
END:VEVENT
BEGIN:VEVENT
DTSTAMP:20260425T194741Z
DTSTART;VALUE=DATE:20121015
SUMMARY:ICDM 2012 Final Version Due
DESCRIPTION:IEEE International Conference on Data Mining
URL:http://www.wikicfp.com/cfp/servlet/event.showcfp?eventid=18103&copyow
 nerid=35961
UID:cfp251774-N@wikicfp.com
END:VEVENT
BEGIN:VEVENT
DTSTAMP:20260425T194741Z
DTSTART;VALUE=DATE:20120701
SUMMARY:CLOSA 2012 Deadline
DESCRIPTION:Special Issue on Concept-Level Opinion and Sentiment Analysis
 
URL:http://www.wikicfp.com/cfp/servlet/event.showcfp?eventid=20153&copyow
 nerid=35961
UID:cfp251776-D@wikicfp.com
END:VEVENT
BEGIN:VEVENT
DTSTAMP:20260425T194741Z
DTSTART;VALUE=DATE:20120812
DTEND;VALUE=DATE:20120817
SUMMARY:SIGKDD Exhibits 2012
DESCRIPTION:KDD 20212 Call For Exhibits
URL:http://www.wikicfp.com/cfp/servlet/event.showcfp?eventid=21301&copyow
 nerid=35961
UID:cfp251784-E@wikicfp.com
END:VEVENT
BEGIN:VEVENT
DTSTAMP:20260425T194741Z
DTSTART;VALUE=DATE:20120708
SUMMARY:SIGKDD Exhibits 2012 Deadline
DESCRIPTION:KDD 20212 Call For Exhibits
URL:http://www.wikicfp.com/cfp/servlet/event.showcfp?eventid=21301&copyow
 nerid=35961
UID:cfp251784-D@wikicfp.com
END:VEVENT
BEGIN:VEVENT
DTSTAMP:20260425T194741Z
DTSTART;VALUE=DATE:20121206
DTEND;VALUE=DATE:20121209
SUMMARY:ACIS 2012
DESCRIPTION:The First Asian Conference on Information Systems
URL:http://www.wikicfp.com/cfp/servlet/event.showcfp?eventid=20402&copyow
 nerid=35961
UID:cfp251777-E@wikicfp.com
END:VEVENT
BEGIN:VEVENT
DTSTAMP:20260425T194741Z
DTSTART;VALUE=DATE:20120715
SUMMARY:ACIS 2012 Deadline
DESCRIPTION:The First Asian Conference on Information Systems
URL:http://www.wikicfp.com/cfp/servlet/event.showcfp?eventid=20402&copyow
 nerid=35961
UID:cfp251777-D@wikicfp.com
END:VEVENT
BEGIN:VEVENT
DTSTAMP:20260425T194741Z
DTSTART;VALUE=DATE:20120731
SUMMARY:ACIS 2012 Notification Due
DESCRIPTION:The First Asian Conference on Information Systems
URL:http://www.wikicfp.com/cfp/servlet/event.showcfp?eventid=20402&copyow
 nerid=35961
UID:cfp251777-N@wikicfp.com
END:VEVENT
BEGIN:VEVENT
DTSTAMP:20260425T194741Z
DTSTART;VALUE=DATE:20120925
SUMMARY:ACIS 2012 Final Version Due
DESCRIPTION:The First Asian Conference on Information Systems
URL:http://www.wikicfp.com/cfp/servlet/event.showcfp?eventid=20402&copyow
 nerid=35961
UID:cfp251777-N@wikicfp.com
END:VEVENT
BEGIN:VEVENT
DTSTAMP:20260425T194741Z
DTSTART;VALUE=DATE:20121215
DTEND;VALUE=DATE:20121219
SUMMARY:ADMA 2012
DESCRIPTION:The 8th International Conference on Advanced Data Mining and 
 Applications 
URL:http://www.wikicfp.com/cfp/servlet/event.showcfp?eventid=21209&copyow
 nerid=35961
UID:cfp251779-E@wikicfp.com
END:VEVENT
BEGIN:VEVENT
DTSTAMP:20260425T194741Z
DTSTART;VALUE=DATE:20120731
SUMMARY:ADMA 2012 Abstract Due
DESCRIPTION:The 8th International Conference on Advanced Data Mining and 
 Applications 
URL:http://www.wikicfp.com/cfp/servlet/event.showcfp?eventid=21209&copyow
 nerid=35961
UID:cfp251779-A@wikicfp.com
END:VEVENT
BEGIN:VEVENT
DTSTAMP:20260425T194741Z
DTSTART;VALUE=DATE:20120731
SUMMARY:ADMA 2012 Deadline
DESCRIPTION:The 8th International Conference on Advanced Data Mining and 
 Applications 
URL:http://www.wikicfp.com/cfp/servlet/event.showcfp?eventid=21209&copyow
 nerid=35961
UID:cfp251779-D@wikicfp.com
END:VEVENT
BEGIN:VEVENT
DTSTAMP:20260425T194741Z
DTSTART;VALUE=DATE:20120930
SUMMARY:ADMA 2012 Notification Due
DESCRIPTION:The 8th International Conference on Advanced Data Mining and 
 Applications 
URL:http://www.wikicfp.com/cfp/servlet/event.showcfp?eventid=21209&copyow
 nerid=35961
UID:cfp251779-N@wikicfp.com
END:VEVENT
BEGIN:VEVENT
DTSTAMP:20260425T194741Z
DTSTART;VALUE=DATE:20121014
SUMMARY:ADMA 2012 Final Version Due
DESCRIPTION:The 8th International Conference on Advanced Data Mining and 
 Applications 
URL:http://www.wikicfp.com/cfp/servlet/event.showcfp?eventid=21209&copyow
 nerid=35961
UID:cfp251779-N@wikicfp.com
END:VEVENT
BEGIN:VEVENT
DTSTAMP:20260425T194741Z
DTSTART;VALUE=DATE:20121002
DTEND;VALUE=DATE:20121005
SUMMARY:LSPI 2012
DESCRIPTION:7th International Conference on Legal\, Security and Privacy 
 Issues in IT Law
URL:http://www.wikicfp.com/cfp/servlet/event.showcfp?eventid=21533&copyow
 nerid=35961
UID:cfp251790-E@wikicfp.com
END:VEVENT
BEGIN:VEVENT
DTSTAMP:20260425T194741Z
DTSTART;VALUE=DATE:20120825
SUMMARY:LSPI 2012 Deadline
DESCRIPTION:7th International Conference on Legal\, Security and Privacy 
 Issues in IT Law
URL:http://www.wikicfp.com/cfp/servlet/event.showcfp?eventid=21533&copyow
 nerid=35961
UID:cfp251790-D@wikicfp.com
END:VEVENT
BEGIN:VEVENT
DTSTAMP:20260425T194741Z
DTSTART;VALUE=DATE:20130716
DTEND;VALUE=DATE:20130722
SUMMARY:ICDM 2013
DESCRIPTION:Industrial Conference on Data Mining 
URL:http://www.wikicfp.com/cfp/servlet/event.showcfp?eventid=21256&copyow
 nerid=35961
UID:cfp251781-E@wikicfp.com
END:VEVENT
BEGIN:VEVENT
DTSTAMP:20260425T194741Z
DTSTART;VALUE=DATE:20130115
SUMMARY:ICDM 2013 Deadline
DESCRIPTION:Industrial Conference on Data Mining 
URL:http://www.wikicfp.com/cfp/servlet/event.showcfp?eventid=21256&copyow
 nerid=35961
UID:cfp251781-D@wikicfp.com
END:VEVENT
BEGIN:VEVENT
DTSTAMP:20260425T194741Z
DTSTART;VALUE=DATE:20130318
SUMMARY:ICDM 2013 Notification Due
DESCRIPTION:Industrial Conference on Data Mining 
URL:http://www.wikicfp.com/cfp/servlet/event.showcfp?eventid=21256&copyow
 nerid=35961
UID:cfp251781-N@wikicfp.com
END:VEVENT
BEGIN:VEVENT
DTSTAMP:20260425T194741Z
DTSTART;VALUE=DATE:20130405
SUMMARY:ICDM 2013 Final Version Due
DESCRIPTION:Industrial Conference on Data Mining 
URL:http://www.wikicfp.com/cfp/servlet/event.showcfp?eventid=21256&copyow
 nerid=35961
UID:cfp251781-N@wikicfp.com
END:VEVENT
BEGIN:VEVENT
DTSTAMP:20260425T194741Z
DTSTART;VALUE=DATE:20130713
DTEND;VALUE=DATE:20130717
SUMMARY:MDA 2013
DESCRIPTION:International Conference on Mass Data Analysis of Images and 
 Signals 
URL:http://www.wikicfp.com/cfp/servlet/event.showcfp?eventid=21257&copyow
 nerid=35961
UID:cfp251782-E@wikicfp.com
END:VEVENT
BEGIN:VEVENT
DTSTAMP:20260425T194741Z
DTSTART;VALUE=DATE:20130115
SUMMARY:MDA 2013 Deadline
DESCRIPTION:International Conference on Mass Data Analysis of Images and 
 Signals 
URL:http://www.wikicfp.com/cfp/servlet/event.showcfp?eventid=21257&copyow
 nerid=35961
UID:cfp251782-D@wikicfp.com
END:VEVENT
BEGIN:VEVENT
DTSTAMP:20260425T194741Z
DTSTART;VALUE=DATE:20130318
SUMMARY:MDA 2013 Notification Due
DESCRIPTION:International Conference on Mass Data Analysis of Images and 
 Signals 
URL:http://www.wikicfp.com/cfp/servlet/event.showcfp?eventid=21257&copyow
 nerid=35961
UID:cfp251782-N@wikicfp.com
END:VEVENT
BEGIN:VEVENT
DTSTAMP:20260425T194741Z
DTSTART;VALUE=DATE:20130406
SUMMARY:MDA 2013 Final Version Due
DESCRIPTION:International Conference on Mass Data Analysis of Images and 
 Signals 
URL:http://www.wikicfp.com/cfp/servlet/event.showcfp?eventid=21257&copyow
 nerid=35961
UID:cfp251782-N@wikicfp.com
END:VEVENT
BEGIN:VEVENT
DTSTAMP:20260425T194741Z
DTSTART;VALUE=DATE:20130719
DTEND;VALUE=DATE:20130726
SUMMARY:MLDM 2013
DESCRIPTION:International Conference on Machine Learning and Data Mining
URL:http://www.wikicfp.com/cfp/servlet/event.showcfp?eventid=21258&copyow
 nerid=35961
UID:cfp251783-E@wikicfp.com
END:VEVENT
BEGIN:VEVENT
DTSTAMP:20260425T194741Z
DTSTART;VALUE=DATE:20130115
SUMMARY:MLDM 2013 Deadline
DESCRIPTION:International Conference on Machine Learning and Data Mining
URL:http://www.wikicfp.com/cfp/servlet/event.showcfp?eventid=21258&copyow
 nerid=35961
UID:cfp251783-D@wikicfp.com
END:VEVENT
BEGIN:VEVENT
DTSTAMP:20260425T194741Z
DTSTART;VALUE=DATE:20130318
SUMMARY:MLDM 2013 Notification Due
DESCRIPTION:International Conference on Machine Learning and Data Mining
URL:http://www.wikicfp.com/cfp/servlet/event.showcfp?eventid=21258&copyow
 nerid=35961
UID:cfp251783-N@wikicfp.com
END:VEVENT
BEGIN:VEVENT
DTSTAMP:20260425T194741Z
DTSTART;VALUE=DATE:20130406
SUMMARY:MLDM 2013 Final Version Due
DESCRIPTION:International Conference on Machine Learning and Data Mining
URL:http://www.wikicfp.com/cfp/servlet/event.showcfp?eventid=21258&copyow
 nerid=35961
UID:cfp251783-N@wikicfp.com
END:VEVENT
BEGIN:VEVENT
DTSTAMP:20260425T194741Z
DTSTART;VALUE=DATE:20130719
DTEND;VALUE=DATE:20130720
SUMMARY:CBR-MD 2013
DESCRIPTION:International Workshop Case-Based Reasoning
URL:http://www.wikicfp.com/cfp/servlet/event.showcfp?eventid=21512&copyow
 nerid=35961
UID:cfp251785-E@wikicfp.com
END:VEVENT
BEGIN:VEVENT
DTSTAMP:20260425T194741Z
DTSTART;VALUE=DATE:20130320
SUMMARY:CBR-MD 2013 Deadline
DESCRIPTION:International Workshop Case-Based Reasoning
URL:http://www.wikicfp.com/cfp/servlet/event.showcfp?eventid=21512&copyow
 nerid=35961
UID:cfp251785-D@wikicfp.com
END:VEVENT
BEGIN:VEVENT
DTSTAMP:20260425T194741Z
DTSTART;VALUE=DATE:20130430
SUMMARY:CBR-MD 2013 Notification Due
DESCRIPTION:International Workshop Case-Based Reasoning
URL:http://www.wikicfp.com/cfp/servlet/event.showcfp?eventid=21512&copyow
 nerid=35961
UID:cfp251785-N@wikicfp.com
END:VEVENT
BEGIN:VEVENT
DTSTAMP:20260425T194741Z
DTSTART;VALUE=DATE:20130511
SUMMARY:CBR-MD 2013 Final Version Due
DESCRIPTION:International Workshop Case-Based Reasoning
URL:http://www.wikicfp.com/cfp/servlet/event.showcfp?eventid=21512&copyow
 nerid=35961
UID:cfp251785-N@wikicfp.com
END:VEVENT
BEGIN:VEVENT
DTSTAMP:20260425T194741Z
DTSTART;VALUE=DATE:20130719
DTEND;VALUE=DATE:20130720
SUMMARY:DMM 2013
DESCRIPTION:Workshop on Data Mining in Marketing
URL:http://www.wikicfp.com/cfp/servlet/event.showcfp?eventid=21514&copyow
 nerid=35961
UID:cfp251786-E@wikicfp.com
END:VEVENT
BEGIN:VEVENT
DTSTAMP:20260425T194741Z
DTSTART;VALUE=DATE:20130320
SUMMARY:DMM 2013 Deadline
DESCRIPTION:Workshop on Data Mining in Marketing
URL:http://www.wikicfp.com/cfp/servlet/event.showcfp?eventid=21514&copyow
 nerid=35961
UID:cfp251786-D@wikicfp.com
END:VEVENT
BEGIN:VEVENT
DTSTAMP:20260425T194741Z
DTSTART;VALUE=DATE:20130430
SUMMARY:DMM 2013 Notification Due
DESCRIPTION:Workshop on Data Mining in Marketing
URL:http://www.wikicfp.com/cfp/servlet/event.showcfp?eventid=21514&copyow
 nerid=35961
UID:cfp251786-N@wikicfp.com
END:VEVENT
BEGIN:VEVENT
DTSTAMP:20260425T194741Z
DTSTART;VALUE=DATE:20130512
SUMMARY:DMM 2013 Final Version Due
DESCRIPTION:Workshop on Data Mining in Marketing
URL:http://www.wikicfp.com/cfp/servlet/event.showcfp?eventid=21514&copyow
 nerid=35961
UID:cfp251786-N@wikicfp.com
END:VEVENT
BEGIN:VEVENT
DTSTAMP:20260425T194741Z
DTSTART;VALUE=DATE:20130719
DTEND;VALUE=DATE:20130720
SUMMARY:DMLS 2013
DESCRIPTION:Workshop on Data Mining in Life Sciences 
URL:http://www.wikicfp.com/cfp/servlet/event.showcfp?eventid=21515&copyow
 nerid=35961
UID:cfp251787-E@wikicfp.com
END:VEVENT
BEGIN:VEVENT
DTSTAMP:20260425T194741Z
DTSTART;VALUE=DATE:20130320
SUMMARY:DMLS 2013 Deadline
DESCRIPTION:Workshop on Data Mining in Life Sciences 
URL:http://www.wikicfp.com/cfp/servlet/event.showcfp?eventid=21515&copyow
 nerid=35961
UID:cfp251787-D@wikicfp.com
END:VEVENT
BEGIN:VEVENT
DTSTAMP:20260425T194741Z
DTSTART;VALUE=DATE:20130430
SUMMARY:DMLS 2013 Notification Due
DESCRIPTION:Workshop on Data Mining in Life Sciences 
URL:http://www.wikicfp.com/cfp/servlet/event.showcfp?eventid=21515&copyow
 nerid=35961
UID:cfp251787-N@wikicfp.com
END:VEVENT
BEGIN:VEVENT
DTSTAMP:20260425T194741Z
DTSTART;VALUE=DATE:20130512
SUMMARY:DMLS 2013 Final Version Due
DESCRIPTION:Workshop on Data Mining in Life Sciences 
URL:http://www.wikicfp.com/cfp/servlet/event.showcfp?eventid=21515&copyow
 nerid=35961
UID:cfp251787-N@wikicfp.com
END:VEVENT
BEGIN:VEVENT
DTSTAMP:20260425T194741Z
DTSTART;VALUE=DATE:20130719
DTEND;VALUE=DATE:20130720
SUMMARY:DMA 2013
DESCRIPTION:Workshop on Data Mining in Agriculture
URL:http://www.wikicfp.com/cfp/servlet/event.showcfp?eventid=21516&copyow
 nerid=35961
UID:cfp251788-E@wikicfp.com
END:VEVENT
BEGIN:VEVENT
DTSTAMP:20260425T194741Z
DTSTART;VALUE=DATE:20130320
SUMMARY:DMA 2013 Deadline
DESCRIPTION:Workshop on Data Mining in Agriculture
URL:http://www.wikicfp.com/cfp/servlet/event.showcfp?eventid=21516&copyow
 nerid=35961
UID:cfp251788-D@wikicfp.com
END:VEVENT
BEGIN:VEVENT
DTSTAMP:20260425T194741Z
DTSTART;VALUE=DATE:20130430
SUMMARY:DMA 2013 Notification Due
DESCRIPTION:Workshop on Data Mining in Agriculture
URL:http://www.wikicfp.com/cfp/servlet/event.showcfp?eventid=21516&copyow
 nerid=35961
UID:cfp251788-N@wikicfp.com
END:VEVENT
BEGIN:VEVENT
DTSTAMP:20260425T194741Z
DTSTART;VALUE=DATE:20130512
SUMMARY:DMA 2013 Final Version Due
DESCRIPTION:Workshop on Data Mining in Agriculture
URL:http://www.wikicfp.com/cfp/servlet/event.showcfp?eventid=21516&copyow
 nerid=35961
UID:cfp251788-N@wikicfp.com
END:VEVENT
BEGIN:VEVENT
DTSTAMP:20260425T194741Z
DTSTART;VALUE=DATE:20140712
DTEND;VALUE=DATE:20140725
SUMMARY:DSA 2014
DESCRIPTION:The Frontiers in Intelligent Data and Signal Analysis
URL:http://www.wikicfp.com/cfp/servlet/event.showcfp?eventid=21254&copyow
 nerid=35961
UID:cfp251780-E@wikicfp.com
END:VEVENT
BEGIN:VEVENT
DTSTAMP:20260425T194741Z
DTSTART;VALUE=DATE:20140115
SUMMARY:DSA 2014 Deadline
DESCRIPTION:The Frontiers in Intelligent Data and Signal Analysis
URL:http://www.wikicfp.com/cfp/servlet/event.showcfp?eventid=21254&copyow
 nerid=35961
UID:cfp251780-D@wikicfp.com
END:VEVENT
BEGIN:VEVENT
DTSTAMP:20260425T194741Z
DTSTART;VALUE=DATE:20140318
SUMMARY:DSA 2014 Notification Due
DESCRIPTION:The Frontiers in Intelligent Data and Signal Analysis
URL:http://www.wikicfp.com/cfp/servlet/event.showcfp?eventid=21254&copyow
 nerid=35961
UID:cfp251780-N@wikicfp.com
END:VEVENT
BEGIN:VEVENT
DTSTAMP:20260425T194741Z
DTSTART;VALUE=DATE:20140504
SUMMARY:DSA 2014 Final Version Due
DESCRIPTION:The Frontiers in Intelligent Data and Signal Analysis
URL:http://www.wikicfp.com/cfp/servlet/event.showcfp?eventid=21254&copyow
 nerid=35961
UID:cfp251780-N@wikicfp.com
END:VEVENT
END:VCALENDAR
