BEGIN:VCALENDAR
PRODID:-//WikiCFP//sy456 1.0//EN
VERSION:2.0
CALSCALE:GREGORIAN
BEGIN:VEVENT
DTSTAMP:20260421T055754Z
DTSTART;VALUE=DATE:20120531
SUMMARY:SI-CACOONS 2012 Deadline
DESCRIPTION:Special Issue of Simulation Journal (SCI-E) on Agent-based Mo
 deling & Simulation of Complex Networks
URL:http://www.wikicfp.com/cfp/servlet/event.showcfp?eventid=17492&copyow
 nerid=35926
UID:cfp251397-D@wikicfp.com
END:VEVENT
BEGIN:VEVENT
DTSTAMP:20260421T055754Z
DTSTART;VALUE=DATE:20120630
SUMMARY:SI-CACOONS 2012 Notification Due
DESCRIPTION:Special Issue of Simulation Journal (SCI-E) on Agent-based Mo
 deling & Simulation of Complex Networks
URL:http://www.wikicfp.com/cfp/servlet/event.showcfp?eventid=17492&copyow
 nerid=35926
UID:cfp251397-N@wikicfp.com
END:VEVENT
BEGIN:VEVENT
DTSTAMP:20260421T055754Z
DTSTART;VALUE=DATE:20120731
SUMMARY:SI-CACOONS 2012 Final Version Due
DESCRIPTION:Special Issue of Simulation Journal (SCI-E) on Agent-based Mo
 deling & Simulation of Complex Networks
URL:http://www.wikicfp.com/cfp/servlet/event.showcfp?eventid=17492&copyow
 nerid=35926
UID:cfp251397-N@wikicfp.com
END:VEVENT
END:VCALENDAR
