BEGIN:VCALENDAR
PRODID:-//WikiCFP//93avkT4m 1.0//EN
VERSION:2.0
CALSCALE:GREGORIAN
BEGIN:VEVENT
DTSTAMP:20260422T032708Z
DTSTART;VALUE=DATE:20090831
DTEND;VALUE=DATE:20090903
SUMMARY:IDA 2009
DESCRIPTION:The 8th International Symposium on Intelligent Data Analysis
URL:http://www.wikicfp.com/cfp/servlet/event.showcfp?eventid=3675&copyown
 erid=3560
UID:cfp28632-E@wikicfp.com
END:VEVENT
BEGIN:VEVENT
DTSTAMP:20260422T032708Z
DTSTART;VALUE=DATE:20090330
SUMMARY:IDA 2009 Deadline
DESCRIPTION:The 8th International Symposium on Intelligent Data Analysis
URL:http://www.wikicfp.com/cfp/servlet/event.showcfp?eventid=3675&copyown
 erid=3560
UID:cfp28632-D@wikicfp.com
END:VEVENT
BEGIN:VEVENT
DTSTAMP:20260422T032708Z
DTSTART;VALUE=DATE:20090507
SUMMARY:IDA 2009 Notification Due
DESCRIPTION:The 8th International Symposium on Intelligent Data Analysis
URL:http://www.wikicfp.com/cfp/servlet/event.showcfp?eventid=3675&copyown
 erid=3560
UID:cfp28632-N@wikicfp.com
END:VEVENT
BEGIN:VEVENT
DTSTAMP:20260422T032708Z
DTSTART;VALUE=DATE:20090528
SUMMARY:IDA 2009 Final Version Due
DESCRIPTION:The 8th International Symposium on Intelligent Data Analysis
URL:http://www.wikicfp.com/cfp/servlet/event.showcfp?eventid=3675&copyown
 erid=3560
UID:cfp28632-N@wikicfp.com
END:VEVENT
BEGIN:VEVENT
DTSTAMP:20260422T032708Z
DTSTART;VALUE=DATE:20090907
DTEND;VALUE=DATE:20090912
SUMMARY:ECML PKDD 2009
DESCRIPTION:The European Conference on Machine Learning and Principles an
 d Practice of Knowledge Discovery in Databases
URL:http://www.wikicfp.com/cfp/servlet/event.showcfp?eventid=3827&copyown
 erid=3560
UID:cfp28630-E@wikicfp.com
END:VEVENT
BEGIN:VEVENT
DTSTAMP:20260422T032708Z
DTSTART;VALUE=DATE:20090414
SUMMARY:ECML PKDD 2009 Deadline
DESCRIPTION:The European Conference on Machine Learning and Principles an
 d Practice of Knowledge Discovery in Databases
URL:http://www.wikicfp.com/cfp/servlet/event.showcfp?eventid=3827&copyown
 erid=3560
UID:cfp28630-D@wikicfp.com
END:VEVENT
BEGIN:VEVENT
DTSTAMP:20260422T032708Z
DTSTART;VALUE=DATE:20090605
SUMMARY:ECML PKDD 2009 Notification Due
DESCRIPTION:The European Conference on Machine Learning and Principles an
 d Practice of Knowledge Discovery in Databases
URL:http://www.wikicfp.com/cfp/servlet/event.showcfp?eventid=3827&copyown
 erid=3560
UID:cfp28630-N@wikicfp.com
END:VEVENT
BEGIN:VEVENT
DTSTAMP:20260422T032708Z
DTSTART;VALUE=DATE:20090612
SUMMARY:ECML PKDD 2009 Final Version Due
DESCRIPTION:The European Conference on Machine Learning and Principles an
 d Practice of Knowledge Discovery in Databases
URL:http://www.wikicfp.com/cfp/servlet/event.showcfp?eventid=3827&copyown
 erid=3560
UID:cfp28630-N@wikicfp.com
END:VEVENT
BEGIN:VEVENT
DTSTAMP:20260422T032708Z
DTSTART;VALUE=DATE:20090827
DTEND;VALUE=DATE:20090830
SUMMARY:EANN 2009
DESCRIPTION:11th International Conference on Engineering Applications of 
 Neural Networks
URL:http://www.wikicfp.com/cfp/servlet/event.showcfp?eventid=4085&copyown
 erid=3560
UID:cfp28633-E@wikicfp.com
END:VEVENT
BEGIN:VEVENT
DTSTAMP:20260422T032708Z
DTSTART;VALUE=DATE:20090403
SUMMARY:EANN 2009 Abstract Due
DESCRIPTION:11th International Conference on Engineering Applications of 
 Neural Networks
URL:http://www.wikicfp.com/cfp/servlet/event.showcfp?eventid=4085&copyown
 erid=3560
UID:cfp28633-A@wikicfp.com
END:VEVENT
BEGIN:VEVENT
DTSTAMP:20260422T032708Z
DTSTART;VALUE=DATE:20090421
SUMMARY:EANN 2009 Deadline
DESCRIPTION:11th International Conference on Engineering Applications of 
 Neural Networks
URL:http://www.wikicfp.com/cfp/servlet/event.showcfp?eventid=4085&copyown
 erid=3560
UID:cfp28633-D@wikicfp.com
END:VEVENT
BEGIN:VEVENT
DTSTAMP:20260422T032708Z
DTSTART;VALUE=DATE:20090521
SUMMARY:EANN 2009 Notification Due
DESCRIPTION:11th International Conference on Engineering Applications of 
 Neural Networks
URL:http://www.wikicfp.com/cfp/servlet/event.showcfp?eventid=4085&copyown
 erid=3560
UID:cfp28633-N@wikicfp.com
END:VEVENT
BEGIN:VEVENT
DTSTAMP:20260422T032708Z
DTSTART;VALUE=DATE:20090604
SUMMARY:EANN 2009 Final Version Due
DESCRIPTION:11th International Conference on Engineering Applications of 
 Neural Networks
URL:http://www.wikicfp.com/cfp/servlet/event.showcfp?eventid=4085&copyown
 erid=3560
UID:cfp28633-N@wikicfp.com
END:VEVENT
BEGIN:VEVENT
DTSTAMP:20260422T032708Z
DTSTART;VALUE=DATE:20091223
DTEND;VALUE=DATE:20091227
SUMMARY:IDEAL 2009
DESCRIPTION:10TH INTERNATIONAL CONFERENCE ON INTELLIGENT DATA ENGINEERING
  AND AUTOMATED LEARNING
URL:http://www.wikicfp.com/cfp/servlet/event.showcfp?eventid=4578&copyown
 erid=3560
UID:cfp28631-E@wikicfp.com
END:VEVENT
BEGIN:VEVENT
DTSTAMP:20260422T032708Z
DTSTART;VALUE=DATE:20090526
SUMMARY:IDEAL 2009 Deadline
DESCRIPTION:10TH INTERNATIONAL CONFERENCE ON INTELLIGENT DATA ENGINEERING
  AND AUTOMATED LEARNING
URL:http://www.wikicfp.com/cfp/servlet/event.showcfp?eventid=4578&copyown
 erid=3560
UID:cfp28631-D@wikicfp.com
END:VEVENT
BEGIN:VEVENT
DTSTAMP:20260422T032708Z
DTSTART;VALUE=DATE:20090623
SUMMARY:IDEAL 2009 Notification Due
DESCRIPTION:10TH INTERNATIONAL CONFERENCE ON INTELLIGENT DATA ENGINEERING
  AND AUTOMATED LEARNING
URL:http://www.wikicfp.com/cfp/servlet/event.showcfp?eventid=4578&copyown
 erid=3560
UID:cfp28631-N@wikicfp.com
END:VEVENT
BEGIN:VEVENT
DTSTAMP:20260422T032708Z
DTSTART;VALUE=DATE:20090701
SUMMARY:IDEAL 2009 Final Version Due
DESCRIPTION:10TH INTERNATIONAL CONFERENCE ON INTELLIGENT DATA ENGINEERING
  AND AUTOMATED LEARNING
URL:http://www.wikicfp.com/cfp/servlet/event.showcfp?eventid=4578&copyown
 erid=3560
UID:cfp28631-N@wikicfp.com
END:VEVENT
END:VCALENDAR
