BEGIN:VCALENDAR
PRODID:-//WikiCFP//potter_h112 1.0//EN
VERSION:2.0
CALSCALE:GREGORIAN
BEGIN:VEVENT
DTSTAMP:20260421T110211Z
DTSTART;VALUE=DATE:20110609
DTEND;VALUE=DATE:20110902
SUMMARY:IEEE IC Special Issue OSN 2012
DESCRIPTION:IEEE Internet Computing  Call for Papers: Special Issue on In
 frastructures for Online Social Networking Services (May/June 2012)
URL:http://www.wikicfp.com/cfp/servlet/event.showcfp?eventid=16996&copyow
 nerid=35555
UID:cfp248372-E@wikicfp.com
END:VEVENT
BEGIN:VEVENT
DTSTAMP:20260421T110211Z
DTSTART;VALUE=DATE:20110815
SUMMARY:IEEE IC Special Issue OSN 2012 Abstract Due
DESCRIPTION:IEEE Internet Computing  Call for Papers: Special Issue on In
 frastructures for Online Social Networking Services (May/June 2012)
URL:http://www.wikicfp.com/cfp/servlet/event.showcfp?eventid=16996&copyow
 nerid=35555
UID:cfp248372-A@wikicfp.com
END:VEVENT
BEGIN:VEVENT
DTSTAMP:20260421T110211Z
DTSTART;VALUE=DATE:20110901
SUMMARY:IEEE IC Special Issue OSN 2012 Deadline
DESCRIPTION:IEEE Internet Computing  Call for Papers: Special Issue on In
 frastructures for Online Social Networking Services (May/June 2012)
URL:http://www.wikicfp.com/cfp/servlet/event.showcfp?eventid=16996&copyow
 nerid=35555
UID:cfp248372-D@wikicfp.com
END:VEVENT
BEGIN:VEVENT
DTSTAMP:20260421T110211Z
DTSTART;VALUE=DATE:20120113
DTEND;VALUE=DATE:20120116
SUMMARY:ICSIVP 2012
DESCRIPTION:International Conference on Signal Image and Video Processing
  2012
URL:http://www.wikicfp.com/cfp/servlet/event.showcfp?eventid=19396&copyow
 nerid=35555
UID:cfp248366-E@wikicfp.com
END:VEVENT
BEGIN:VEVENT
DTSTAMP:20260421T110211Z
DTSTART;VALUE=DATE:20111110
SUMMARY:ICSIVP 2012 Deadline
DESCRIPTION:International Conference on Signal Image and Video Processing
  2012
URL:http://www.wikicfp.com/cfp/servlet/event.showcfp?eventid=19396&copyow
 nerid=35555
UID:cfp248366-D@wikicfp.com
END:VEVENT
BEGIN:VEVENT
DTSTAMP:20260421T110211Z
DTSTART;VALUE=DATE:20111120
SUMMARY:ICSIVP 2012 Notification Due
DESCRIPTION:International Conference on Signal Image and Video Processing
  2012
URL:http://www.wikicfp.com/cfp/servlet/event.showcfp?eventid=19396&copyow
 nerid=35555
UID:cfp248366-N@wikicfp.com
END:VEVENT
BEGIN:VEVENT
DTSTAMP:20260421T110211Z
DTSTART;VALUE=DATE:20111202
SUMMARY:ICSIVP 2012 Final Version Due
DESCRIPTION:International Conference on Signal Image and Video Processing
  2012
URL:http://www.wikicfp.com/cfp/servlet/event.showcfp?eventid=19396&copyow
 nerid=35555
UID:cfp248366-N@wikicfp.com
END:VEVENT
BEGIN:VEVENT
DTSTAMP:20260421T110211Z
DTSTART;VALUE=DATE:20120329
DTEND;VALUE=DATE:20120402
SUMMARY:ACLA 2012
DESCRIPTION:Representing the Holocaust: Present and Future\, ACLA\, March
  29-April 1\, 2012
URL:http://www.wikicfp.com/cfp/servlet/event.showcfp?eventid=19443&copyow
 nerid=35555
UID:cfp248362-E@wikicfp.com
END:VEVENT
BEGIN:VEVENT
DTSTAMP:20260421T110211Z
DTSTART;VALUE=DATE:20111115
SUMMARY:ACLA 2012 Deadline
DESCRIPTION:Representing the Holocaust: Present and Future\, ACLA\, March
  29-April 1\, 2012
URL:http://www.wikicfp.com/cfp/servlet/event.showcfp?eventid=19443&copyow
 nerid=35555
UID:cfp248362-D@wikicfp.com
END:VEVENT
BEGIN:VEVENT
DTSTAMP:20260421T110211Z
DTSTART;VALUE=DATE:20120716
DTEND;VALUE=DATE:20120718
SUMMARY:IST 2012
DESCRIPTION:IEEE International Conference on Imaging Systems and Techniqu
 es
URL:http://www.wikicfp.com/cfp/servlet/event.showcfp?eventid=19387&copyow
 nerid=35555
UID:cfp248365-E@wikicfp.com
END:VEVENT
BEGIN:VEVENT
DTSTAMP:20260421T110211Z
DTSTART;VALUE=DATE:20120331
SUMMARY:IST 2012 Deadline
DESCRIPTION:IEEE International Conference on Imaging Systems and Techniqu
 es
URL:http://www.wikicfp.com/cfp/servlet/event.showcfp?eventid=19387&copyow
 nerid=35555
UID:cfp248365-D@wikicfp.com
END:VEVENT
BEGIN:VEVENT
DTSTAMP:20260421T110211Z
DTSTART;VALUE=DATE:20120702
DTEND;VALUE=DATE:20120705
SUMMARY:PRNI 2012
DESCRIPTION:2nd International Workshop on Pattern Recognition in NeuroIma
 ging
URL:http://www.wikicfp.com/cfp/servlet/event.showcfp?eventid=21348&copyow
 nerid=35555
UID:cfp248370-E@wikicfp.com
END:VEVENT
BEGIN:VEVENT
DTSTAMP:20260421T110211Z
DTSTART;VALUE=DATE:20120401
SUMMARY:PRNI 2012 Deadline
DESCRIPTION:2nd International Workshop on Pattern Recognition in NeuroIma
 ging
URL:http://www.wikicfp.com/cfp/servlet/event.showcfp?eventid=21348&copyow
 nerid=35555
UID:cfp248370-D@wikicfp.com
END:VEVENT
BEGIN:VEVENT
DTSTAMP:20260421T110211Z
DTSTART;VALUE=DATE:20120402
SUMMARY:SI JRTIP Color 2013 Deadline
DESCRIPTION:Journal of Real-Time Image Processing Special Issue on Real-T
 ime Color Image Processing
URL:http://www.wikicfp.com/cfp/servlet/event.showcfp?eventid=18901&copyow
 nerid=35555
UID:cfp248363-D@wikicfp.com
END:VEVENT
BEGIN:VEVENT
DTSTAMP:20260421T110211Z
DTSTART;VALUE=DATE:20120701
SUMMARY:SI JRTIP Color 2013 Notification Due
DESCRIPTION:Journal of Real-Time Image Processing Special Issue on Real-T
 ime Color Image Processing
URL:http://www.wikicfp.com/cfp/servlet/event.showcfp?eventid=18901&copyow
 nerid=35555
UID:cfp248363-N@wikicfp.com
END:VEVENT
BEGIN:VEVENT
DTSTAMP:20260421T110211Z
DTSTART;VALUE=DATE:20121001
SUMMARY:SI JRTIP Color 2013 Final Version Due
DESCRIPTION:Journal of Real-Time Image Processing Special Issue on Real-T
 ime Color Image Processing
URL:http://www.wikicfp.com/cfp/servlet/event.showcfp?eventid=18901&copyow
 nerid=35555
UID:cfp248363-N@wikicfp.com
END:VEVENT
BEGIN:VEVENT
DTSTAMP:20260421T110211Z
DTSTART;VALUE=DATE:20120402
SUMMARY:SI ISJ Intelligence in Image Processing 2013 Deadline
DESCRIPTION:The Imaging Science Journal Special Issue on Computational In
 telligence in Image Processing
URL:http://www.wikicfp.com/cfp/servlet/event.showcfp?eventid=19223&copyow
 nerid=35555
UID:cfp248364-D@wikicfp.com
END:VEVENT
BEGIN:VEVENT
DTSTAMP:20260421T110211Z
DTSTART;VALUE=DATE:20120701
SUMMARY:SI ISJ Intelligence in Image Processing 2013 Notification Due
DESCRIPTION:The Imaging Science Journal Special Issue on Computational In
 telligence in Image Processing
URL:http://www.wikicfp.com/cfp/servlet/event.showcfp?eventid=19223&copyow
 nerid=35555
UID:cfp248364-N@wikicfp.com
END:VEVENT
BEGIN:VEVENT
DTSTAMP:20260421T110211Z
DTSTART;VALUE=DATE:20121001
SUMMARY:SI ISJ Intelligence in Image Processing 2013 Final Version Due
DESCRIPTION:The Imaging Science Journal Special Issue on Computational In
 telligence in Image Processing
URL:http://www.wikicfp.com/cfp/servlet/event.showcfp?eventid=19223&copyow
 nerid=35555
UID:cfp248364-N@wikicfp.com
END:VEVENT
BEGIN:VEVENT
DTSTAMP:20260421T110211Z
DTSTART;VALUE=DATE:20120402
SUMMARY:ISJ Intelligence in Image Processing 2012 Deadline
DESCRIPTION:Second CFP: The Imaging Science Journal Special Issue on Comp
 utational Intelligence in Image Processing
URL:http://www.wikicfp.com/cfp/servlet/event.showcfp?eventid=21198&copyow
 nerid=35555
UID:cfp248368-D@wikicfp.com
END:VEVENT
BEGIN:VEVENT
DTSTAMP:20260421T110211Z
DTSTART;VALUE=DATE:20120701
SUMMARY:ISJ Intelligence in Image Processing 2012 Notification Due
DESCRIPTION:Second CFP: The Imaging Science Journal Special Issue on Comp
 utational Intelligence in Image Processing
URL:http://www.wikicfp.com/cfp/servlet/event.showcfp?eventid=21198&copyow
 nerid=35555
UID:cfp248368-N@wikicfp.com
END:VEVENT
BEGIN:VEVENT
DTSTAMP:20260421T110211Z
DTSTART;VALUE=DATE:20121001
SUMMARY:ISJ Intelligence in Image Processing 2012 Final Version Due
DESCRIPTION:Second CFP: The Imaging Science Journal Special Issue on Comp
 utational Intelligence in Image Processing
URL:http://www.wikicfp.com/cfp/servlet/event.showcfp?eventid=21198&copyow
 nerid=35555
UID:cfp248368-N@wikicfp.com
END:VEVENT
BEGIN:VEVENT
DTSTAMP:20260421T110211Z
DTSTART;VALUE=DATE:20120402
SUMMARY:SI JRTIP Color 2012 Deadline
DESCRIPTION:Second CFP: Journal of Real-Time Image Processing Special Iss
 ue on Real-Time Color Image Processing
URL:http://www.wikicfp.com/cfp/servlet/event.showcfp?eventid=21199&copyow
 nerid=35555
UID:cfp248369-D@wikicfp.com
END:VEVENT
BEGIN:VEVENT
DTSTAMP:20260421T110211Z
DTSTART;VALUE=DATE:20120701
SUMMARY:SI JRTIP Color 2012 Notification Due
DESCRIPTION:Second CFP: Journal of Real-Time Image Processing Special Iss
 ue on Real-Time Color Image Processing
URL:http://www.wikicfp.com/cfp/servlet/event.showcfp?eventid=21199&copyow
 nerid=35555
UID:cfp248369-N@wikicfp.com
END:VEVENT
BEGIN:VEVENT
DTSTAMP:20260421T110211Z
DTSTART;VALUE=DATE:20121001
SUMMARY:SI JRTIP Color 2012 Final Version Due
DESCRIPTION:Second CFP: Journal of Real-Time Image Processing Special Iss
 ue on Real-Time Color Image Processing
URL:http://www.wikicfp.com/cfp/servlet/event.showcfp?eventid=21199&copyow
 nerid=35555
UID:cfp248369-N@wikicfp.com
END:VEVENT
BEGIN:VEVENT
DTSTAMP:20260421T110211Z
DTSTART;VALUE=DATE:20121127
DTEND;VALUE=DATE:20121201
SUMMARY:VCIP 2012
DESCRIPTION:Visual Communications and Image Processing
URL:http://www.wikicfp.com/cfp/servlet/event.showcfp?eventid=20790&copyow
 nerid=35555
UID:cfp248367-E@wikicfp.com
END:VEVENT
BEGIN:VEVENT
DTSTAMP:20260421T110211Z
DTSTART;VALUE=DATE:20120427
SUMMARY:VCIP 2012 Deadline
DESCRIPTION:Visual Communications and Image Processing
URL:http://www.wikicfp.com/cfp/servlet/event.showcfp?eventid=20790&copyow
 nerid=35555
UID:cfp248367-D@wikicfp.com
END:VEVENT
BEGIN:VEVENT
DTSTAMP:20260421T110211Z
DTSTART;VALUE=DATE:20120803
DTEND;VALUE=DATE:20120805
SUMMARY:ICIIP 2012
DESCRIPTION:2012 International Conference on Image and Information Proces
 sing
URL:http://www.wikicfp.com/cfp/servlet/event.showcfp?eventid=21638&copyow
 nerid=35555
UID:cfp248371-E@wikicfp.com
END:VEVENT
BEGIN:VEVENT
DTSTAMP:20260421T110211Z
DTSTART;VALUE=DATE:20120530
SUMMARY:ICIIP 2012 Deadline
DESCRIPTION:2012 International Conference on Image and Information Proces
 sing
URL:http://www.wikicfp.com/cfp/servlet/event.showcfp?eventid=21638&copyow
 nerid=35555
UID:cfp248371-D@wikicfp.com
END:VEVENT
BEGIN:VEVENT
DTSTAMP:20260421T110211Z
DTSTART;VALUE=DATE:20120615
SUMMARY:ICIIP 2012 Notification Due
DESCRIPTION:2012 International Conference on Image and Information Proces
 sing
URL:http://www.wikicfp.com/cfp/servlet/event.showcfp?eventid=21638&copyow
 nerid=35555
UID:cfp248371-N@wikicfp.com
END:VEVENT
BEGIN:VEVENT
DTSTAMP:20260421T110211Z
DTSTART;VALUE=DATE:20120625
SUMMARY:ICIIP 2012 Final Version Due
DESCRIPTION:2012 International Conference on Image and Information Proces
 sing
URL:http://www.wikicfp.com/cfp/servlet/event.showcfp?eventid=21638&copyow
 nerid=35555
UID:cfp248371-N@wikicfp.com
END:VEVENT
BEGIN:VEVENT
DTSTAMP:20260421T110211Z
DTSTART;VALUE=DATE:20121211
DTEND;VALUE=DATE:20121215
SUMMARY:ROBIO 2012
DESCRIPTION:IEEE International Conference on Robotics and Biomimetics
URL:http://www.wikicfp.com/cfp/servlet/event.showcfp?eventid=21211&copyow
 nerid=35555
UID:cfp248373-E@wikicfp.com
END:VEVENT
BEGIN:VEVENT
DTSTAMP:20260421T110211Z
DTSTART;VALUE=DATE:20120715
SUMMARY:ROBIO 2012 Deadline
DESCRIPTION:IEEE International Conference on Robotics and Biomimetics
URL:http://www.wikicfp.com/cfp/servlet/event.showcfp?eventid=21211&copyow
 nerid=35555
UID:cfp248373-D@wikicfp.com
END:VEVENT
BEGIN:VEVENT
DTSTAMP:20260421T110211Z
DTSTART;VALUE=DATE:20121015
SUMMARY:ROBIO 2012 Notification Due
DESCRIPTION:IEEE International Conference on Robotics and Biomimetics
URL:http://www.wikicfp.com/cfp/servlet/event.showcfp?eventid=21211&copyow
 nerid=35555
UID:cfp248373-N@wikicfp.com
END:VEVENT
BEGIN:VEVENT
DTSTAMP:20260421T110211Z
DTSTART;VALUE=DATE:20121101
SUMMARY:ROBIO 2012 Final Version Due
DESCRIPTION:IEEE International Conference on Robotics and Biomimetics
URL:http://www.wikicfp.com/cfp/servlet/event.showcfp?eventid=21211&copyow
 nerid=35555
UID:cfp248373-N@wikicfp.com
END:VEVENT
END:VCALENDAR
