BEGIN:VCALENDAR
PRODID:-//WikiCFP//nashwaelbendary 1.0//EN
VERSION:2.0
CALSCALE:GREGORIAN
BEGIN:VEVENT
DTSTAMP:20260420T095658Z
DTSTART;VALUE=DATE:20130121
DTEND;VALUE=DATE:20130125
SUMMARY:GCC 2013
DESCRIPTION:Special Session on Green Cloud Computing: Trends and Challeng
 es
URL:http://www.wikicfp.com/cfp/servlet/event.showcfp?eventid=23935&copyow
 nerid=35013
UID:cfp306919-E@wikicfp.com
END:VEVENT
BEGIN:VEVENT
DTSTAMP:20260420T095658Z
DTSTART;VALUE=DATE:20120901
SUMMARY:GCC 2013 Abstract Due
DESCRIPTION:Special Session on Green Cloud Computing: Trends and Challeng
 es
URL:http://www.wikicfp.com/cfp/servlet/event.showcfp?eventid=23935&copyow
 nerid=35013
UID:cfp306919-A@wikicfp.com
END:VEVENT
BEGIN:VEVENT
DTSTAMP:20260420T095658Z
DTSTART;VALUE=DATE:20120901
SUMMARY:GCC 2013 Deadline
DESCRIPTION:Special Session on Green Cloud Computing: Trends and Challeng
 es
URL:http://www.wikicfp.com/cfp/servlet/event.showcfp?eventid=23935&copyow
 nerid=35013
UID:cfp306919-D@wikicfp.com
END:VEVENT
BEGIN:VEVENT
DTSTAMP:20260420T095658Z
DTSTART;VALUE=DATE:20120915
SUMMARY:GCC 2013 Notification Due
DESCRIPTION:Special Session on Green Cloud Computing: Trends and Challeng
 es
URL:http://www.wikicfp.com/cfp/servlet/event.showcfp?eventid=23935&copyow
 nerid=35013
UID:cfp306919-N@wikicfp.com
END:VEVENT
BEGIN:VEVENT
DTSTAMP:20260420T095658Z
DTSTART;VALUE=DATE:20121001
SUMMARY:GCC 2013 Final Version Due
DESCRIPTION:Special Session on Green Cloud Computing: Trends and Challeng
 es
URL:http://www.wikicfp.com/cfp/servlet/event.showcfp?eventid=23935&copyow
 nerid=35013
UID:cfp306919-N@wikicfp.com
END:VEVENT
BEGIN:VEVENT
DTSTAMP:20260420T095658Z
DTSTART;VALUE=DATE:20130207
DTEND;VALUE=DATE:20130209
SUMMARY:EIPT-WSN 2013
DESCRIPTION:Special Session on Energy-efficient Image Processing Techniqu
 es for Wireless Sensor Networks
URL:http://www.wikicfp.com/cfp/servlet/event.showcfp?eventid=26316&copyow
 nerid=35013
UID:cfp306666-E@wikicfp.com
END:VEVENT
BEGIN:VEVENT
DTSTAMP:20260420T095658Z
DTSTART;VALUE=DATE:20121201
SUMMARY:EIPT-WSN 2013 Deadline
DESCRIPTION:Special Session on Energy-efficient Image Processing Techniqu
 es for Wireless Sensor Networks
URL:http://www.wikicfp.com/cfp/servlet/event.showcfp?eventid=26316&copyow
 nerid=35013
UID:cfp306666-D@wikicfp.com
END:VEVENT
BEGIN:VEVENT
DTSTAMP:20260420T095658Z
DTSTART;VALUE=DATE:20121217
SUMMARY:EIPT-WSN 2013 Notification Due
DESCRIPTION:Special Session on Energy-efficient Image Processing Techniqu
 es for Wireless Sensor Networks
URL:http://www.wikicfp.com/cfp/servlet/event.showcfp?eventid=26316&copyow
 nerid=35013
UID:cfp306666-N@wikicfp.com
END:VEVENT
BEGIN:VEVENT
DTSTAMP:20260420T095658Z
DTSTART;VALUE=DATE:20130102
SUMMARY:EIPT-WSN 2013 Final Version Due
DESCRIPTION:Special Session on Energy-efficient Image Processing Techniqu
 es for Wireless Sensor Networks
URL:http://www.wikicfp.com/cfp/servlet/event.showcfp?eventid=26316&copyow
 nerid=35013
UID:cfp306666-N@wikicfp.com
END:VEVENT
BEGIN:VEVENT
DTSTAMP:20260420T095658Z
DTSTART;VALUE=DATE:20141030
DTEND;VALUE=DATE:20141031
SUMMARY:Springer: Comp. Intell. in Hydroinfo. 2014
DESCRIPTION:Call for Book Chapters: Computational Intelligence in Hydroin
 formatics: Current Trends and Open Problems
URL:http://www.wikicfp.com/cfp/servlet/event.showcfp?eventid=32310&copyow
 nerid=35013
UID:cfp378614-E@wikicfp.com
END:VEVENT
BEGIN:VEVENT
DTSTAMP:20260420T095658Z
DTSTART;VALUE=DATE:20140210
SUMMARY:Springer: Comp. Intell. in Hydroinfo. 2014 Abstract Due
DESCRIPTION:Call for Book Chapters: Computational Intelligence in Hydroin
 formatics: Current Trends and Open Problems
URL:http://www.wikicfp.com/cfp/servlet/event.showcfp?eventid=32310&copyow
 nerid=35013
UID:cfp378614-A@wikicfp.com
END:VEVENT
BEGIN:VEVENT
DTSTAMP:20260420T095658Z
DTSTART;VALUE=DATE:20140228
SUMMARY:Springer: Comp. Intell. in Hydroinfo. 2014 Deadline
DESCRIPTION:Call for Book Chapters: Computational Intelligence in Hydroin
 formatics: Current Trends and Open Problems
URL:http://www.wikicfp.com/cfp/servlet/event.showcfp?eventid=32310&copyow
 nerid=35013
UID:cfp378614-D@wikicfp.com
END:VEVENT
BEGIN:VEVENT
DTSTAMP:20260420T095658Z
DTSTART;VALUE=DATE:20140501
SUMMARY:Springer: Comp. Intell. in Hydroinfo. 2014 Notification Due
DESCRIPTION:Call for Book Chapters: Computational Intelligence in Hydroin
 formatics: Current Trends and Open Problems
URL:http://www.wikicfp.com/cfp/servlet/event.showcfp?eventid=32310&copyow
 nerid=35013
UID:cfp378614-N@wikicfp.com
END:VEVENT
BEGIN:VEVENT
DTSTAMP:20260420T095658Z
DTSTART;VALUE=DATE:20140610
SUMMARY:Springer: Comp. Intell. in Hydroinfo. 2014 Final Version Due
DESCRIPTION:Call for Book Chapters: Computational Intelligence in Hydroin
 formatics: Current Trends and Open Problems
URL:http://www.wikicfp.com/cfp/servlet/event.showcfp?eventid=32310&copyow
 nerid=35013
UID:cfp378614-N@wikicfp.com
END:VEVENT
BEGIN:VEVENT
DTSTAMP:20260420T095658Z
DTSTART;VALUE=DATE:20140907
DTEND;VALUE=DATE:20140911
SUMMARY:TAIE 2014
DESCRIPTION:Workshop on Trends and Applications in Intelligent Environmen
 ts
URL:http://www.wikicfp.com/cfp/servlet/event.showcfp?eventid=34176&copyow
 nerid=35013
UID:cfp404856-E@wikicfp.com
END:VEVENT
BEGIN:VEVENT
DTSTAMP:20260420T095658Z
DTSTART;VALUE=DATE:20140423
SUMMARY:TAIE 2014 Deadline
DESCRIPTION:Workshop on Trends and Applications in Intelligent Environmen
 ts
URL:http://www.wikicfp.com/cfp/servlet/event.showcfp?eventid=34176&copyow
 nerid=35013
UID:cfp404856-D@wikicfp.com
END:VEVENT
BEGIN:VEVENT
DTSTAMP:20260420T095658Z
DTSTART;VALUE=DATE:20140519
SUMMARY:TAIE 2014 Notification Due
DESCRIPTION:Workshop on Trends and Applications in Intelligent Environmen
 ts
URL:http://www.wikicfp.com/cfp/servlet/event.showcfp?eventid=34176&copyow
 nerid=35013
UID:cfp404856-N@wikicfp.com
END:VEVENT
BEGIN:VEVENT
DTSTAMP:20260420T095658Z
DTSTART;VALUE=DATE:20140617
SUMMARY:TAIE 2014 Final Version Due
DESCRIPTION:Workshop on Trends and Applications in Intelligent Environmen
 ts
URL:http://www.wikicfp.com/cfp/servlet/event.showcfp?eventid=34176&copyow
 nerid=35013
UID:cfp404856-N@wikicfp.com
END:VEVENT
BEGIN:VEVENT
DTSTAMP:20260420T095658Z
DTSTART;VALUE=DATE:20140915
DTEND;VALUE=DATE:20140918
SUMMARY:AIEM 2014
DESCRIPTION:Workshop on Advances in Intelligent Environmental Monitoring 
 
URL:http://www.wikicfp.com/cfp/servlet/event.showcfp?eventid=34698&copyow
 nerid=35013
UID:cfp409969-E@wikicfp.com
END:VEVENT
BEGIN:VEVENT
DTSTAMP:20260420T095658Z
DTSTART;VALUE=DATE:20140528
SUMMARY:AIEM 2014 Abstract Due
DESCRIPTION:Workshop on Advances in Intelligent Environmental Monitoring 
 
URL:http://www.wikicfp.com/cfp/servlet/event.showcfp?eventid=34698&copyow
 nerid=35013
UID:cfp409969-A@wikicfp.com
END:VEVENT
BEGIN:VEVENT
DTSTAMP:20260420T095658Z
DTSTART;VALUE=DATE:20140528
SUMMARY:AIEM 2014 Deadline
DESCRIPTION:Workshop on Advances in Intelligent Environmental Monitoring 
 
URL:http://www.wikicfp.com/cfp/servlet/event.showcfp?eventid=34698&copyow
 nerid=35013
UID:cfp409969-D@wikicfp.com
END:VEVENT
BEGIN:VEVENT
DTSTAMP:20260420T095658Z
DTSTART;VALUE=DATE:20140713
SUMMARY:AIEM 2014 Notification Due
DESCRIPTION:Workshop on Advances in Intelligent Environmental Monitoring 
 
URL:http://www.wikicfp.com/cfp/servlet/event.showcfp?eventid=34698&copyow
 nerid=35013
UID:cfp409969-N@wikicfp.com
END:VEVENT
BEGIN:VEVENT
DTSTAMP:20260420T095658Z
DTSTART;VALUE=DATE:20140807
SUMMARY:AIEM 2014 Final Version Due
DESCRIPTION:Workshop on Advances in Intelligent Environmental Monitoring 
 
URL:http://www.wikicfp.com/cfp/servlet/event.showcfp?eventid=34698&copyow
 nerid=35013
UID:cfp409969-N@wikicfp.com
END:VEVENT
BEGIN:VEVENT
DTSTAMP:20260420T095658Z
DTSTART;VALUE=DATE:20141128
DTEND;VALUE=DATE:20141201
SUMMARY:AMLTA 2014
DESCRIPTION:The 2nd  International Conference on Advanced Machine Learnin
 g Technologies and Applications
URL:http://www.wikicfp.com/cfp/servlet/event.showcfp?eventid=36899&copyow
 nerid=35013
UID:cfp435215-E@wikicfp.com
END:VEVENT
BEGIN:VEVENT
DTSTAMP:20260420T095658Z
DTSTART;VALUE=DATE:20140520
SUMMARY:AMLTA 2014 Abstract Due
DESCRIPTION:The 2nd  International Conference on Advanced Machine Learnin
 g Technologies and Applications
URL:http://www.wikicfp.com/cfp/servlet/event.showcfp?eventid=36899&copyow
 nerid=35013
UID:cfp435215-A@wikicfp.com
END:VEVENT
BEGIN:VEVENT
DTSTAMP:20260420T095658Z
DTSTART;VALUE=DATE:20140630
SUMMARY:AMLTA 2014 Deadline
DESCRIPTION:The 2nd  International Conference on Advanced Machine Learnin
 g Technologies and Applications
URL:http://www.wikicfp.com/cfp/servlet/event.showcfp?eventid=36899&copyow
 nerid=35013
UID:cfp435215-D@wikicfp.com
END:VEVENT
BEGIN:VEVENT
DTSTAMP:20260420T095658Z
DTSTART;VALUE=DATE:20140810
SUMMARY:AMLTA 2014 Notification Due
DESCRIPTION:The 2nd  International Conference on Advanced Machine Learnin
 g Technologies and Applications
URL:http://www.wikicfp.com/cfp/servlet/event.showcfp?eventid=36899&copyow
 nerid=35013
UID:cfp435215-N@wikicfp.com
END:VEVENT
BEGIN:VEVENT
DTSTAMP:20260420T095658Z
DTSTART;VALUE=DATE:20140901
SUMMARY:AMLTA 2014 Final Version Due
DESCRIPTION:The 2nd  International Conference on Advanced Machine Learnin
 g Technologies and Applications
URL:http://www.wikicfp.com/cfp/servlet/event.showcfp?eventid=36899&copyow
 nerid=35013
UID:cfp435215-N@wikicfp.com
END:VEVENT
BEGIN:VEVENT
DTSTAMP:20260420T095658Z
DTSTART;VALUE=DATE:20150420
DTEND;VALUE=DATE:20150423
SUMMARY:Assistive IT for People with Disabilitie 2015
DESCRIPTION:Special session on Assistive Information Technology for Peopl
 e with Disabilities
URL:http://www.wikicfp.com/cfp/servlet/event.showcfp?eventid=43588&copyow
 nerid=35013
UID:cfp504636-E@wikicfp.com
END:VEVENT
BEGIN:VEVENT
DTSTAMP:20260420T095658Z
DTSTART;VALUE=DATE:20150228
SUMMARY:Assistive IT for People with Disabilitie 2015 Deadline
DESCRIPTION:Special session on Assistive Information Technology for Peopl
 e with Disabilities
URL:http://www.wikicfp.com/cfp/servlet/event.showcfp?eventid=43588&copyow
 nerid=35013
UID:cfp504636-D@wikicfp.com
END:VEVENT
BEGIN:VEVENT
DTSTAMP:20260420T095658Z
DTSTART;VALUE=DATE:20150307
SUMMARY:Assistive IT for People with Disabilitie 2015 Notification Due
DESCRIPTION:Special session on Assistive Information Technology for Peopl
 e with Disabilities
URL:http://www.wikicfp.com/cfp/servlet/event.showcfp?eventid=43588&copyow
 nerid=35013
UID:cfp504636-N@wikicfp.com
END:VEVENT
BEGIN:VEVENT
DTSTAMP:20260420T095658Z
DTSTART;VALUE=DATE:20150315
SUMMARY:Assistive IT for People with Disabilitie 2015 Final Version Due
DESCRIPTION:Special session on Assistive Information Technology for Peopl
 e with Disabilities
URL:http://www.wikicfp.com/cfp/servlet/event.showcfp?eventid=43588&copyow
 nerid=35013
UID:cfp504636-N@wikicfp.com
END:VEVENT
BEGIN:VEVENT
DTSTAMP:20260420T095658Z
DTSTART;VALUE=DATE:20151128
DTEND;VALUE=DATE:20151201
SUMMARY:AISI 2015
DESCRIPTION:International Conference on Advanced Intelligent Systems and 
 Informatics
URL:http://www.wikicfp.com/cfp/servlet/event.showcfp?eventid=43816&copyow
 nerid=35013
UID:cfp506673-E@wikicfp.com
END:VEVENT
BEGIN:VEVENT
DTSTAMP:20260420T095658Z
DTSTART;VALUE=DATE:20150615
SUMMARY:AISI 2015 Deadline
DESCRIPTION:International Conference on Advanced Intelligent Systems and 
 Informatics
URL:http://www.wikicfp.com/cfp/servlet/event.showcfp?eventid=43816&copyow
 nerid=35013
UID:cfp506673-D@wikicfp.com
END:VEVENT
BEGIN:VEVENT
DTSTAMP:20260420T095658Z
DTSTART;VALUE=DATE:20150730
SUMMARY:AISI 2015 Notification Due
DESCRIPTION:International Conference on Advanced Intelligent Systems and 
 Informatics
URL:http://www.wikicfp.com/cfp/servlet/event.showcfp?eventid=43816&copyow
 nerid=35013
UID:cfp506673-N@wikicfp.com
END:VEVENT
BEGIN:VEVENT
DTSTAMP:20260420T095658Z
DTSTART;VALUE=DATE:20150815
SUMMARY:AISI 2015 Final Version Due
DESCRIPTION:International Conference on Advanced Intelligent Systems and 
 Informatics
URL:http://www.wikicfp.com/cfp/servlet/event.showcfp?eventid=43816&copyow
 nerid=35013
UID:cfp506673-N@wikicfp.com
END:VEVENT
BEGIN:VEVENT
DTSTAMP:20260420T095658Z
DTSTART;VALUE=DATE:20151206
DTEND;VALUE=DATE:20151207
SUMMARY:ICECS 2015
DESCRIPTION:IEEE International Conference on Electronics\, Circuits\, and
  Systems
URL:http://www.wikicfp.com/cfp/servlet/event.showcfp?eventid=45537&copyow
 nerid=35013
UID:cfp523611-E@wikicfp.com
END:VEVENT
BEGIN:VEVENT
DTSTAMP:20260420T095658Z
DTSTART;VALUE=DATE:20150601
SUMMARY:ICECS 2015 Abstract Due
DESCRIPTION:IEEE International Conference on Electronics\, Circuits\, and
  Systems
URL:http://www.wikicfp.com/cfp/servlet/event.showcfp?eventid=45537&copyow
 nerid=35013
UID:cfp523611-A@wikicfp.com
END:VEVENT
BEGIN:VEVENT
DTSTAMP:20260420T095658Z
DTSTART;VALUE=DATE:20150620
SUMMARY:ICECS 2015 Deadline
DESCRIPTION:IEEE International Conference on Electronics\, Circuits\, and
  Systems
URL:http://www.wikicfp.com/cfp/servlet/event.showcfp?eventid=45537&copyow
 nerid=35013
UID:cfp523611-D@wikicfp.com
END:VEVENT
BEGIN:VEVENT
DTSTAMP:20260420T095658Z
DTSTART;VALUE=DATE:20150915
SUMMARY:ICECS 2015 Notification Due
DESCRIPTION:IEEE International Conference on Electronics\, Circuits\, and
  Systems
URL:http://www.wikicfp.com/cfp/servlet/event.showcfp?eventid=45537&copyow
 nerid=35013
UID:cfp523611-N@wikicfp.com
END:VEVENT
BEGIN:VEVENT
DTSTAMP:20260420T095658Z
DTSTART;VALUE=DATE:20150930
SUMMARY:ICECS 2015 Final Version Due
DESCRIPTION:IEEE International Conference on Electronics\, Circuits\, and
  Systems
URL:http://www.wikicfp.com/cfp/servlet/event.showcfp?eventid=45537&copyow
 nerid=35013
UID:cfp523611-N@wikicfp.com
END:VEVENT
BEGIN:VEVENT
DTSTAMP:20260420T095658Z
DTSTART;VALUE=DATE:20161024
DTEND;VALUE=DATE:20161027
SUMMARY:ISSL 2016
DESCRIPTION:Special Session on: Intelligent Systems for Smart Life 
URL:http://www.wikicfp.com/cfp/servlet/event.showcfp?eventid=51776&copyow
 nerid=35013
UID:cfp580822-E@wikicfp.com
END:VEVENT
BEGIN:VEVENT
DTSTAMP:20260420T095658Z
DTSTART;VALUE=DATE:20160430
SUMMARY:ISSL 2016 Deadline
DESCRIPTION:Special Session on: Intelligent Systems for Smart Life 
URL:http://www.wikicfp.com/cfp/servlet/event.showcfp?eventid=51776&copyow
 nerid=35013
UID:cfp580822-D@wikicfp.com
END:VEVENT
BEGIN:VEVENT
DTSTAMP:20260420T095658Z
DTSTART;VALUE=DATE:20160630
SUMMARY:ISSL 2016 Notification Due
DESCRIPTION:Special Session on: Intelligent Systems for Smart Life 
URL:http://www.wikicfp.com/cfp/servlet/event.showcfp?eventid=51776&copyow
 nerid=35013
UID:cfp580822-N@wikicfp.com
END:VEVENT
BEGIN:VEVENT
DTSTAMP:20260420T095658Z
DTSTART;VALUE=DATE:20160815
SUMMARY:ISSL 2016 Final Version Due
DESCRIPTION:Special Session on: Intelligent Systems for Smart Life 
URL:http://www.wikicfp.com/cfp/servlet/event.showcfp?eventid=51776&copyow
 nerid=35013
UID:cfp580822-N@wikicfp.com
END:VEVENT
BEGIN:VEVENT
DTSTAMP:20260420T095658Z
DTSTART;VALUE=DATE:20161024
DTEND;VALUE=DATE:20161027
SUMMARY:AISI 2016
DESCRIPTION:The 2nd International Conference on Advanced Intelligent Syst
 ems and Informatics (AISIâ16)
URL:http://www.wikicfp.com/cfp/servlet/event.showcfp?eventid=51777&copyow
 nerid=35013
UID:cfp580823-E@wikicfp.com
END:VEVENT
BEGIN:VEVENT
DTSTAMP:20260420T095658Z
DTSTART;VALUE=DATE:20160430
SUMMARY:AISI 2016 Deadline
DESCRIPTION:The 2nd International Conference on Advanced Intelligent Syst
 ems and Informatics (AISIâ16)
URL:http://www.wikicfp.com/cfp/servlet/event.showcfp?eventid=51777&copyow
 nerid=35013
UID:cfp580823-D@wikicfp.com
END:VEVENT
BEGIN:VEVENT
DTSTAMP:20260420T095658Z
DTSTART;VALUE=DATE:20160630
SUMMARY:AISI 2016 Notification Due
DESCRIPTION:The 2nd International Conference on Advanced Intelligent Syst
 ems and Informatics (AISIâ16)
URL:http://www.wikicfp.com/cfp/servlet/event.showcfp?eventid=51777&copyow
 nerid=35013
UID:cfp580823-N@wikicfp.com
END:VEVENT
BEGIN:VEVENT
DTSTAMP:20260420T095658Z
DTSTART;VALUE=DATE:20160815
SUMMARY:AISI 2016 Final Version Due
DESCRIPTION:The 2nd International Conference on Advanced Intelligent Syst
 ems and Informatics (AISIâ16)
URL:http://www.wikicfp.com/cfp/servlet/event.showcfp?eventid=51777&copyow
 nerid=35013
UID:cfp580823-N@wikicfp.com
END:VEVENT
END:VCALENDAR
