BEGIN:VCALENDAR
PRODID:-//WikiCFP//rajashahjahan 1.0//EN
VERSION:2.0
CALSCALE:GREGORIAN
BEGIN:VEVENT
DTSTAMP:20260425T000235Z
DTSTART;VALUE=DATE:20121008
DTEND;VALUE=DATE:20121013
SUMMARY:ISMIR 2012
DESCRIPTION:13th International Society for Music Information Retrieval Co
 nference
URL:http://www.wikicfp.com/cfp/servlet/event.showcfp?eventid=19623&copyow
 nerid=35003
UID:cfp244278-E@wikicfp.com
END:VEVENT
BEGIN:VEVENT
DTSTAMP:20260425T000235Z
DTSTART;VALUE=DATE:20120413
SUMMARY:ISMIR 2012 Deadline
DESCRIPTION:13th International Society for Music Information Retrieval Co
 nference
URL:http://www.wikicfp.com/cfp/servlet/event.showcfp?eventid=19623&copyow
 nerid=35003
UID:cfp244278-D@wikicfp.com
END:VEVENT
BEGIN:VEVENT
DTSTAMP:20260425T000235Z
DTSTART;VALUE=DATE:20120608
SUMMARY:ISMIR 2012 Notification Due
DESCRIPTION:13th International Society for Music Information Retrieval Co
 nference
URL:http://www.wikicfp.com/cfp/servlet/event.showcfp?eventid=19623&copyow
 nerid=35003
UID:cfp244278-N@wikicfp.com
END:VEVENT
BEGIN:VEVENT
DTSTAMP:20260425T000235Z
DTSTART;VALUE=DATE:20120618
SUMMARY:ISMIR 2012 Final Version Due
DESCRIPTION:13th International Society for Music Information Retrieval Co
 nference
URL:http://www.wikicfp.com/cfp/servlet/event.showcfp?eventid=19623&copyow
 nerid=35003
UID:cfp244278-N@wikicfp.com
END:VEVENT
BEGIN:VEVENT
DTSTAMP:20260425T000235Z
DTSTART;VALUE=DATE:20120817
DTEND;VALUE=DATE:20120821
SUMMARY:EECS 2012
DESCRIPTION:International Conference on Electrical Engineering and Comput
 er Science
URL:http://www.wikicfp.com/cfp/servlet/event.showcfp?eventid=20101&copyow
 nerid=35003
UID:cfp244293-E@wikicfp.com
END:VEVENT
BEGIN:VEVENT
DTSTAMP:20260425T000235Z
DTSTART;VALUE=DATE:20120415
SUMMARY:EECS 2012 Deadline
DESCRIPTION:International Conference on Electrical Engineering and Comput
 er Science
URL:http://www.wikicfp.com/cfp/servlet/event.showcfp?eventid=20101&copyow
 nerid=35003
UID:cfp244293-D@wikicfp.com
END:VEVENT
BEGIN:VEVENT
DTSTAMP:20260425T000235Z
DTSTART;VALUE=DATE:20120817
DTEND;VALUE=DATE:20120821
SUMMARY:EECS - 2012
DESCRIPTION:2012 International Conference on Electrical Engineering and C
 omputer Science (ISTP/EI)
URL:http://www.wikicfp.com/cfp/servlet/event.showcfp?eventid=20735&copyow
 nerid=35003
UID:cfp244285-E@wikicfp.com
END:VEVENT
BEGIN:VEVENT
DTSTAMP:20260425T000235Z
DTSTART;VALUE=DATE:20120415
SUMMARY:EECS - 2012 Deadline
DESCRIPTION:2012 International Conference on Electrical Engineering and C
 omputer Science (ISTP/EI)
URL:http://www.wikicfp.com/cfp/servlet/event.showcfp?eventid=20735&copyow
 nerid=35003
UID:cfp244285-D@wikicfp.com
END:VEVENT
BEGIN:VEVENT
DTSTAMP:20260425T000235Z
DTSTART;VALUE=DATE:20120515
SUMMARY:EECS - 2012 Notification Due
DESCRIPTION:2012 International Conference on Electrical Engineering and C
 omputer Science (ISTP/EI)
URL:http://www.wikicfp.com/cfp/servlet/event.showcfp?eventid=20735&copyow
 nerid=35003
UID:cfp244285-N@wikicfp.com
END:VEVENT
BEGIN:VEVENT
DTSTAMP:20260425T000235Z
DTSTART;VALUE=DATE:20120615
DTEND;VALUE=DATE:20120618
SUMMARY:ACCOMS 2012
DESCRIPTION:The Asian Conference on Computer Science 2012
URL:http://www.wikicfp.com/cfp/servlet/event.showcfp?eventid=21128&copyow
 nerid=35003
UID:cfp244290-E@wikicfp.com
END:VEVENT
BEGIN:VEVENT
DTSTAMP:20260425T000235Z
DTSTART;VALUE=DATE:20120415
SUMMARY:ACCOMS 2012 Deadline
DESCRIPTION:The Asian Conference on Computer Science 2012
URL:http://www.wikicfp.com/cfp/servlet/event.showcfp?eventid=21128&copyow
 nerid=35003
UID:cfp244290-D@wikicfp.com
END:VEVENT
BEGIN:VEVENT
DTSTAMP:20260425T000235Z
DTSTART;VALUE=DATE:20120801
SUMMARY:ACCOMS 2012 Final Version Due
DESCRIPTION:The Asian Conference on Computer Science 2012
URL:http://www.wikicfp.com/cfp/servlet/event.showcfp?eventid=21128&copyow
 nerid=35003
UID:cfp244290-N@wikicfp.com
END:VEVENT
BEGIN:VEVENT
DTSTAMP:20260425T000235Z
DTSTART;VALUE=DATE:20120825
DTEND;VALUE=DATE:20120827
SUMMARY:ISIE 2012
DESCRIPTION:The 2012 2th International Conference on Intelligence Science
  and Information Engineering 
URL:http://www.wikicfp.com/cfp/servlet/event.showcfp?eventid=20066&copyow
 nerid=35003
UID:cfp244282-E@wikicfp.com
END:VEVENT
BEGIN:VEVENT
DTSTAMP:20260425T000235Z
DTSTART;VALUE=DATE:20120418
SUMMARY:ISIE 2012 Deadline
DESCRIPTION:The 2012 2th International Conference on Intelligence Science
  and Information Engineering 
URL:http://www.wikicfp.com/cfp/servlet/event.showcfp?eventid=20066&copyow
 nerid=35003
UID:cfp244282-D@wikicfp.com
END:VEVENT
BEGIN:VEVENT
DTSTAMP:20260425T000235Z
DTSTART;VALUE=DATE:20120518
SUMMARY:ISIE 2012 Notification Due
DESCRIPTION:The 2012 2th International Conference on Intelligence Science
  and Information Engineering 
URL:http://www.wikicfp.com/cfp/servlet/event.showcfp?eventid=20066&copyow
 nerid=35003
UID:cfp244282-N@wikicfp.com
END:VEVENT
BEGIN:VEVENT
DTSTAMP:20260425T000235Z
DTSTART;VALUE=DATE:20120618
SUMMARY:ISIE 2012 Final Version Due
DESCRIPTION:The 2012 2th International Conference on Intelligence Science
  and Information Engineering 
URL:http://www.wikicfp.com/cfp/servlet/event.showcfp?eventid=20066&copyow
 nerid=35003
UID:cfp244282-N@wikicfp.com
END:VEVENT
BEGIN:VEVENT
DTSTAMP:20260425T000235Z
DTSTART;VALUE=DATE:20120923
DTEND;VALUE=DATE:20121001
SUMMARY:ICSM 2012
DESCRIPTION:28th IEEE International Conference on SOFTWARE MAINTENANCE 
URL:http://www.wikicfp.com/cfp/servlet/event.showcfp?eventid=18545&copyow
 nerid=35003
UID:cfp244276-E@wikicfp.com
END:VEVENT
BEGIN:VEVENT
DTSTAMP:20260425T000235Z
DTSTART;VALUE=DATE:20120415
SUMMARY:ICSM 2012 Abstract Due
DESCRIPTION:28th IEEE International Conference on SOFTWARE MAINTENANCE 
URL:http://www.wikicfp.com/cfp/servlet/event.showcfp?eventid=18545&copyow
 nerid=35003
UID:cfp244276-A@wikicfp.com
END:VEVENT
BEGIN:VEVENT
DTSTAMP:20260425T000235Z
DTSTART;VALUE=DATE:20120420
SUMMARY:ICSM 2012 Deadline
DESCRIPTION:28th IEEE International Conference on SOFTWARE MAINTENANCE 
URL:http://www.wikicfp.com/cfp/servlet/event.showcfp?eventid=18545&copyow
 nerid=35003
UID:cfp244276-D@wikicfp.com
END:VEVENT
BEGIN:VEVENT
DTSTAMP:20260425T000235Z
DTSTART;VALUE=DATE:20120620
SUMMARY:ICSM 2012 Notification Due
DESCRIPTION:28th IEEE International Conference on SOFTWARE MAINTENANCE 
URL:http://www.wikicfp.com/cfp/servlet/event.showcfp?eventid=18545&copyow
 nerid=35003
UID:cfp244276-N@wikicfp.com
END:VEVENT
BEGIN:VEVENT
DTSTAMP:20260425T000235Z
DTSTART;VALUE=DATE:20120713
SUMMARY:ICSM 2012 Final Version Due
DESCRIPTION:28th IEEE International Conference on SOFTWARE MAINTENANCE 
URL:http://www.wikicfp.com/cfp/servlet/event.showcfp?eventid=18545&copyow
 nerid=35003
UID:cfp244276-N@wikicfp.com
END:VEVENT
BEGIN:VEVENT
DTSTAMP:20260425T000235Z
DTSTART;VALUE=DATE:20120909
DTEND;VALUE=DATE:20120913
SUMMARY:FedCSIS 2012
DESCRIPTION:Federated Conference on Computer Science and Information Syst
 ems
URL:http://www.wikicfp.com/cfp/servlet/event.showcfp?eventid=20607&copyow
 nerid=35003
UID:cfp244284-E@wikicfp.com
END:VEVENT
BEGIN:VEVENT
DTSTAMP:20260425T000235Z
DTSTART;VALUE=DATE:20120422
SUMMARY:FedCSIS 2012 Deadline
DESCRIPTION:Federated Conference on Computer Science and Information Syst
 ems
URL:http://www.wikicfp.com/cfp/servlet/event.showcfp?eventid=20607&copyow
 nerid=35003
UID:cfp244284-D@wikicfp.com
END:VEVENT
BEGIN:VEVENT
DTSTAMP:20260425T000235Z
DTSTART;VALUE=DATE:20120617
SUMMARY:FedCSIS 2012 Notification Due
DESCRIPTION:Federated Conference on Computer Science and Information Syst
 ems
URL:http://www.wikicfp.com/cfp/servlet/event.showcfp?eventid=20607&copyow
 nerid=35003
UID:cfp244284-N@wikicfp.com
END:VEVENT
BEGIN:VEVENT
DTSTAMP:20260425T000235Z
DTSTART;VALUE=DATE:20120708
SUMMARY:FedCSIS 2012 Final Version Due
DESCRIPTION:Federated Conference on Computer Science and Information Syst
 ems
URL:http://www.wikicfp.com/cfp/servlet/event.showcfp?eventid=20607&copyow
 nerid=35003
UID:cfp244284-N@wikicfp.com
END:VEVENT
BEGIN:VEVENT
DTSTAMP:20260425T000235Z
DTSTART;VALUE=DATE:20121002
DTEND;VALUE=DATE:20121006
SUMMARY:G&SM 2012
DESCRIPTION:Gaming & Social Media 2012
URL:http://www.wikicfp.com/cfp/servlet/event.showcfp?eventid=21127&copyow
 nerid=35003
UID:cfp244289-E@wikicfp.com
END:VEVENT
BEGIN:VEVENT
DTSTAMP:20260425T000235Z
DTSTART;VALUE=DATE:20120416
SUMMARY:G&SM 2012 Abstract Due
DESCRIPTION:Gaming & Social Media 2012
URL:http://www.wikicfp.com/cfp/servlet/event.showcfp?eventid=21127&copyow
 nerid=35003
UID:cfp244289-A@wikicfp.com
END:VEVENT
BEGIN:VEVENT
DTSTAMP:20260425T000235Z
DTSTART;VALUE=DATE:20120423
SUMMARY:G&SM 2012 Deadline
DESCRIPTION:Gaming & Social Media 2012
URL:http://www.wikicfp.com/cfp/servlet/event.showcfp?eventid=21127&copyow
 nerid=35003
UID:cfp244289-D@wikicfp.com
END:VEVENT
BEGIN:VEVENT
DTSTAMP:20260425T000235Z
DTSTART;VALUE=DATE:20120528
SUMMARY:G&SM 2012 Notification Due
DESCRIPTION:Gaming & Social Media 2012
URL:http://www.wikicfp.com/cfp/servlet/event.showcfp?eventid=21127&copyow
 nerid=35003
UID:cfp244289-N@wikicfp.com
END:VEVENT
BEGIN:VEVENT
DTSTAMP:20260425T000235Z
DTSTART;VALUE=DATE:20120618
SUMMARY:G&SM 2012 Final Version Due
DESCRIPTION:Gaming & Social Media 2012
URL:http://www.wikicfp.com/cfp/servlet/event.showcfp?eventid=21127&copyow
 nerid=35003
UID:cfp244289-N@wikicfp.com
END:VEVENT
BEGIN:VEVENT
DTSTAMP:20260425T000235Z
DTSTART;VALUE=DATE:20120903
DTEND;VALUE=DATE:20120906
SUMMARY:IEEE P2P 2012
DESCRIPTION:IEEE International Conference on Peer-to-Peer Computing 
URL:http://www.wikicfp.com/cfp/servlet/event.showcfp?eventid=21272&copyow
 nerid=35003
UID:cfp244292-E@wikicfp.com
END:VEVENT
BEGIN:VEVENT
DTSTAMP:20260425T000235Z
DTSTART;VALUE=DATE:20120406
SUMMARY:IEEE P2P 2012 Abstract Due
DESCRIPTION:IEEE International Conference on Peer-to-Peer Computing 
URL:http://www.wikicfp.com/cfp/servlet/event.showcfp?eventid=21272&copyow
 nerid=35003
UID:cfp244292-A@wikicfp.com
END:VEVENT
BEGIN:VEVENT
DTSTAMP:20260425T000235Z
DTSTART;VALUE=DATE:20120424
SUMMARY:IEEE P2P 2012 Deadline
DESCRIPTION:IEEE International Conference on Peer-to-Peer Computing 
URL:http://www.wikicfp.com/cfp/servlet/event.showcfp?eventid=21272&copyow
 nerid=35003
UID:cfp244292-D@wikicfp.com
END:VEVENT
BEGIN:VEVENT
DTSTAMP:20260425T000235Z
DTSTART;VALUE=DATE:20120709
SUMMARY:IEEE P2P 2012 Notification Due
DESCRIPTION:IEEE International Conference on Peer-to-Peer Computing 
URL:http://www.wikicfp.com/cfp/servlet/event.showcfp?eventid=21272&copyow
 nerid=35003
UID:cfp244292-N@wikicfp.com
END:VEVENT
BEGIN:VEVENT
DTSTAMP:20260425T000235Z
DTSTART;VALUE=DATE:20120720
SUMMARY:IEEE P2P 2012 Final Version Due
DESCRIPTION:IEEE International Conference on Peer-to-Peer Computing 
URL:http://www.wikicfp.com/cfp/servlet/event.showcfp?eventid=21272&copyow
 nerid=35003
UID:cfp244292-N@wikicfp.com
END:VEVENT
BEGIN:VEVENT
DTSTAMP:20260425T000235Z
DTSTART;VALUE=DATE:20120720
DTEND;VALUE=DATE:20120721
SUMMARY:DMLS 2012
DESCRIPTION:Workshop on Data Mining in Life Sciences 
URL:http://www.wikicfp.com/cfp/servlet/event.showcfp?eventid=19721&copyow
 nerid=35003
UID:cfp244280-E@wikicfp.com
END:VEVENT
BEGIN:VEVENT
DTSTAMP:20260425T000235Z
DTSTART;VALUE=DATE:20120429
SUMMARY:DMLS 2012 Deadline
DESCRIPTION:Workshop on Data Mining in Life Sciences 
URL:http://www.wikicfp.com/cfp/servlet/event.showcfp?eventid=19721&copyow
 nerid=35003
UID:cfp244280-D@wikicfp.com
END:VEVENT
BEGIN:VEVENT
DTSTAMP:20260425T000235Z
DTSTART;VALUE=DATE:20120515
SUMMARY:DMLS 2012 Notification Due
DESCRIPTION:Workshop on Data Mining in Life Sciences 
URL:http://www.wikicfp.com/cfp/servlet/event.showcfp?eventid=19721&copyow
 nerid=35003
UID:cfp244280-N@wikicfp.com
END:VEVENT
BEGIN:VEVENT
DTSTAMP:20260425T000235Z
DTSTART;VALUE=DATE:20120528
SUMMARY:DMLS 2012 Final Version Due
DESCRIPTION:Workshop on Data Mining in Life Sciences 
URL:http://www.wikicfp.com/cfp/servlet/event.showcfp?eventid=19721&copyow
 nerid=35003
UID:cfp244280-N@wikicfp.com
END:VEVENT
BEGIN:VEVENT
DTSTAMP:20260425T000235Z
DTSTART;VALUE=DATE:20120702
DTEND;VALUE=DATE:20120707
SUMMARY:CMMSE 2012
DESCRIPTION:12th International Conference Computational and mathematical 
 methods in Science and Engineering
URL:http://www.wikicfp.com/cfp/servlet/event.showcfp?eventid=20356&copyow
 nerid=35003
UID:cfp244283-E@wikicfp.com
END:VEVENT
BEGIN:VEVENT
DTSTAMP:20260425T000235Z
DTSTART;VALUE=DATE:20120517
SUMMARY:CMMSE 2012 Deadline
DESCRIPTION:12th International Conference Computational and mathematical 
 methods in Science and Engineering
URL:http://www.wikicfp.com/cfp/servlet/event.showcfp?eventid=20356&copyow
 nerid=35003
UID:cfp244283-D@wikicfp.com
END:VEVENT
BEGIN:VEVENT
DTSTAMP:20260425T000235Z
DTSTART;VALUE=DATE:20120521
SUMMARY:CMMSE 2012 Notification Due
DESCRIPTION:12th International Conference Computational and mathematical 
 methods in Science and Engineering
URL:http://www.wikicfp.com/cfp/servlet/event.showcfp?eventid=20356&copyow
 nerid=35003
UID:cfp244283-N@wikicfp.com
END:VEVENT
BEGIN:VEVENT
DTSTAMP:20260425T000235Z
DTSTART;VALUE=DATE:20120817
SUMMARY:CMMSE 2012 Final Version Due
DESCRIPTION:12th International Conference Computational and mathematical 
 methods in Science and Engineering
URL:http://www.wikicfp.com/cfp/servlet/event.showcfp?eventid=20356&copyow
 nerid=35003
UID:cfp244283-N@wikicfp.com
END:VEVENT
BEGIN:VEVENT
DTSTAMP:20260425T000235Z
DTSTART;VALUE=DATE:20120827
DTEND;VALUE=DATE:20120829
SUMMARY:STAIRS 2012
DESCRIPTION:Starting Artificial Intelligence Research Symposium
URL:http://www.wikicfp.com/cfp/servlet/event.showcfp?eventid=19700&copyow
 nerid=35003
UID:cfp244279-E@wikicfp.com
END:VEVENT
BEGIN:VEVENT
DTSTAMP:20260425T000235Z
DTSTART;VALUE=DATE:20120525
SUMMARY:STAIRS 2012 Deadline
DESCRIPTION:Starting Artificial Intelligence Research Symposium
URL:http://www.wikicfp.com/cfp/servlet/event.showcfp?eventid=19700&copyow
 nerid=35003
UID:cfp244279-D@wikicfp.com
END:VEVENT
BEGIN:VEVENT
DTSTAMP:20260425T000235Z
DTSTART;VALUE=DATE:20120623
SUMMARY:STAIRS 2012 Notification Due
DESCRIPTION:Starting Artificial Intelligence Research Symposium
URL:http://www.wikicfp.com/cfp/servlet/event.showcfp?eventid=19700&copyow
 nerid=35003
UID:cfp244279-N@wikicfp.com
END:VEVENT
BEGIN:VEVENT
DTSTAMP:20260425T000235Z
DTSTART;VALUE=DATE:20120630
SUMMARY:STAIRS 2012 Final Version Due
DESCRIPTION:Starting Artificial Intelligence Research Symposium
URL:http://www.wikicfp.com/cfp/servlet/event.showcfp?eventid=19700&copyow
 nerid=35003
UID:cfp244279-N@wikicfp.com
END:VEVENT
BEGIN:VEVENT
DTSTAMP:20260425T000235Z
DTSTART;VALUE=DATE:20121126
DTEND;VALUE=DATE:20121128
SUMMARY:ICCASA 2012
DESCRIPTION:International Conference on Context-Aware Systems and Applica
 tions 
URL:http://www.wikicfp.com/cfp/servlet/event.showcfp?eventid=20914&copyow
 nerid=35003
UID:cfp244287-E@wikicfp.com
END:VEVENT
BEGIN:VEVENT
DTSTAMP:20260425T000235Z
DTSTART;VALUE=DATE:20120616
SUMMARY:ICCASA 2012 Deadline
DESCRIPTION:International Conference on Context-Aware Systems and Applica
 tions 
URL:http://www.wikicfp.com/cfp/servlet/event.showcfp?eventid=20914&copyow
 nerid=35003
UID:cfp244287-D@wikicfp.com
END:VEVENT
BEGIN:VEVENT
DTSTAMP:20260425T000235Z
DTSTART;VALUE=DATE:20120817
SUMMARY:ICCASA 2012 Notification Due
DESCRIPTION:International Conference on Context-Aware Systems and Applica
 tions 
URL:http://www.wikicfp.com/cfp/servlet/event.showcfp?eventid=20914&copyow
 nerid=35003
UID:cfp244287-N@wikicfp.com
END:VEVENT
BEGIN:VEVENT
DTSTAMP:20260425T000235Z
DTSTART;VALUE=DATE:20120915
SUMMARY:ICCASA 2012 Final Version Due
DESCRIPTION:International Conference on Context-Aware Systems and Applica
 tions 
URL:http://www.wikicfp.com/cfp/servlet/event.showcfp?eventid=20914&copyow
 nerid=35003
UID:cfp244287-N@wikicfp.com
END:VEVENT
BEGIN:VEVENT
DTSTAMP:20260425T000235Z
DTSTART;VALUE=DATE:20121112
DTEND;VALUE=DATE:20121116
SUMMARY:ICONIP 2012
DESCRIPTION:International Conference on Neural Information Processing
URL:http://www.wikicfp.com/cfp/servlet/event.showcfp?eventid=18461&copyow
 nerid=35003
UID:cfp244275-E@wikicfp.com
END:VEVENT
BEGIN:VEVENT
DTSTAMP:20260425T000235Z
DTSTART;VALUE=DATE:20120701
SUMMARY:ICONIP 2012 Deadline
DESCRIPTION:International Conference on Neural Information Processing
URL:http://www.wikicfp.com/cfp/servlet/event.showcfp?eventid=18461&copyow
 nerid=35003
UID:cfp244275-D@wikicfp.com
END:VEVENT
BEGIN:VEVENT
DTSTAMP:20260425T000235Z
DTSTART;VALUE=DATE:20120801
SUMMARY:ICONIP 2012 Notification Due
DESCRIPTION:International Conference on Neural Information Processing
URL:http://www.wikicfp.com/cfp/servlet/event.showcfp?eventid=18461&copyow
 nerid=35003
UID:cfp244275-N@wikicfp.com
END:VEVENT
BEGIN:VEVENT
DTSTAMP:20260425T000235Z
DTSTART;VALUE=DATE:20120901
SUMMARY:ICONIP 2012 Final Version Due
DESCRIPTION:International Conference on Neural Information Processing
URL:http://www.wikicfp.com/cfp/servlet/event.showcfp?eventid=18461&copyow
 nerid=35003
UID:cfp244275-N@wikicfp.com
END:VEVENT
BEGIN:VEVENT
DTSTAMP:20260425T000235Z
DTSTART;VALUE=DATE:20121024
DTEND;VALUE=DATE:20121027
SUMMARY:WCECS 2012
DESCRIPTION:World Congress on Engineering and Computer Science 2012
URL:http://www.wikicfp.com/cfp/servlet/event.showcfp?eventid=19241&copyow
 nerid=35003
UID:cfp244277-E@wikicfp.com
END:VEVENT
BEGIN:VEVENT
DTSTAMP:20260425T000235Z
DTSTART;VALUE=DATE:20120702
SUMMARY:WCECS 2012 Deadline
DESCRIPTION:World Congress on Engineering and Computer Science 2012
URL:http://www.wikicfp.com/cfp/servlet/event.showcfp?eventid=19241&copyow
 nerid=35003
UID:cfp244277-D@wikicfp.com
END:VEVENT
BEGIN:VEVENT
DTSTAMP:20260425T000235Z
DTSTART;VALUE=DATE:20120730
SUMMARY:WCECS 2012 Final Version Due
DESCRIPTION:World Congress on Engineering and Computer Science 2012
URL:http://www.wikicfp.com/cfp/servlet/event.showcfp?eventid=19241&copyow
 nerid=35003
UID:cfp244277-N@wikicfp.com
END:VEVENT
BEGIN:VEVENT
DTSTAMP:20260425T000235Z
DTSTART;VALUE=DATE:20130109
DTEND;VALUE=DATE:20130112
SUMMARY:AICWIC 2013
DESCRIPTION:Second Edition of Amrita International Conference of Women in
  Computing
URL:http://www.wikicfp.com/cfp/servlet/event.showcfp?eventid=20830&copyow
 nerid=35003
UID:cfp244286-E@wikicfp.com
END:VEVENT
BEGIN:VEVENT
DTSTAMP:20260425T000235Z
DTSTART;VALUE=DATE:20120901
SUMMARY:AICWIC 2013 Deadline
DESCRIPTION:Second Edition of Amrita International Conference of Women in
  Computing
URL:http://www.wikicfp.com/cfp/servlet/event.showcfp?eventid=20830&copyow
 nerid=35003
UID:cfp244286-D@wikicfp.com
END:VEVENT
BEGIN:VEVENT
DTSTAMP:20260425T000235Z
DTSTART;VALUE=DATE:20121115
SUMMARY:AICWIC 2013 Notification Due
DESCRIPTION:Second Edition of Amrita International Conference of Women in
  Computing
URL:http://www.wikicfp.com/cfp/servlet/event.showcfp?eventid=20830&copyow
 nerid=35003
UID:cfp244286-N@wikicfp.com
END:VEVENT
BEGIN:VEVENT
DTSTAMP:20260425T000235Z
DTSTART;VALUE=DATE:20121130
SUMMARY:AICWIC 2013 Final Version Due
DESCRIPTION:Second Edition of Amrita International Conference of Women in
  Computing
URL:http://www.wikicfp.com/cfp/servlet/event.showcfp?eventid=20830&copyow
 nerid=35003
UID:cfp244286-N@wikicfp.com
END:VEVENT
BEGIN:VEVENT
DTSTAMP:20260425T000235Z
DTSTART;VALUE=DATE:20121231
SUMMARY:SETScholars 2012 Deadline
DESCRIPTION:Journals for Science Engineering and Technology Scholars
URL:http://www.wikicfp.com/cfp/servlet/event.showcfp?eventid=20964&copyow
 nerid=35003
UID:cfp244288-D@wikicfp.com
END:VEVENT
BEGIN:VEVENT
DTSTAMP:20260425T000235Z
DTSTART;VALUE=DATE:20130716
DTEND;VALUE=DATE:20130722
SUMMARY:ICDM 2013
DESCRIPTION:Industrial Conference on Data Mining 
URL:http://www.wikicfp.com/cfp/servlet/event.showcfp?eventid=21256&copyow
 nerid=35003
UID:cfp244291-E@wikicfp.com
END:VEVENT
BEGIN:VEVENT
DTSTAMP:20260425T000235Z
DTSTART;VALUE=DATE:20130115
SUMMARY:ICDM 2013 Deadline
DESCRIPTION:Industrial Conference on Data Mining 
URL:http://www.wikicfp.com/cfp/servlet/event.showcfp?eventid=21256&copyow
 nerid=35003
UID:cfp244291-D@wikicfp.com
END:VEVENT
BEGIN:VEVENT
DTSTAMP:20260425T000235Z
DTSTART;VALUE=DATE:20130318
SUMMARY:ICDM 2013 Notification Due
DESCRIPTION:Industrial Conference on Data Mining 
URL:http://www.wikicfp.com/cfp/servlet/event.showcfp?eventid=21256&copyow
 nerid=35003
UID:cfp244291-N@wikicfp.com
END:VEVENT
BEGIN:VEVENT
DTSTAMP:20260425T000235Z
DTSTART;VALUE=DATE:20130405
SUMMARY:ICDM 2013 Final Version Due
DESCRIPTION:Industrial Conference on Data Mining 
URL:http://www.wikicfp.com/cfp/servlet/event.showcfp?eventid=21256&copyow
 nerid=35003
UID:cfp244291-N@wikicfp.com
END:VEVENT
BEGIN:VEVENT
DTSTAMP:20260425T000235Z
DTSTART;VALUE=DATE:20130101
DTEND;VALUE=DATE:20140101
SUMMARY:IJCB 2013
DESCRIPTION:International Journal of Computational Bioscience
URL:http://www.wikicfp.com/cfp/servlet/event.showcfp?eventid=14558&copyow
 nerid=35003
UID:cfp244274-E@wikicfp.com
END:VEVENT
BEGIN:VEVENT
DTSTAMP:20260425T000235Z
DTSTART;VALUE=DATE:20131231
SUMMARY:IJCB 2013 Deadline
DESCRIPTION:International Journal of Computational Bioscience
URL:http://www.wikicfp.com/cfp/servlet/event.showcfp?eventid=14558&copyow
 nerid=35003
UID:cfp244274-D@wikicfp.com
END:VEVENT
BEGIN:VEVENT
DTSTAMP:20260425T000235Z
DTSTART;VALUE=DATE:20140718
DTEND;VALUE=DATE:20140719
SUMMARY:CBR-MD 2014
DESCRIPTION:International Workshop Case-Based Reasoning 
URL:http://www.wikicfp.com/cfp/servlet/event.showcfp?eventid=19727&copyow
 nerid=35003
UID:cfp244281-E@wikicfp.com
END:VEVENT
BEGIN:VEVENT
DTSTAMP:20260425T000235Z
DTSTART;VALUE=DATE:20140320
SUMMARY:CBR-MD 2014 Deadline
DESCRIPTION:International Workshop Case-Based Reasoning 
URL:http://www.wikicfp.com/cfp/servlet/event.showcfp?eventid=19727&copyow
 nerid=35003
UID:cfp244281-D@wikicfp.com
END:VEVENT
BEGIN:VEVENT
DTSTAMP:20260425T000235Z
DTSTART;VALUE=DATE:20140430
SUMMARY:CBR-MD 2014 Notification Due
DESCRIPTION:International Workshop Case-Based Reasoning 
URL:http://www.wikicfp.com/cfp/servlet/event.showcfp?eventid=19727&copyow
 nerid=35003
UID:cfp244281-N@wikicfp.com
END:VEVENT
BEGIN:VEVENT
DTSTAMP:20260425T000235Z
DTSTART;VALUE=DATE:20140512
SUMMARY:CBR-MD 2014 Final Version Due
DESCRIPTION:International Workshop Case-Based Reasoning 
URL:http://www.wikicfp.com/cfp/servlet/event.showcfp?eventid=19727&copyow
 nerid=35003
UID:cfp244281-N@wikicfp.com
END:VEVENT
END:VCALENDAR
