BEGIN:VCALENDAR
PRODID:-//WikiCFP//skopal 1.0//EN
VERSION:2.0
CALSCALE:GREGORIAN
BEGIN:VEVENT
DTSTAMP:20260421T234147Z
DTSTART;VALUE=DATE:20120809
DTEND;VALUE=DATE:20120811
SUMMARY:SISAP 2012
DESCRIPTION:5th International Conference on Similarity Search and Applica
 tions
URL:http://www.wikicfp.com/cfp/servlet/event.showcfp?eventid=21089&copyow
 nerid=34603
UID:cfp240561-E@wikicfp.com
END:VEVENT
BEGIN:VEVENT
DTSTAMP:20260421T234147Z
DTSTART;VALUE=DATE:20120325
SUMMARY:SISAP 2012 Deadline
DESCRIPTION:5th International Conference on Similarity Search and Applica
 tions
URL:http://www.wikicfp.com/cfp/servlet/event.showcfp?eventid=21089&copyow
 nerid=34603
UID:cfp240561-D@wikicfp.com
END:VEVENT
END:VCALENDAR
