BEGIN:VCALENDAR
PRODID:-//WikiCFP//IYERGKRIS 1.0//EN
VERSION:2.0
CALSCALE:GREGORIAN
BEGIN:VEVENT
DTSTAMP:20260423T013833Z
DTSTART;VALUE=DATE:20131007
DTEND;VALUE=DATE:20131008
SUMMARY:IEEE ICNP PhD Forum 2013
DESCRIPTION:PhD Forum of the International Conference on Network Protocol
 s
URL:http://www.wikicfp.com/cfp/servlet/event.showcfp?eventid=30936&copyow
 nerid=34359
UID:cfp369174-E@wikicfp.com
END:VEVENT
BEGIN:VEVENT
DTSTAMP:20260423T013833Z
DTSTART;VALUE=DATE:20130724
SUMMARY:IEEE ICNP PhD Forum 2013 Deadline
DESCRIPTION:PhD Forum of the International Conference on Network Protocol
 s
URL:http://www.wikicfp.com/cfp/servlet/event.showcfp?eventid=30936&copyow
 nerid=34359
UID:cfp369174-D@wikicfp.com
END:VEVENT
BEGIN:VEVENT
DTSTAMP:20260423T013833Z
DTSTART;VALUE=DATE:20130809
SUMMARY:IEEE ICNP PhD Forum 2013 Notification Due
DESCRIPTION:PhD Forum of the International Conference on Network Protocol
 s
URL:http://www.wikicfp.com/cfp/servlet/event.showcfp?eventid=30936&copyow
 nerid=34359
UID:cfp369174-N@wikicfp.com
END:VEVENT
BEGIN:VEVENT
DTSTAMP:20260423T013833Z
DTSTART;VALUE=DATE:20130816
SUMMARY:IEEE ICNP PhD Forum 2013 Final Version Due
DESCRIPTION:PhD Forum of the International Conference on Network Protocol
 s
URL:http://www.wikicfp.com/cfp/servlet/event.showcfp?eventid=30936&copyow
 nerid=34359
UID:cfp369174-N@wikicfp.com
END:VEVENT
BEGIN:VEVENT
DTSTAMP:20260423T013833Z
DTSTART;VALUE=DATE:20131022
DTEND;VALUE=DATE:20131025
SUMMARY:WWRF 2013
DESCRIPTION:Wireless World Research Forum No. 31
URL:http://www.wikicfp.com/cfp/servlet/event.showcfp?eventid=31376&copyow
 nerid=34359
UID:cfp367067-E@wikicfp.com
END:VEVENT
BEGIN:VEVENT
DTSTAMP:20260423T013833Z
DTSTART;VALUE=DATE:20130814
SUMMARY:WWRF 2013 Deadline
DESCRIPTION:Wireless World Research Forum No. 31
URL:http://www.wikicfp.com/cfp/servlet/event.showcfp?eventid=31376&copyow
 nerid=34359
UID:cfp367067-D@wikicfp.com
END:VEVENT
BEGIN:VEVENT
DTSTAMP:20260423T013833Z
DTSTART;VALUE=DATE:20130906
SUMMARY:WWRF 2013 Notification Due
DESCRIPTION:Wireless World Research Forum No. 31
URL:http://www.wikicfp.com/cfp/servlet/event.showcfp?eventid=31376&copyow
 nerid=34359
UID:cfp367067-N@wikicfp.com
END:VEVENT
BEGIN:VEVENT
DTSTAMP:20260423T013833Z
DTSTART;VALUE=DATE:20140610
DTEND;VALUE=DATE:20140615
SUMMARY:ICC 2014
DESCRIPTION:IEEE International Conference on Communications
URL:http://www.wikicfp.com/cfp/servlet/event.showcfp?eventid=29420&copyow
 nerid=34359
UID:cfp362796-E@wikicfp.com
END:VEVENT
BEGIN:VEVENT
DTSTAMP:20260423T013833Z
DTSTART;VALUE=DATE:20130930
SUMMARY:ICC 2014 Deadline
DESCRIPTION:IEEE International Conference on Communications
URL:http://www.wikicfp.com/cfp/servlet/event.showcfp?eventid=29420&copyow
 nerid=34359
UID:cfp362796-D@wikicfp.com
END:VEVENT
BEGIN:VEVENT
DTSTAMP:20260423T013833Z
DTSTART;VALUE=DATE:20140112
SUMMARY:ICC 2014 Notification Due
DESCRIPTION:IEEE International Conference on Communications
URL:http://www.wikicfp.com/cfp/servlet/event.showcfp?eventid=29420&copyow
 nerid=34359
UID:cfp362796-N@wikicfp.com
END:VEVENT
BEGIN:VEVENT
DTSTAMP:20260423T013833Z
DTSTART;VALUE=DATE:20140213
SUMMARY:ICC 2014 Final Version Due
DESCRIPTION:IEEE International Conference on Communications
URL:http://www.wikicfp.com/cfp/servlet/event.showcfp?eventid=29420&copyow
 nerid=34359
UID:cfp362796-N@wikicfp.com
END:VEVENT
BEGIN:VEVENT
DTSTAMP:20260423T013833Z
DTSTART;VALUE=DATE:20140406
DTEND;VALUE=DATE:20140410
SUMMARY:WCNC 2014
DESCRIPTION:IEEE Wireless Communications and Networking Conference (WCNC)
 
URL:http://www.wikicfp.com/cfp/servlet/event.showcfp?eventid=29923&copyow
 nerid=34359
UID:cfp356020-E@wikicfp.com
END:VEVENT
BEGIN:VEVENT
DTSTAMP:20260423T013833Z
DTSTART;VALUE=DATE:20131013
SUMMARY:WCNC 2014 Deadline
DESCRIPTION:IEEE Wireless Communications and Networking Conference (WCNC)
 
URL:http://www.wikicfp.com/cfp/servlet/event.showcfp?eventid=29923&copyow
 nerid=34359
UID:cfp356020-D@wikicfp.com
END:VEVENT
BEGIN:VEVENT
DTSTAMP:20260423T013833Z
DTSTART;VALUE=DATE:20131215
SUMMARY:WCNC 2014 Notification Due
DESCRIPTION:IEEE Wireless Communications and Networking Conference (WCNC)
 
URL:http://www.wikicfp.com/cfp/servlet/event.showcfp?eventid=29923&copyow
 nerid=34359
UID:cfp356020-N@wikicfp.com
END:VEVENT
BEGIN:VEVENT
DTSTAMP:20260423T013833Z
DTSTART;VALUE=DATE:20140112
SUMMARY:WCNC 2014 Final Version Due
DESCRIPTION:IEEE Wireless Communications and Networking Conference (WCNC)
 
URL:http://www.wikicfp.com/cfp/servlet/event.showcfp?eventid=29923&copyow
 nerid=34359
UID:cfp356020-N@wikicfp.com
END:VEVENT
BEGIN:VEVENT
DTSTAMP:20260423T013833Z
DTSTART;VALUE=DATE:20140525
DTEND;VALUE=DATE:20140528
SUMMARY:DCOSS 2014
DESCRIPTION:IEEE International Conference on Distributed Computing in Sen
 sor Systems
URL:http://www.wikicfp.com/cfp/servlet/event.showcfp?eventid=34149&copyow
 nerid=34359
UID:cfp415465-E@wikicfp.com
END:VEVENT
BEGIN:VEVENT
DTSTAMP:20260423T013833Z
DTSTART;VALUE=DATE:20140207
SUMMARY:DCOSS 2014 Abstract Due
DESCRIPTION:IEEE International Conference on Distributed Computing in Sen
 sor Systems
URL:http://www.wikicfp.com/cfp/servlet/event.showcfp?eventid=34149&copyow
 nerid=34359
UID:cfp415465-A@wikicfp.com
END:VEVENT
BEGIN:VEVENT
DTSTAMP:20260423T013833Z
DTSTART;VALUE=DATE:20140214
SUMMARY:DCOSS 2014 Deadline
DESCRIPTION:IEEE International Conference on Distributed Computing in Sen
 sor Systems
URL:http://www.wikicfp.com/cfp/servlet/event.showcfp?eventid=34149&copyow
 nerid=34359
UID:cfp415465-D@wikicfp.com
END:VEVENT
BEGIN:VEVENT
DTSTAMP:20260423T013833Z
DTSTART;VALUE=DATE:20140402
SUMMARY:DCOSS 2014 Notification Due
DESCRIPTION:IEEE International Conference on Distributed Computing in Sen
 sor Systems
URL:http://www.wikicfp.com/cfp/servlet/event.showcfp?eventid=34149&copyow
 nerid=34359
UID:cfp415465-N@wikicfp.com
END:VEVENT
BEGIN:VEVENT
DTSTAMP:20260423T013833Z
DTSTART;VALUE=DATE:20140416
SUMMARY:DCOSS 2014 Final Version Due
DESCRIPTION:IEEE International Conference on Distributed Computing in Sen
 sor Systems
URL:http://www.wikicfp.com/cfp/servlet/event.showcfp?eventid=34149&copyow
 nerid=34359
UID:cfp415465-N@wikicfp.com
END:VEVENT
END:VCALENDAR
