BEGIN:VCALENDAR
PRODID:-//WikiCFP//jz251805 1.0//EN
VERSION:2.0
CALSCALE:GREGORIAN
BEGIN:VEVENT
DTSTAMP:20260422T185612Z
DTSTART;VALUE=DATE:20090131
SUMMARY:IET SPR SI Wireless 2009 Deadline
DESCRIPTION:IET Signal Processing special issue on Advanced Signal Proces
 sing for Wireless and Mobile Communications
URL:http://www.wikicfp.com/cfp/servlet/event.showcfp?eventid=3524&copyown
 erid=3423
UID:cfp27772-D@wikicfp.com
END:VEVENT
BEGIN:VEVENT
DTSTAMP:20260422T185612Z
DTSTART;VALUE=DATE:20090531
SUMMARY:IET SPR SI Wireless 2009 Notification Due
DESCRIPTION:IET Signal Processing special issue on Advanced Signal Proces
 sing for Wireless and Mobile Communications
URL:http://www.wikicfp.com/cfp/servlet/event.showcfp?eventid=3524&copyown
 erid=3423
UID:cfp27772-N@wikicfp.com
END:VEVENT
BEGIN:VEVENT
DTSTAMP:20260422T185612Z
DTSTART;VALUE=DATE:20090301
SUMMARY:IET COM SI WiMAX 2009 Deadline
DESCRIPTION:IET Communications Special Issue on WiMAX Integrated Communic
 ations
URL:http://www.wikicfp.com/cfp/servlet/event.showcfp?eventid=4122&copyown
 erid=3423
UID:cfp27769-D@wikicfp.com
END:VEVENT
BEGIN:VEVENT
DTSTAMP:20260422T185612Z
DTSTART;VALUE=DATE:20090301
SUMMARY:IET COM SI WiMAX 2009 Final Version Due
DESCRIPTION:IET Communications Special Issue on WiMAX Integrated Communic
 ations
URL:http://www.wikicfp.com/cfp/servlet/event.showcfp?eventid=4122&copyown
 erid=3423
UID:cfp27769-N@wikicfp.com
END:VEVENT
BEGIN:VEVENT
DTSTAMP:20260422T185612Z
DTSTART;VALUE=DATE:20090920
DTEND;VALUE=DATE:20090924
SUMMARY:VTC-Fall 2009
DESCRIPTION:2009 IEEE 70th Vehicular Technology Conference
URL:http://www.wikicfp.com/cfp/servlet/event.showcfp?eventid=4169&copyown
 erid=3423
UID:cfp27770-E@wikicfp.com
END:VEVENT
BEGIN:VEVENT
DTSTAMP:20260422T185612Z
DTSTART;VALUE=DATE:20090301
SUMMARY:VTC-Fall 2009 Deadline
DESCRIPTION:2009 IEEE 70th Vehicular Technology Conference
URL:http://www.wikicfp.com/cfp/servlet/event.showcfp?eventid=4169&copyown
 erid=3423
UID:cfp27770-D@wikicfp.com
END:VEVENT
BEGIN:VEVENT
DTSTAMP:20260422T185612Z
DTSTART;VALUE=DATE:20090415
SUMMARY:VTC-Fall 2009 Notification Due
DESCRIPTION:2009 IEEE 70th Vehicular Technology Conference
URL:http://www.wikicfp.com/cfp/servlet/event.showcfp?eventid=4169&copyown
 erid=3423
UID:cfp27770-N@wikicfp.com
END:VEVENT
BEGIN:VEVENT
DTSTAMP:20260422T185612Z
DTSTART;VALUE=DATE:20090612
SUMMARY:VTC-Fall 2009 Final Version Due
DESCRIPTION:2009 IEEE 70th Vehicular Technology Conference
URL:http://www.wikicfp.com/cfp/servlet/event.showcfp?eventid=4169&copyown
 erid=3423
UID:cfp27770-N@wikicfp.com
END:VEVENT
BEGIN:VEVENT
DTSTAMP:20260422T185612Z
DTSTART;VALUE=DATE:20090301
SUMMARY:JSAC 2009 Deadline
DESCRIPTION:IEEE Journal on Selected Areas in Communications (JSAC) Bio-I
 nspired Networking
URL:http://www.wikicfp.com/cfp/servlet/event.showcfp?eventid=4318&copyown
 erid=3423
UID:cfp27771-D@wikicfp.com
END:VEVENT
BEGIN:VEVENT
DTSTAMP:20260422T185612Z
DTSTART;VALUE=DATE:20090901
SUMMARY:JSAC 2009 Notification Due
DESCRIPTION:IEEE Journal on Selected Areas in Communications (JSAC) Bio-I
 nspired Networking
URL:http://www.wikicfp.com/cfp/servlet/event.showcfp?eventid=4318&copyown
 erid=3423
UID:cfp27771-N@wikicfp.com
END:VEVENT
BEGIN:VEVENT
DTSTAMP:20260422T185612Z
DTSTART;VALUE=DATE:20091201
SUMMARY:JSAC 2009 Final Version Due
DESCRIPTION:IEEE Journal on Selected Areas in Communications (JSAC) Bio-I
 nspired Networking
URL:http://www.wikicfp.com/cfp/servlet/event.showcfp?eventid=4318&copyown
 erid=3423
UID:cfp27771-N@wikicfp.com
END:VEVENT
BEGIN:VEVENT
DTSTAMP:20260422T185612Z
DTSTART;VALUE=DATE:20091001
DTEND;VALUE=DATE:20091002
SUMMARY:MobiCom 2009
DESCRIPTION:The 15th Annual International Conference on Mobile Computing 
 and Networking
URL:http://www.wikicfp.com/cfp/servlet/event.showcfp?eventid=3759&copyown
 erid=3423
UID:cfp27766-E@wikicfp.com
END:VEVENT
BEGIN:VEVENT
DTSTAMP:20260422T185612Z
DTSTART;VALUE=DATE:20090305
SUMMARY:MobiCom 2009 Abstract Due
DESCRIPTION:The 15th Annual International Conference on Mobile Computing 
 and Networking
URL:http://www.wikicfp.com/cfp/servlet/event.showcfp?eventid=3759&copyown
 erid=3423
UID:cfp27766-A@wikicfp.com
END:VEVENT
BEGIN:VEVENT
DTSTAMP:20260422T185612Z
DTSTART;VALUE=DATE:20090312
SUMMARY:MobiCom 2009 Deadline
DESCRIPTION:The 15th Annual International Conference on Mobile Computing 
 and Networking
URL:http://www.wikicfp.com/cfp/servlet/event.showcfp?eventid=3759&copyown
 erid=3423
UID:cfp27766-D@wikicfp.com
END:VEVENT
BEGIN:VEVENT
DTSTAMP:20260422T185612Z
DTSTART;VALUE=DATE:20090619
SUMMARY:MobiCom 2009 Notification Due
DESCRIPTION:The 15th Annual International Conference on Mobile Computing 
 and Networking
URL:http://www.wikicfp.com/cfp/servlet/event.showcfp?eventid=3759&copyown
 erid=3423
UID:cfp27766-N@wikicfp.com
END:VEVENT
BEGIN:VEVENT
DTSTAMP:20260422T185612Z
DTSTART;VALUE=DATE:20090715
SUMMARY:MobiCom 2009 Final Version Due
DESCRIPTION:The 15th Annual International Conference on Mobile Computing 
 and Networking
URL:http://www.wikicfp.com/cfp/servlet/event.showcfp?eventid=3759&copyown
 erid=3423
UID:cfp27766-N@wikicfp.com
END:VEVENT
BEGIN:VEVENT
DTSTAMP:20260422T185612Z
DTSTART;VALUE=DATE:20090316
SUMMARY:IET COM SI Video Comms 2009 Deadline
DESCRIPTION:IET Communications Special Issue on Video Communication over 
 Wireless Networks
URL:http://www.wikicfp.com/cfp/servlet/event.showcfp?eventid=4121&copyown
 erid=3423
UID:cfp27768-D@wikicfp.com
END:VEVENT
BEGIN:VEVENT
DTSTAMP:20260422T185612Z
DTSTART;VALUE=DATE:20090301
SUMMARY:IET COM SI Video Comms 2009 Final Version Due
DESCRIPTION:IET Communications Special Issue on Video Communication over 
 Wireless Networks
URL:http://www.wikicfp.com/cfp/servlet/event.showcfp?eventid=4121&copyown
 erid=3423
UID:cfp27768-N@wikicfp.com
END:VEVENT
BEGIN:VEVENT
DTSTAMP:20260422T185612Z
DTSTART;VALUE=DATE:20090330
SUMMARY:JISE SI 2010 Deadline
DESCRIPTION:Journal of Information Science and Engineering (indexed by SC
 IE) Special Issue on Vehicular Wireless Networks and Vehicular Intellige
 nt Transportation Systems
URL:http://www.wikicfp.com/cfp/servlet/event.showcfp?eventid=4644&copyown
 erid=3423
UID:cfp27774-D@wikicfp.com
END:VEVENT
BEGIN:VEVENT
DTSTAMP:20260422T185612Z
DTSTART;VALUE=DATE:20090731
SUMMARY:JISE SI 2010 Notification Due
DESCRIPTION:Journal of Information Science and Engineering (indexed by SC
 IE) Special Issue on Vehicular Wireless Networks and Vehicular Intellige
 nt Transportation Systems
URL:http://www.wikicfp.com/cfp/servlet/event.showcfp?eventid=4644&copyown
 erid=3423
UID:cfp27774-N@wikicfp.com
END:VEVENT
BEGIN:VEVENT
DTSTAMP:20260422T185612Z
DTSTART;VALUE=DATE:20090831
SUMMARY:JISE SI 2010 Final Version Due
DESCRIPTION:Journal of Information Science and Engineering (indexed by SC
 IE) Special Issue on Vehicular Wireless Networks and Vehicular Intellige
 nt Transportation Systems
URL:http://www.wikicfp.com/cfp/servlet/event.showcfp?eventid=4644&copyown
 erid=3423
UID:cfp27774-N@wikicfp.com
END:VEVENT
BEGIN:VEVENT
DTSTAMP:20260422T185612Z
DTSTART;VALUE=DATE:20091130
DTEND;VALUE=DATE:20091205
SUMMARY:GLOBECOM 2009
DESCRIPTION:IEEE Global Communications Conference
URL:http://www.wikicfp.com/cfp/servlet/event.showcfp?eventid=3538&copyown
 erid=3423
UID:cfp27764-E@wikicfp.com
END:VEVENT
BEGIN:VEVENT
DTSTAMP:20260422T185612Z
DTSTART;VALUE=DATE:20090331
SUMMARY:GLOBECOM 2009 Deadline
DESCRIPTION:IEEE Global Communications Conference
URL:http://www.wikicfp.com/cfp/servlet/event.showcfp?eventid=3538&copyown
 erid=3423
UID:cfp27764-D@wikicfp.com
END:VEVENT
BEGIN:VEVENT
DTSTAMP:20260422T185612Z
DTSTART;VALUE=DATE:20090701
SUMMARY:GLOBECOM 2009 Notification Due
DESCRIPTION:IEEE Global Communications Conference
URL:http://www.wikicfp.com/cfp/servlet/event.showcfp?eventid=3538&copyown
 erid=3423
UID:cfp27764-N@wikicfp.com
END:VEVENT
BEGIN:VEVENT
DTSTAMP:20260422T185612Z
DTSTART;VALUE=DATE:20090814
SUMMARY:GLOBECOM 2009 Final Version Due
DESCRIPTION:IEEE Global Communications Conference
URL:http://www.wikicfp.com/cfp/servlet/event.showcfp?eventid=3538&copyown
 erid=3423
UID:cfp27764-N@wikicfp.com
END:VEVENT
BEGIN:VEVENT
DTSTAMP:20260422T185612Z
DTSTART;VALUE=DATE:20090331
SUMMARY:Special Issue - Sensors 2009 Deadline
DESCRIPTION:Sensors Journal Special Issue on Wireless Sensor Technologies
  and Applications
URL:http://www.wikicfp.com/cfp/servlet/event.showcfp?eventid=3611&copyown
 erid=3423
UID:cfp27773-D@wikicfp.com
END:VEVENT
BEGIN:VEVENT
DTSTAMP:20260422T185612Z
DTSTART;VALUE=DATE:20090401
SUMMARY:Wireless Communications 2009 Deadline
DESCRIPTION:IEEE Wireless Communications Magazine Special Issue in Wirele
 ss Technologies for E-healthcare
URL:http://www.wikicfp.com/cfp/servlet/event.showcfp?eventid=4078&copyown
 erid=3423
UID:cfp27767-D@wikicfp.com
END:VEVENT
BEGIN:VEVENT
DTSTAMP:20260422T185612Z
DTSTART;VALUE=DATE:20090801
SUMMARY:Wireless Communications 2009 Notification Due
DESCRIPTION:IEEE Wireless Communications Magazine Special Issue in Wirele
 ss Technologies for E-healthcare
URL:http://www.wikicfp.com/cfp/servlet/event.showcfp?eventid=4078&copyown
 erid=3423
UID:cfp27767-N@wikicfp.com
END:VEVENT
BEGIN:VEVENT
DTSTAMP:20260422T185612Z
DTSTART;VALUE=DATE:20091001
SUMMARY:Wireless Communications 2009 Final Version Due
DESCRIPTION:IEEE Wireless Communications Magazine Special Issue in Wirele
 ss Technologies for E-healthcare
URL:http://www.wikicfp.com/cfp/servlet/event.showcfp?eventid=4078&copyown
 erid=3423
UID:cfp27767-N@wikicfp.com
END:VEVENT
BEGIN:VEVENT
DTSTAMP:20260422T185612Z
DTSTART;VALUE=DATE:20090501
SUMMARY:JSAC 2009 Deadline
DESCRIPTION:IEEE Journal on Selected Areas in Communications (JSAC) Simpl
 e Wireless Sensor Networking Solutions
URL:http://www.wikicfp.com/cfp/servlet/event.showcfp?eventid=4077&copyown
 erid=3423
UID:cfp27762-D@wikicfp.com
END:VEVENT
BEGIN:VEVENT
DTSTAMP:20260422T185612Z
DTSTART;VALUE=DATE:20091101
SUMMARY:JSAC 2009 Notification Due
DESCRIPTION:IEEE Journal on Selected Areas in Communications (JSAC) Simpl
 e Wireless Sensor Networking Solutions
URL:http://www.wikicfp.com/cfp/servlet/event.showcfp?eventid=4077&copyown
 erid=3423
UID:cfp27762-N@wikicfp.com
END:VEVENT
BEGIN:VEVENT
DTSTAMP:20260422T185612Z
DTSTART;VALUE=DATE:20100215
SUMMARY:JSAC 2009 Final Version Due
DESCRIPTION:IEEE Journal on Selected Areas in Communications (JSAC) Simpl
 e Wireless Sensor Networking Solutions
URL:http://www.wikicfp.com/cfp/servlet/event.showcfp?eventid=4077&copyown
 erid=3423
UID:cfp27762-N@wikicfp.com
END:VEVENT
BEGIN:VEVENT
DTSTAMP:20260422T185612Z
DTSTART;VALUE=DATE:20090515
SUMMARY:TVT 2009 Deadline
DESCRIPTION:IEEE Transactions on Vehicular Technology (TVT) Achievements 
 and the Road Ahead: The First Decade of Cognitive Radio
URL:http://www.wikicfp.com/cfp/servlet/event.showcfp?eventid=4320&copyown
 erid=3423
UID:cfp27763-D@wikicfp.com
END:VEVENT
BEGIN:VEVENT
DTSTAMP:20260422T185612Z
DTSTART;VALUE=DATE:20090801
SUMMARY:TVT 2009 Notification Due
DESCRIPTION:IEEE Transactions on Vehicular Technology (TVT) Achievements 
 and the Road Ahead: The First Decade of Cognitive Radio
URL:http://www.wikicfp.com/cfp/servlet/event.showcfp?eventid=4320&copyown
 erid=3423
UID:cfp27763-N@wikicfp.com
END:VEVENT
BEGIN:VEVENT
DTSTAMP:20260422T185612Z
DTSTART;VALUE=DATE:20100115
SUMMARY:TVT 2009 Final Version Due
DESCRIPTION:IEEE Transactions on Vehicular Technology (TVT) Achievements 
 and the Road Ahead: The First Decade of Cognitive Radio
URL:http://www.wikicfp.com/cfp/servlet/event.showcfp?eventid=4320&copyown
 erid=3423
UID:cfp27763-N@wikicfp.com
END:VEVENT
BEGIN:VEVENT
DTSTAMP:20260422T185612Z
DTSTART;VALUE=DATE:20090913
DTEND;VALUE=DATE:20090917
SUMMARY:PIMRC 2009
DESCRIPTION:IEEE International Symposium on Personal\, Indoor and Mobile 
 Radio Communications
URL:http://www.wikicfp.com/cfp/servlet/event.showcfp?eventid=3682&copyown
 erid=3423
UID:cfp27765-E@wikicfp.com
END:VEVENT
BEGIN:VEVENT
DTSTAMP:20260422T185612Z
DTSTART;VALUE=DATE:20090615
SUMMARY:PIMRC 2009 Deadline
DESCRIPTION:IEEE International Symposium on Personal\, Indoor and Mobile 
 Radio Communications
URL:http://www.wikicfp.com/cfp/servlet/event.showcfp?eventid=3682&copyown
 erid=3423
UID:cfp27765-D@wikicfp.com
END:VEVENT
BEGIN:VEVENT
DTSTAMP:20260422T185612Z
DTSTART;VALUE=DATE:20090715
SUMMARY:PIMRC 2009 Notification Due
DESCRIPTION:IEEE International Symposium on Personal\, Indoor and Mobile 
 Radio Communications
URL:http://www.wikicfp.com/cfp/servlet/event.showcfp?eventid=3682&copyown
 erid=3423
UID:cfp27765-N@wikicfp.com
END:VEVENT
BEGIN:VEVENT
DTSTAMP:20260422T185612Z
DTSTART;VALUE=DATE:20090731
SUMMARY:PIMRC 2009 Final Version Due
DESCRIPTION:IEEE International Symposium on Personal\, Indoor and Mobile 
 Radio Communications
URL:http://www.wikicfp.com/cfp/servlet/event.showcfp?eventid=3682&copyown
 erid=3423
UID:cfp27765-N@wikicfp.com
END:VEVENT
BEGIN:VEVENT
DTSTAMP:20260422T185612Z
DTSTART;VALUE=DATE:20090731
SUMMARY:IEEE ITS 2010 Deadline
DESCRIPTION:IEEE Transactions on Intelligent Transportation Systems Speci
 al Issue on Exploiting Wireless Communication Technologies in Vehicular 
 Transportation Networks
URL:http://www.wikicfp.com/cfp/servlet/event.showcfp?eventid=4772&copyown
 erid=3423
UID:cfp27775-D@wikicfp.com
END:VEVENT
BEGIN:VEVENT
DTSTAMP:20260422T185612Z
DTSTART;VALUE=DATE:20091031
SUMMARY:IEEE ITS 2010 Notification Due
DESCRIPTION:IEEE Transactions on Intelligent Transportation Systems Speci
 al Issue on Exploiting Wireless Communication Technologies in Vehicular 
 Transportation Networks
URL:http://www.wikicfp.com/cfp/servlet/event.showcfp?eventid=4772&copyown
 erid=3423
UID:cfp27775-N@wikicfp.com
END:VEVENT
BEGIN:VEVENT
DTSTAMP:20260422T185612Z
DTSTART;VALUE=DATE:20091231
SUMMARY:IEEE ITS 2010 Final Version Due
DESCRIPTION:IEEE Transactions on Intelligent Transportation Systems Speci
 al Issue on Exploiting Wireless Communication Technologies in Vehicular 
 Transportation Networks
URL:http://www.wikicfp.com/cfp/servlet/event.showcfp?eventid=4772&copyown
 erid=3423
UID:cfp27775-N@wikicfp.com
END:VEVENT
END:VCALENDAR
