BEGIN:VCALENDAR
PRODID:-//WikiCFP//jitendracharan 1.0//EN
VERSION:2.0
CALSCALE:GREGORIAN
BEGIN:VEVENT
DTSTAMP:20260424T035940Z
DTSTART;VALUE=DATE:20120426
DTEND;VALUE=DATE:20120429
SUMMARY:ACTC 2012
DESCRIPTION:The Asian Conference on Technology in the Classroom 2012
URL:http://www.wikicfp.com/cfp/servlet/event.showcfp?eventid=18864&copyow
 nerid=34137
UID:cfp237009-E@wikicfp.com
END:VEVENT
BEGIN:VEVENT
DTSTAMP:20260424T035940Z
DTSTART;VALUE=DATE:20120301
SUMMARY:ACTC 2012 Deadline
DESCRIPTION:The Asian Conference on Technology in the Classroom 2012
URL:http://www.wikicfp.com/cfp/servlet/event.showcfp?eventid=18864&copyow
 nerid=34137
UID:cfp237009-D@wikicfp.com
END:VEVENT
BEGIN:VEVENT
DTSTAMP:20260424T035940Z
DTSTART;VALUE=DATE:20120601
SUMMARY:ACTC 2012 Final Version Due
DESCRIPTION:The Asian Conference on Technology in the Classroom 2012
URL:http://www.wikicfp.com/cfp/servlet/event.showcfp?eventid=18864&copyow
 nerid=34137
UID:cfp237009-N@wikicfp.com
END:VEVENT
BEGIN:VEVENT
DTSTAMP:20260424T035940Z
DTSTART;VALUE=DATE:20120330
SUMMARY:IJEE 2012 Abstract Due
DESCRIPTION:Human Computer Interaction in Engineering Education
URL:http://www.wikicfp.com/cfp/servlet/event.showcfp?eventid=19675&copyow
 nerid=34137
UID:cfp237010-A@wikicfp.com
END:VEVENT
BEGIN:VEVENT
DTSTAMP:20260424T035940Z
DTSTART;VALUE=DATE:20120630
SUMMARY:IJEE 2012 Deadline
DESCRIPTION:Human Computer Interaction in Engineering Education
URL:http://www.wikicfp.com/cfp/servlet/event.showcfp?eventid=19675&copyow
 nerid=34137
UID:cfp237010-D@wikicfp.com
END:VEVENT
BEGIN:VEVENT
DTSTAMP:20260424T035940Z
DTSTART;VALUE=DATE:20120915
SUMMARY:IJEE 2012 Notification Due
DESCRIPTION:Human Computer Interaction in Engineering Education
URL:http://www.wikicfp.com/cfp/servlet/event.showcfp?eventid=19675&copyow
 nerid=34137
UID:cfp237010-N@wikicfp.com
END:VEVENT
BEGIN:VEVENT
DTSTAMP:20260424T035940Z
DTSTART;VALUE=DATE:20121130
SUMMARY:IJEE 2012 Final Version Due
DESCRIPTION:Human Computer Interaction in Engineering Education
URL:http://www.wikicfp.com/cfp/servlet/event.showcfp?eventid=19675&copyow
 nerid=34137
UID:cfp237010-N@wikicfp.com
END:VEVENT
BEGIN:VEVENT
DTSTAMP:20260424T035940Z
DTSTART;VALUE=DATE:20120829
DTEND;VALUE=DATE:20120901
SUMMARY:iCETS 2012
DESCRIPTION:iCETS 2012 å½éçµå­åå¡ææ¯ååå±ç­ç¥ä¼è®®
URL:http://www.wikicfp.com/cfp/servlet/event.showcfp?eventid=20647&copyow
 nerid=34137
UID:cfp237030-E@wikicfp.com
END:VEVENT
BEGIN:VEVENT
DTSTAMP:20260424T035940Z
DTSTART;VALUE=DATE:20120630
SUMMARY:iCETS 2012 Deadline
DESCRIPTION:iCETS 2012 å½éçµå­åå¡ææ¯ååå±ç­ç¥ä¼è®®
URL:http://www.wikicfp.com/cfp/servlet/event.showcfp?eventid=20647&copyow
 nerid=34137
UID:cfp237030-D@wikicfp.com
END:VEVENT
BEGIN:VEVENT
DTSTAMP:20260424T035940Z
DTSTART;VALUE=DATE:20120705
SUMMARY:iCETS 2012 Notification Due
DESCRIPTION:iCETS 2012 å½éçµå­åå¡ææ¯ååå±ç­ç¥ä¼è®®
URL:http://www.wikicfp.com/cfp/servlet/event.showcfp?eventid=20647&copyow
 nerid=34137
UID:cfp237030-N@wikicfp.com
END:VEVENT
BEGIN:VEVENT
DTSTAMP:20260424T035940Z
DTSTART;VALUE=DATE:20120710
SUMMARY:iCETS 2012 Final Version Due
DESCRIPTION:iCETS 2012 å½éçµå­åå¡ææ¯ååå±ç­ç¥ä¼è®®
URL:http://www.wikicfp.com/cfp/servlet/event.showcfp?eventid=20647&copyow
 nerid=34137
UID:cfp237030-N@wikicfp.com
END:VEVENT
END:VCALENDAR
