BEGIN:VCALENDAR
PRODID:-//WikiCFP//stolz 1.0//EN
VERSION:2.0
CALSCALE:GREGORIAN
BEGIN:VEVENT
DTSTAMP:20260420T204558Z
DTSTART;VALUE=DATE:20080402
DTEND;VALUE=DATE:20080405
SUMMARY:ISPASS 2008
DESCRIPTION:2008 IEEE International Symposium on Performance Analysis of 
 Systems and Software
URL:http://www.wikicfp.com/cfp/servlet/event.showcfp?eventid=1140&copyown
 erid=340
UID:cfp3457-E@wikicfp.com
END:VEVENT
BEGIN:VEVENT
DTSTAMP:20260420T204558Z
DTSTART;VALUE=DATE:20070921
SUMMARY:ISPASS 2008 Abstract Due
DESCRIPTION:2008 IEEE International Symposium on Performance Analysis of 
 Systems and Software
URL:http://www.wikicfp.com/cfp/servlet/event.showcfp?eventid=1140&copyown
 erid=340
UID:cfp3457-A@wikicfp.com
END:VEVENT
BEGIN:VEVENT
DTSTAMP:20260420T204558Z
DTSTART;VALUE=DATE:20070928
SUMMARY:ISPASS 2008 Deadline
DESCRIPTION:2008 IEEE International Symposium on Performance Analysis of 
 Systems and Software
URL:http://www.wikicfp.com/cfp/servlet/event.showcfp?eventid=1140&copyown
 erid=340
UID:cfp3457-D@wikicfp.com
END:VEVENT
BEGIN:VEVENT
DTSTAMP:20260420T204558Z
DTSTART;VALUE=DATE:20071217
SUMMARY:ISPASS 2008 Notification Due
DESCRIPTION:2008 IEEE International Symposium on Performance Analysis of 
 Systems and Software
URL:http://www.wikicfp.com/cfp/servlet/event.showcfp?eventid=1140&copyown
 erid=340
UID:cfp3457-N@wikicfp.com
END:VEVENT
BEGIN:VEVENT
DTSTAMP:20260420T204558Z
DTSTART;VALUE=DATE:20080304
DTEND;VALUE=DATE:20080308
SUMMARY:ARES 2008
DESCRIPTION:Third International Conference on Availability\, Reliability 
 and Security
URL:http://www.wikicfp.com/cfp/servlet/event.showcfp?eventid=1529&copyown
 erid=340
UID:cfp3470-E@wikicfp.com
END:VEVENT
BEGIN:VEVENT
DTSTAMP:20260420T204558Z
DTSTART;VALUE=DATE:20071025
SUMMARY:ARES 2008 Deadline
DESCRIPTION:Third International Conference on Availability\, Reliability 
 and Security
URL:http://www.wikicfp.com/cfp/servlet/event.showcfp?eventid=1529&copyown
 erid=340
UID:cfp3470-D@wikicfp.com
END:VEVENT
BEGIN:VEVENT
DTSTAMP:20260420T204558Z
DTSTART;VALUE=DATE:20080304
DTEND;VALUE=DATE:20080308
SUMMARY:SecSE 2008
DESCRIPTION:Second International Workshop on Secure Software Engineering
URL:http://www.wikicfp.com/cfp/servlet/event.showcfp?eventid=1665&copyown
 erid=340
UID:cfp3467-E@wikicfp.com
END:VEVENT
BEGIN:VEVENT
DTSTAMP:20260420T204558Z
DTSTART;VALUE=DATE:20071025
SUMMARY:SecSE 2008 Deadline
DESCRIPTION:Second International Workshop on Secure Software Engineering
URL:http://www.wikicfp.com/cfp/servlet/event.showcfp?eventid=1665&copyown
 erid=340
UID:cfp3467-D@wikicfp.com
END:VEVENT
BEGIN:VEVENT
DTSTAMP:20260420T204558Z
DTSTART;VALUE=DATE:20071130
SUMMARY:SecSE 2008 Notification Due
DESCRIPTION:Second International Workshop on Secure Software Engineering
URL:http://www.wikicfp.com/cfp/servlet/event.showcfp?eventid=1665&copyown
 erid=340
UID:cfp3467-N@wikicfp.com
END:VEVENT
BEGIN:VEVENT
DTSTAMP:20260420T204558Z
DTSTART;VALUE=DATE:20080127
DTEND;VALUE=DATE:20080128
SUMMARY:SMART 2008
DESCRIPTION:2nd Workshop on statistical and machine learning approaches t
 o Architectures and compilation
URL:http://www.wikicfp.com/cfp/servlet/event.showcfp?eventid=1142&copyown
 erid=340
UID:cfp3449-E@wikicfp.com
END:VEVENT
BEGIN:VEVENT
DTSTAMP:20260420T204558Z
DTSTART;VALUE=DATE:20071102
SUMMARY:SMART 2008 Deadline
DESCRIPTION:2nd Workshop on statistical and machine learning approaches t
 o Architectures and compilation
URL:http://www.wikicfp.com/cfp/servlet/event.showcfp?eventid=1142&copyown
 erid=340
UID:cfp3449-D@wikicfp.com
END:VEVENT
BEGIN:VEVENT
DTSTAMP:20260420T204558Z
DTSTART;VALUE=DATE:20071130
SUMMARY:SMART 2008 Notification Due
DESCRIPTION:2nd Workshop on statistical and machine learning approaches t
 o Architectures and compilation
URL:http://www.wikicfp.com/cfp/servlet/event.showcfp?eventid=1142&copyown
 erid=340
UID:cfp3449-N@wikicfp.com
END:VEVENT
BEGIN:VEVENT
DTSTAMP:20260420T204558Z
DTSTART;VALUE=DATE:20080405
DTEND;VALUE=DATE:20080411
SUMMARY:CGO 2008
DESCRIPTION:6th Annual IEEE / ACM International Symposium on Code Generat
 ion and Optimization
URL:http://www.wikicfp.com/cfp/servlet/event.showcfp?eventid=1199&copyown
 erid=340
UID:cfp3474-E@wikicfp.com
END:VEVENT
BEGIN:VEVENT
DTSTAMP:20260420T204558Z
DTSTART;VALUE=DATE:20071109
SUMMARY:CGO 2008 Deadline
DESCRIPTION:6th Annual IEEE / ACM International Symposium on Code Generat
 ion and Optimization
URL:http://www.wikicfp.com/cfp/servlet/event.showcfp?eventid=1199&copyown
 erid=340
UID:cfp3474-D@wikicfp.com
END:VEVENT
BEGIN:VEVENT
DTSTAMP:20260420T204558Z
DTSTART;VALUE=DATE:20080518
DTEND;VALUE=DATE:20080523
SUMMARY:CCGrid 2008
DESCRIPTION:8th IEEE International Symposium on Cluster Computing and the
  Grid
URL:http://www.wikicfp.com/cfp/servlet/event.showcfp?eventid=1544&copyown
 erid=340
UID:cfp3450-E@wikicfp.com
END:VEVENT
BEGIN:VEVENT
DTSTAMP:20260420T204558Z
DTSTART;VALUE=DATE:20071112
SUMMARY:CCGrid 2008 Deadline
DESCRIPTION:8th IEEE International Symposium on Cluster Computing and the
  Grid
URL:http://www.wikicfp.com/cfp/servlet/event.showcfp?eventid=1544&copyown
 erid=340
UID:cfp3450-D@wikicfp.com
END:VEVENT
BEGIN:VEVENT
DTSTAMP:20260420T204558Z
DTSTART;VALUE=DATE:20080617
DTEND;VALUE=DATE:20080621
SUMMARY:ICDCS 2008
DESCRIPTION:The 28th International Conference on Distributed Computing Sy
 stems 
URL:http://www.wikicfp.com/cfp/servlet/event.showcfp?eventid=1133&copyown
 erid=340
UID:cfp3478-E@wikicfp.com
END:VEVENT
BEGIN:VEVENT
DTSTAMP:20260420T204558Z
DTSTART;VALUE=DATE:20071115
SUMMARY:ICDCS 2008 Deadline
DESCRIPTION:The 28th International Conference on Distributed Computing Sy
 stems 
URL:http://www.wikicfp.com/cfp/servlet/event.showcfp?eventid=1133&copyown
 erid=340
UID:cfp3478-D@wikicfp.com
END:VEVENT
BEGIN:VEVENT
DTSTAMP:20260420T204558Z
DTSTART;VALUE=DATE:20080301
SUMMARY:ICDCS 2008 Notification Due
DESCRIPTION:The 28th International Conference on Distributed Computing Sy
 stems 
URL:http://www.wikicfp.com/cfp/servlet/event.showcfp?eventid=1133&copyown
 erid=340
UID:cfp3478-N@wikicfp.com
END:VEVENT
BEGIN:VEVENT
DTSTAMP:20260420T204558Z
DTSTART;VALUE=DATE:20080607
DTEND;VALUE=DATE:20080614
SUMMARY:PLDI 2008
DESCRIPTION:PLDI 08 - ACM SIGPLAN Conference on Programming Language Desi
 gn and Implementation
URL:http://www.wikicfp.com/cfp/servlet/event.showcfp?eventid=1179&copyown
 erid=340
UID:cfp3473-E@wikicfp.com
END:VEVENT
BEGIN:VEVENT
DTSTAMP:20260420T204558Z
DTSTART;VALUE=DATE:20071112
SUMMARY:PLDI 2008 Abstract Due
DESCRIPTION:PLDI 08 - ACM SIGPLAN Conference on Programming Language Desi
 gn and Implementation
URL:http://www.wikicfp.com/cfp/servlet/event.showcfp?eventid=1179&copyown
 erid=340
UID:cfp3473-A@wikicfp.com
END:VEVENT
BEGIN:VEVENT
DTSTAMP:20260420T204558Z
DTSTART;VALUE=DATE:20071115
SUMMARY:PLDI 2008 Deadline
DESCRIPTION:PLDI 08 - ACM SIGPLAN Conference on Programming Language Desi
 gn and Implementation
URL:http://www.wikicfp.com/cfp/servlet/event.showcfp?eventid=1179&copyown
 erid=340
UID:cfp3473-D@wikicfp.com
END:VEVENT
BEGIN:VEVENT
DTSTAMP:20260420T204558Z
DTSTART;VALUE=DATE:20080414
DTEND;VALUE=DATE:20080418
SUMMARY:SSSS 2008
DESCRIPTION:Symposium on Simulation of Systems Security
URL:http://www.wikicfp.com/cfp/servlet/event.showcfp?eventid=1562&copyown
 erid=340
UID:cfp3471-E@wikicfp.com
END:VEVENT
BEGIN:VEVENT
DTSTAMP:20260420T204558Z
DTSTART;VALUE=DATE:20071115
SUMMARY:SSSS 2008 Deadline
DESCRIPTION:Symposium on Simulation of Systems Security
URL:http://www.wikicfp.com/cfp/servlet/event.showcfp?eventid=1562&copyown
 erid=340
UID:cfp3471-D@wikicfp.com
END:VEVENT
BEGIN:VEVENT
DTSTAMP:20260420T204558Z
DTSTART;VALUE=DATE:20071215
SUMMARY:SSSS 2008 Notification Due
DESCRIPTION:Symposium on Simulation of Systems Security
URL:http://www.wikicfp.com/cfp/servlet/event.showcfp?eventid=1562&copyown
 erid=340
UID:cfp3471-N@wikicfp.com
END:VEVENT
BEGIN:VEVENT
DTSTAMP:20260420T204558Z
DTSTART;VALUE=DATE:20080621
DTEND;VALUE=DATE:20080626
SUMMARY:ISCA 2008
DESCRIPTION:The 35th Annual International Symposium on Computer Architect
 ure 
URL:http://www.wikicfp.com/cfp/servlet/event.showcfp?eventid=1138&copyown
 erid=340
UID:cfp3452-E@wikicfp.com
END:VEVENT
BEGIN:VEVENT
DTSTAMP:20260420T204558Z
DTSTART;VALUE=DATE:20071109
SUMMARY:ISCA 2008 Abstract Due
DESCRIPTION:The 35th Annual International Symposium on Computer Architect
 ure 
URL:http://www.wikicfp.com/cfp/servlet/event.showcfp?eventid=1138&copyown
 erid=340
UID:cfp3452-A@wikicfp.com
END:VEVENT
BEGIN:VEVENT
DTSTAMP:20260420T204558Z
DTSTART;VALUE=DATE:20071119
SUMMARY:ISCA 2008 Deadline
DESCRIPTION:The 35th Annual International Symposium on Computer Architect
 ure 
URL:http://www.wikicfp.com/cfp/servlet/event.showcfp?eventid=1138&copyown
 erid=340
UID:cfp3452-D@wikicfp.com
END:VEVENT
BEGIN:VEVENT
DTSTAMP:20260420T204558Z
DTSTART;VALUE=DATE:20080414
DTEND;VALUE=DATE:20080417
SUMMARY:HPCS 2008
DESCRIPTION:High Performance Computing and Simulation Symposium
URL:http://www.wikicfp.com/cfp/servlet/event.showcfp?eventid=1559&copyown
 erid=340
UID:cfp3451-E@wikicfp.com
END:VEVENT
BEGIN:VEVENT
DTSTAMP:20260420T204558Z
DTSTART;VALUE=DATE:20071130
SUMMARY:HPCS 2008 Deadline
DESCRIPTION:High Performance Computing and Simulation Symposium
URL:http://www.wikicfp.com/cfp/servlet/event.showcfp?eventid=1559&copyown
 erid=340
UID:cfp3451-D@wikicfp.com
END:VEVENT
BEGIN:VEVENT
DTSTAMP:20260420T204558Z
DTSTART;VALUE=DATE:20080107
SUMMARY:HPCS 2008 Notification Due
DESCRIPTION:High Performance Computing and Simulation Symposium
URL:http://www.wikicfp.com/cfp/servlet/event.showcfp?eventid=1559&copyown
 erid=340
UID:cfp3451-N@wikicfp.com
END:VEVENT
BEGIN:VEVENT
DTSTAMP:20260420T204558Z
DTSTART;VALUE=DATE:20080405
DTEND;VALUE=DATE:20080407
SUMMARY:SLIP 2008
DESCRIPTION:International Workshop on System Level Interconnect Predictio
 n
URL:http://www.wikicfp.com/cfp/servlet/event.showcfp?eventid=1321&copyown
 erid=340
UID:cfp3454-E@wikicfp.com
END:VEVENT
BEGIN:VEVENT
DTSTAMP:20260420T204558Z
DTSTART;VALUE=DATE:20071207
SUMMARY:SLIP 2008 Deadline
DESCRIPTION:International Workshop on System Level Interconnect Predictio
 n
URL:http://www.wikicfp.com/cfp/servlet/event.showcfp?eventid=1321&copyown
 erid=340
UID:cfp3454-D@wikicfp.com
END:VEVENT
BEGIN:VEVENT
DTSTAMP:20260420T204558Z
DTSTART;VALUE=DATE:20080329
DTEND;VALUE=DATE:20080330
SUMMARY:PAIS 2008
DESCRIPTION:International Workshop on Privacy and Anonymity in the Inform
 ation Society
URL:http://www.wikicfp.com/cfp/servlet/event.showcfp?eventid=1714&copyown
 erid=340
UID:cfp3448-E@wikicfp.com
END:VEVENT
BEGIN:VEVENT
DTSTAMP:20260420T204558Z
DTSTART;VALUE=DATE:20071214
SUMMARY:PAIS 2008 Deadline
DESCRIPTION:International Workshop on Privacy and Anonymity in the Inform
 ation Society
URL:http://www.wikicfp.com/cfp/servlet/event.showcfp?eventid=1714&copyown
 erid=340
UID:cfp3448-D@wikicfp.com
END:VEVENT
BEGIN:VEVENT
DTSTAMP:20260420T204558Z
DTSTART;VALUE=DATE:20080601
DTEND;VALUE=DATE:20080701
SUMMARY:SPAA 2008
DESCRIPTION:20th ACM Symposium on Parallelism in Algorithms and Architect
 ures
URL:http://www.wikicfp.com/cfp/servlet/event.showcfp?eventid=1324&copyown
 erid=340
UID:cfp3455-E@wikicfp.com
END:VEVENT
BEGIN:VEVENT
DTSTAMP:20260420T204558Z
DTSTART;VALUE=DATE:20071218
SUMMARY:SPAA 2008 Deadline
DESCRIPTION:20th ACM Symposium on Parallelism in Algorithms and Architect
 ures
URL:http://www.wikicfp.com/cfp/servlet/event.showcfp?eventid=1324&copyown
 erid=340
UID:cfp3455-D@wikicfp.com
END:VEVENT
BEGIN:VEVENT
DTSTAMP:20260420T204558Z
DTSTART;VALUE=DATE:20080707
DTEND;VALUE=DATE:20080712
SUMMARY:ECOOP 2008
DESCRIPTION:22nd European Conference on Object-Oriented Programming
URL:http://www.wikicfp.com/cfp/servlet/event.showcfp?eventid=1575&copyown
 erid=340
UID:cfp3466-E@wikicfp.com
END:VEVENT
BEGIN:VEVENT
DTSTAMP:20260420T204558Z
DTSTART;VALUE=DATE:20071219
SUMMARY:ECOOP 2008 Deadline
DESCRIPTION:22nd European Conference on Object-Oriented Programming
URL:http://www.wikicfp.com/cfp/servlet/event.showcfp?eventid=1575&copyown
 erid=340
UID:cfp3466-D@wikicfp.com
END:VEVENT
BEGIN:VEVENT
DTSTAMP:20260420T204558Z
DTSTART;VALUE=DATE:20080303
SUMMARY:ECOOP 2008 Notification Due
DESCRIPTION:22nd European Conference on Object-Oriented Programming
URL:http://www.wikicfp.com/cfp/servlet/event.showcfp?eventid=1575&copyown
 erid=340
UID:cfp3466-N@wikicfp.com
END:VEVENT
BEGIN:VEVENT
DTSTAMP:20260420T204558Z
DTSTART;VALUE=DATE:20080525
DTEND;VALUE=DATE:20080530
SUMMARY:ICSR 2008
DESCRIPTION:10th International Conference on Software Reuse
URL:http://www.wikicfp.com/cfp/servlet/event.showcfp?eventid=1609&copyown
 erid=340
UID:cfp3459-E@wikicfp.com
END:VEVENT
BEGIN:VEVENT
DTSTAMP:20260420T204558Z
DTSTART;VALUE=DATE:20071220
SUMMARY:ICSR 2008 Deadline
DESCRIPTION:10th International Conference on Software Reuse
URL:http://www.wikicfp.com/cfp/servlet/event.showcfp?eventid=1609&copyown
 erid=340
UID:cfp3459-D@wikicfp.com
END:VEVENT
BEGIN:VEVENT
DTSTAMP:20260420T204558Z
DTSTART;VALUE=DATE:20080409
DTEND;VALUE=DATE:20080412
SUMMARY:ICST 2008
DESCRIPTION:1st IEEE International Conference on Software Testing\, Verif
 ication and Validation
URL:http://www.wikicfp.com/cfp/servlet/event.showcfp?eventid=1396&copyown
 erid=340
UID:cfp3458-E@wikicfp.com
END:VEVENT
BEGIN:VEVENT
DTSTAMP:20260420T204558Z
DTSTART;VALUE=DATE:20071005
SUMMARY:ICST 2008 Abstract Due
DESCRIPTION:1st IEEE International Conference on Software Testing\, Verif
 ication and Validation
URL:http://www.wikicfp.com/cfp/servlet/event.showcfp?eventid=1396&copyown
 erid=340
UID:cfp3458-A@wikicfp.com
END:VEVENT
BEGIN:VEVENT
DTSTAMP:20260420T204558Z
DTSTART;VALUE=DATE:20080104
SUMMARY:ICST 2008 Deadline
DESCRIPTION:1st IEEE International Conference on Software Testing\, Verif
 ication and Validation
URL:http://www.wikicfp.com/cfp/servlet/event.showcfp?eventid=1396&copyown
 erid=340
UID:cfp3458-D@wikicfp.com
END:VEVENT
BEGIN:VEVENT
DTSTAMP:20260420T204558Z
DTSTART;VALUE=DATE:20080611
DTEND;VALUE=DATE:20080614
SUMMARY:SACMAT 2008
DESCRIPTION:13th ACM Symposium on Access Control Models and Technologies
URL:http://www.wikicfp.com/cfp/servlet/event.showcfp?eventid=1301&copyown
 erid=340
UID:cfp3469-E@wikicfp.com
END:VEVENT
BEGIN:VEVENT
DTSTAMP:20260420T204558Z
DTSTART;VALUE=DATE:20080107
SUMMARY:SACMAT 2008 Deadline
DESCRIPTION:13th ACM Symposium on Access Control Models and Technologies
URL:http://www.wikicfp.com/cfp/servlet/event.showcfp?eventid=1301&copyown
 erid=340
UID:cfp3469-D@wikicfp.com
END:VEVENT
BEGIN:VEVENT
DTSTAMP:20260420T204558Z
DTSTART;VALUE=DATE:20080908
DTEND;VALUE=DATE:20080911
SUMMARY:SEC 2008
DESCRIPTION:23rd International Information Security Conference
URL:http://www.wikicfp.com/cfp/servlet/event.showcfp?eventid=1608&copyown
 erid=340
UID:cfp3472-E@wikicfp.com
END:VEVENT
BEGIN:VEVENT
DTSTAMP:20260420T204558Z
DTSTART;VALUE=DATE:20080110
SUMMARY:SEC 2008 Deadline
DESCRIPTION:23rd International Information Security Conference
URL:http://www.wikicfp.com/cfp/servlet/event.showcfp?eventid=1608&copyown
 erid=340
UID:cfp3472-D@wikicfp.com
END:VEVENT
BEGIN:VEVENT
DTSTAMP:20260420T204558Z
DTSTART;VALUE=DATE:20080716
DTEND;VALUE=DATE:20080719
SUMMARY:SAS 2008
DESCRIPTION:15th International Static Analysis Symposium
URL:http://www.wikicfp.com/cfp/servlet/event.showcfp?eventid=1668&copyown
 erid=340
UID:cfp3460-E@wikicfp.com
END:VEVENT
BEGIN:VEVENT
DTSTAMP:20260420T204558Z
DTSTART;VALUE=DATE:20080405
SUMMARY:SAS 2008 Abstract Due
DESCRIPTION:15th International Static Analysis Symposium
URL:http://www.wikicfp.com/cfp/servlet/event.showcfp?eventid=1668&copyown
 erid=340
UID:cfp3460-A@wikicfp.com
END:VEVENT
BEGIN:VEVENT
DTSTAMP:20260420T204558Z
DTSTART;VALUE=DATE:20080112
SUMMARY:SAS 2008 Deadline
DESCRIPTION:15th International Static Analysis Symposium
URL:http://www.wikicfp.com/cfp/servlet/event.showcfp?eventid=1668&copyown
 erid=340
UID:cfp3460-D@wikicfp.com
END:VEVENT
BEGIN:VEVENT
DTSTAMP:20260420T204558Z
DTSTART;VALUE=DATE:20080307
SUMMARY:SAS 2008 Notification Due
DESCRIPTION:15th International Static Analysis Symposium
URL:http://www.wikicfp.com/cfp/servlet/event.showcfp?eventid=1668&copyown
 erid=340
UID:cfp3460-N@wikicfp.com
END:VEVENT
BEGIN:VEVENT
DTSTAMP:20260420T204558Z
DTSTART;VALUE=DATE:20080623
DTEND;VALUE=DATE:20080627
SUMMARY:WOSP 2008
DESCRIPTION:Workshop on Software and Performance
URL:http://www.wikicfp.com/cfp/servlet/event.showcfp?eventid=1337&copyown
 erid=340
UID:cfp3465-E@wikicfp.com
END:VEVENT
BEGIN:VEVENT
DTSTAMP:20260420T204558Z
DTSTART;VALUE=DATE:20080113
SUMMARY:WOSP 2008 Abstract Due
DESCRIPTION:Workshop on Software and Performance
URL:http://www.wikicfp.com/cfp/servlet/event.showcfp?eventid=1337&copyown
 erid=340
UID:cfp3465-A@wikicfp.com
END:VEVENT
BEGIN:VEVENT
DTSTAMP:20260420T204558Z
DTSTART;VALUE=DATE:20080120
SUMMARY:WOSP 2008 Deadline
DESCRIPTION:Workshop on Software and Performance
URL:http://www.wikicfp.com/cfp/servlet/event.showcfp?eventid=1337&copyown
 erid=340
UID:cfp3465-D@wikicfp.com
END:VEVENT
BEGIN:VEVENT
DTSTAMP:20260420T204558Z
DTSTART;VALUE=DATE:20080317
SUMMARY:WOSP 2008 Notification Due
DESCRIPTION:Workshop on Software and Performance
URL:http://www.wikicfp.com/cfp/servlet/event.showcfp?eventid=1337&copyown
 erid=340
UID:cfp3465-N@wikicfp.com
END:VEVENT
BEGIN:VEVENT
DTSTAMP:20260420T204558Z
DTSTART;VALUE=DATE:20080720
DTEND;VALUE=DATE:20080725
SUMMARY:ISSTA 2008
DESCRIPTION:International Symposium on Software Testing and Analysis
URL:http://www.wikicfp.com/cfp/servlet/event.showcfp?eventid=1254&copyown
 erid=340
UID:cfp3463-E@wikicfp.com
END:VEVENT
BEGIN:VEVENT
DTSTAMP:20260420T204558Z
DTSTART;VALUE=DATE:20080131
SUMMARY:ISSTA 2008 Deadline
DESCRIPTION:International Symposium on Software Testing and Analysis
URL:http://www.wikicfp.com/cfp/servlet/event.showcfp?eventid=1254&copyown
 erid=340
UID:cfp3463-D@wikicfp.com
END:VEVENT
BEGIN:VEVENT
DTSTAMP:20260420T204558Z
DTSTART;VALUE=DATE:20081009
DTEND;VALUE=DATE:20081011
SUMMARY:ESEM 2008
DESCRIPTION:2008 ACM-IEEE International Symposium on Empirical Software E
 ngineering and Measurement
URL:http://www.wikicfp.com/cfp/servlet/event.showcfp?eventid=1170&copyown
 erid=340
UID:cfp3462-E@wikicfp.com
END:VEVENT
BEGIN:VEVENT
DTSTAMP:20260420T204558Z
DTSTART;VALUE=DATE:20080301
SUMMARY:ESEM 2008 Deadline
DESCRIPTION:2008 ACM-IEEE International Symposium on Empirical Software E
 ngineering and Measurement
URL:http://www.wikicfp.com/cfp/servlet/event.showcfp?eventid=1170&copyown
 erid=340
UID:cfp3462-D@wikicfp.com
END:VEVENT
BEGIN:VEVENT
DTSTAMP:20260420T204558Z
DTSTART;VALUE=DATE:20081102
DTEND;VALUE=DATE:20081109
SUMMARY:SIGSOFT 2008
DESCRIPTION:SIGSOFT 2008 -16th International Symposium on the Foundations
  of Software Engineering (FSE - 16)
URL:http://www.wikicfp.com/cfp/servlet/event.showcfp?eventid=1318&copyown
 erid=340
UID:cfp3464-E@wikicfp.com
END:VEVENT
BEGIN:VEVENT
DTSTAMP:20260420T204558Z
DTSTART;VALUE=DATE:20080307
SUMMARY:SIGSOFT 2008 Deadline
DESCRIPTION:SIGSOFT 2008 -16th International Symposium on the Foundations
  of Software Engineering (FSE - 16)
URL:http://www.wikicfp.com/cfp/servlet/event.showcfp?eventid=1318&copyown
 erid=340
UID:cfp3464-D@wikicfp.com
END:VEVENT
BEGIN:VEVENT
DTSTAMP:20260420T204558Z
DTSTART;VALUE=DATE:20081019
DTEND;VALUE=DATE:20081024
SUMMARY:OOPSLA 2008
DESCRIPTION:ACM SIGPLAN Object Oriented Programming Systems and Applicati
 ons Conference
URL:http://www.wikicfp.com/cfp/servlet/event.showcfp?eventid=1285&copyown
 erid=340
UID:cfp3476-E@wikicfp.com
END:VEVENT
BEGIN:VEVENT
DTSTAMP:20260420T204558Z
DTSTART;VALUE=DATE:20080319
SUMMARY:OOPSLA 2008 Deadline
DESCRIPTION:ACM SIGPLAN Object Oriented Programming Systems and Applicati
 ons Conference
URL:http://www.wikicfp.com/cfp/servlet/event.showcfp?eventid=1285&copyown
 erid=340
UID:cfp3476-D@wikicfp.com
END:VEVENT
BEGIN:VEVENT
DTSTAMP:20260420T204558Z
DTSTART;VALUE=DATE:20081004
DTEND;VALUE=DATE:20081009
SUMMARY:PACT 2008
DESCRIPTION:International Conference on Parallel Architectures and Compil
 ation Techniques
URL:http://www.wikicfp.com/cfp/servlet/event.showcfp?eventid=1287&copyown
 erid=340
UID:cfp3453-E@wikicfp.com
END:VEVENT
BEGIN:VEVENT
DTSTAMP:20260420T204558Z
DTSTART;VALUE=DATE:20080320
SUMMARY:PACT 2008 Abstract Due
DESCRIPTION:International Conference on Parallel Architectures and Compil
 ation Techniques
URL:http://www.wikicfp.com/cfp/servlet/event.showcfp?eventid=1287&copyown
 erid=340
UID:cfp3453-A@wikicfp.com
END:VEVENT
BEGIN:VEVENT
DTSTAMP:20260420T204558Z
DTSTART;VALUE=DATE:20080328
SUMMARY:PACT 2008 Deadline
DESCRIPTION:International Conference on Parallel Architectures and Compil
 ation Techniques
URL:http://www.wikicfp.com/cfp/servlet/event.showcfp?eventid=1287&copyown
 erid=340
UID:cfp3453-D@wikicfp.com
END:VEVENT
BEGIN:VEVENT
DTSTAMP:20260420T204558Z
DTSTART;VALUE=DATE:20080920
DTEND;VALUE=DATE:20080929
SUMMARY:ICFP 2008
DESCRIPTION:ACM SIGPLAN International Conference on Functional Programmin
 g
URL:http://www.wikicfp.com/cfp/servlet/event.showcfp?eventid=1240&copyown
 erid=340
UID:cfp3475-E@wikicfp.com
END:VEVENT
BEGIN:VEVENT
DTSTAMP:20260420T204558Z
DTSTART;VALUE=DATE:20080402
SUMMARY:ICFP 2008 Deadline
DESCRIPTION:ACM SIGPLAN International Conference on Functional Programmin
 g
URL:http://www.wikicfp.com/cfp/servlet/event.showcfp?eventid=1240&copyown
 erid=340
UID:cfp3475-D@wikicfp.com
END:VEVENT
BEGIN:VEVENT
DTSTAMP:20260420T204558Z
DTSTART;VALUE=DATE:20080617
DTEND;VALUE=DATE:20080621
SUMMARY:ICDCS 2008
DESCRIPTION:28th IEEE International C onference on Distributed Computing 
 Systems
URL:http://www.wikicfp.com/cfp/servlet/event.showcfp?eventid=1397&copyown
 erid=340
UID:cfp3461-E@wikicfp.com
END:VEVENT
BEGIN:VEVENT
DTSTAMP:20260420T204558Z
DTSTART;VALUE=DATE:20071115
SUMMARY:ICDCS 2008 Abstract Due
DESCRIPTION:28th IEEE International C onference on Distributed Computing 
 Systems
URL:http://www.wikicfp.com/cfp/servlet/event.showcfp?eventid=1397&copyown
 erid=340
UID:cfp3461-A@wikicfp.com
END:VEVENT
BEGIN:VEVENT
DTSTAMP:20260420T204558Z
DTSTART;VALUE=DATE:20080402
SUMMARY:ICDCS 2008 Deadline
DESCRIPTION:28th IEEE International C onference on Distributed Computing 
 Systems
URL:http://www.wikicfp.com/cfp/servlet/event.showcfp?eventid=1397&copyown
 erid=340
UID:cfp3461-D@wikicfp.com
END:VEVENT
BEGIN:VEVENT
DTSTAMP:20260420T204558Z
DTSTART;VALUE=DATE:20081103
DTEND;VALUE=DATE:20081108
SUMMARY:CCS 2008
DESCRIPTION:15th ACM Conference on Computer and Communications Security 2
 008
URL:http://www.wikicfp.com/cfp/servlet/event.showcfp?eventid=1196&copyown
 erid=340
UID:cfp3468-E@wikicfp.com
END:VEVENT
BEGIN:VEVENT
DTSTAMP:20260420T204558Z
DTSTART;VALUE=DATE:20080414
SUMMARY:CCS 2008 Deadline
DESCRIPTION:15th ACM Conference on Computer and Communications Security 2
 008
URL:http://www.wikicfp.com/cfp/servlet/event.showcfp?eventid=1196&copyown
 erid=340
UID:cfp3468-D@wikicfp.com
END:VEVENT
BEGIN:VEVENT
DTSTAMP:20260420T204558Z
DTSTART;VALUE=DATE:20090101
DTEND;VALUE=DATE:20090201
SUMMARY:POPL 2009
DESCRIPTION:The 36th Annual ACM SIGPLAN-SIGACT Symposium on Principles of
  Programming Languages
URL:http://www.wikicfp.com/cfp/servlet/event.showcfp?eventid=1290&copyown
 erid=340
UID:cfp3477-E@wikicfp.com
END:VEVENT
BEGIN:VEVENT
DTSTAMP:20260420T204558Z
DTSTART;VALUE=DATE:20080708
SUMMARY:POPL 2009 Abstract Due
DESCRIPTION:The 36th Annual ACM SIGPLAN-SIGACT Symposium on Principles of
  Programming Languages
URL:http://www.wikicfp.com/cfp/servlet/event.showcfp?eventid=1290&copyown
 erid=340
UID:cfp3477-A@wikicfp.com
END:VEVENT
BEGIN:VEVENT
DTSTAMP:20260420T204558Z
DTSTART;VALUE=DATE:20080715
SUMMARY:POPL 2009 Deadline
DESCRIPTION:The 36th Annual ACM SIGPLAN-SIGACT Symposium on Principles of
  Programming Languages
URL:http://www.wikicfp.com/cfp/servlet/event.showcfp?eventid=1290&copyown
 erid=340
UID:cfp3477-D@wikicfp.com
END:VEVENT
BEGIN:VEVENT
DTSTAMP:20260420T204558Z
DTSTART;VALUE=DATE:20090307
DTEND;VALUE=DATE:20090312
SUMMARY:ASPLOS 2009
DESCRIPTION:Fourteenth International Conference on Architectural Support 
 for Programming Languages and Operating Systems (ASPLOS '09)
URL:http://www.wikicfp.com/cfp/servlet/event.showcfp?eventid=2939&copyown
 erid=340
UID:cfp9918-E@wikicfp.com
END:VEVENT
BEGIN:VEVENT
DTSTAMP:20260420T204558Z
DTSTART;VALUE=DATE:20080801
SUMMARY:ASPLOS 2009 Abstract Due
DESCRIPTION:Fourteenth International Conference on Architectural Support 
 for Programming Languages and Operating Systems (ASPLOS '09)
URL:http://www.wikicfp.com/cfp/servlet/event.showcfp?eventid=2939&copyown
 erid=340
UID:cfp9918-A@wikicfp.com
END:VEVENT
BEGIN:VEVENT
DTSTAMP:20260420T204558Z
DTSTART;VALUE=DATE:20080807
SUMMARY:ASPLOS 2009 Deadline
DESCRIPTION:Fourteenth International Conference on Architectural Support 
 for Programming Languages and Operating Systems (ASPLOS '09)
URL:http://www.wikicfp.com/cfp/servlet/event.showcfp?eventid=2939&copyown
 erid=340
UID:cfp9918-D@wikicfp.com
END:VEVENT
BEGIN:VEVENT
DTSTAMP:20260420T204558Z
DTSTART;VALUE=DATE:20081114
SUMMARY:ASPLOS 2009 Notification Due
DESCRIPTION:Fourteenth International Conference on Architectural Support 
 for Programming Languages and Operating Systems (ASPLOS '09)
URL:http://www.wikicfp.com/cfp/servlet/event.showcfp?eventid=2939&copyown
 erid=340
UID:cfp9918-N@wikicfp.com
END:VEVENT
BEGIN:VEVENT
DTSTAMP:20260420T204558Z
DTSTART;VALUE=DATE:20090224
DTEND;VALUE=DATE:20090228
SUMMARY:FAST '09 2009
DESCRIPTION:7th USENIX Conference on File and Storage Technologies
URL:http://www.wikicfp.com/cfp/servlet/event.showcfp?eventid=3030&copyown
 erid=340
UID:cfp9917-E@wikicfp.com
END:VEVENT
BEGIN:VEVENT
DTSTAMP:20260420T204558Z
DTSTART;VALUE=DATE:20080912
SUMMARY:FAST '09 2009 Deadline
DESCRIPTION:7th USENIX Conference on File and Storage Technologies
URL:http://www.wikicfp.com/cfp/servlet/event.showcfp?eventid=3030&copyown
 erid=340
UID:cfp9917-D@wikicfp.com
END:VEVENT
BEGIN:VEVENT
DTSTAMP:20260420T204558Z
DTSTART;VALUE=DATE:20081105
SUMMARY:FAST '09 2009 Notification Due
DESCRIPTION:7th USENIX Conference on File and Storage Technologies
URL:http://www.wikicfp.com/cfp/servlet/event.showcfp?eventid=3030&copyown
 erid=340
UID:cfp9917-N@wikicfp.com
END:VEVENT
END:VCALENDAR
