BEGIN:VCALENDAR
PRODID:-//WikiCFP//supermyself 1.0//EN
VERSION:2.0
CALSCALE:GREGORIAN
BEGIN:VEVENT
DTSTAMP:20260420T154748Z
DTSTART;VALUE=DATE:20120715
DTEND;VALUE=DATE:20120720
SUMMARY:PADS 2012
DESCRIPTION:26th ACM/IEEE/SCS Workshop on Principles of Advanced and Dist
 ributed Simulation
URL:http://www.wikicfp.com/cfp/servlet/event.showcfp?eventid=20620&copyow
 nerid=33925
UID:cfp235623-E@wikicfp.com
END:VEVENT
BEGIN:VEVENT
DTSTAMP:20260420T154748Z
DTSTART;VALUE=DATE:20120224
SUMMARY:PADS 2012 Deadline
DESCRIPTION:26th ACM/IEEE/SCS Workshop on Principles of Advanced and Dist
 ributed Simulation
URL:http://www.wikicfp.com/cfp/servlet/event.showcfp?eventid=20620&copyow
 nerid=33925
UID:cfp235623-D@wikicfp.com
END:VEVENT
BEGIN:VEVENT
DTSTAMP:20260420T154748Z
DTSTART;VALUE=DATE:20120315
SUMMARY:PADS 2012 Notification Due
DESCRIPTION:26th ACM/IEEE/SCS Workshop on Principles of Advanced and Dist
 ributed Simulation
URL:http://www.wikicfp.com/cfp/servlet/event.showcfp?eventid=20620&copyow
 nerid=33925
UID:cfp235623-N@wikicfp.com
END:VEVENT
BEGIN:VEVENT
DTSTAMP:20260420T154748Z
DTSTART;VALUE=DATE:20120501
SUMMARY:PADS 2012 Final Version Due
DESCRIPTION:26th ACM/IEEE/SCS Workshop on Principles of Advanced and Dist
 ributed Simulation
URL:http://www.wikicfp.com/cfp/servlet/event.showcfp?eventid=20620&copyow
 nerid=33925
UID:cfp235623-N@wikicfp.com
END:VEVENT
BEGIN:VEVENT
DTSTAMP:20260420T154748Z
DTSTART;VALUE=DATE:20120424
DTEND;VALUE=DATE:20120425
SUMMARY:LEET 2012
DESCRIPTION:5th USENIX Workshop on Large-Scale Exploits and Emergent Thre
 ats
URL:http://www.wikicfp.com/cfp/servlet/event.showcfp?eventid=20286&copyow
 nerid=33925
UID:cfp235622-E@wikicfp.com
END:VEVENT
BEGIN:VEVENT
DTSTAMP:20260420T154748Z
DTSTART;VALUE=DATE:20120226
SUMMARY:LEET 2012 Deadline
DESCRIPTION:5th USENIX Workshop on Large-Scale Exploits and Emergent Thre
 ats
URL:http://www.wikicfp.com/cfp/servlet/event.showcfp?eventid=20286&copyow
 nerid=33925
UID:cfp235622-D@wikicfp.com
END:VEVENT
BEGIN:VEVENT
DTSTAMP:20260420T154748Z
DTSTART;VALUE=DATE:20120312
SUMMARY:LEET 2012 Notification Due
DESCRIPTION:5th USENIX Workshop on Large-Scale Exploits and Emergent Thre
 ats
URL:http://www.wikicfp.com/cfp/servlet/event.showcfp?eventid=20286&copyow
 nerid=33925
UID:cfp235622-N@wikicfp.com
END:VEVENT
BEGIN:VEVENT
DTSTAMP:20260420T154748Z
DTSTART;VALUE=DATE:20120326
SUMMARY:LEET 2012 Final Version Due
DESCRIPTION:5th USENIX Workshop on Large-Scale Exploits and Emergent Thre
 ats
URL:http://www.wikicfp.com/cfp/servlet/event.showcfp?eventid=20286&copyow
 nerid=33925
UID:cfp235622-N@wikicfp.com
END:VEVENT
BEGIN:VEVENT
DTSTAMP:20260420T154748Z
DTSTART;VALUE=DATE:20121016
DTEND;VALUE=DATE:20121019
SUMMARY:CCS 2012
DESCRIPTION:ACM Conference on Computer and Communications Security
URL:http://www.wikicfp.com/cfp/servlet/event.showcfp?eventid=19103&copyow
 nerid=33925
UID:cfp235624-E@wikicfp.com
END:VEVENT
BEGIN:VEVENT
DTSTAMP:20260420T154748Z
DTSTART;VALUE=DATE:20120504
SUMMARY:CCS 2012 Deadline
DESCRIPTION:ACM Conference on Computer and Communications Security
URL:http://www.wikicfp.com/cfp/servlet/event.showcfp?eventid=19103&copyow
 nerid=33925
UID:cfp235624-D@wikicfp.com
END:VEVENT
BEGIN:VEVENT
DTSTAMP:20260420T154748Z
DTSTART;VALUE=DATE:20120709
SUMMARY:CCS 2012 Notification Due
DESCRIPTION:ACM Conference on Computer and Communications Security
URL:http://www.wikicfp.com/cfp/servlet/event.showcfp?eventid=19103&copyow
 nerid=33925
UID:cfp235624-N@wikicfp.com
END:VEVENT
BEGIN:VEVENT
DTSTAMP:20260420T154748Z
DTSTART;VALUE=DATE:20120810
SUMMARY:CCS 2012 Final Version Due
DESCRIPTION:ACM Conference on Computer and Communications Security
URL:http://www.wikicfp.com/cfp/servlet/event.showcfp?eventid=19103&copyow
 nerid=33925
UID:cfp235624-N@wikicfp.com
END:VEVENT
END:VCALENDAR
